Workbook

Sheet ПЗ от 28.09.2026
I1: Приложение
I2: к требованиям к форме плана закупки товаров (работ, услуг)
I3: (в редакции постановления Правительства РФ от 29 октября 2015 г. N 1169) (с изменениями от 14 декабря 2016 г., 27 декабря 2019 г.)
A5: План закупки товаров (работ, услуг)
A6: на 2026 г.
Q7: 7
A8: Наименование заказчика | E8: Акционерное общество «ЮГОРСКАЯ РЕГИОНАЛЬНАЯ ЭЛЕКТРОСЕТЕВАЯ КОМПАНИЯ»
A9: Адрес местонахождения заказчика | E9: 628011, Тюменская область, Ханты-Мансийский автономный округ - Югра, г. Ханты-Мансийск, ул. Ленина, 52/1.
A10: Телефон заказчика | E10: (3467) 31-85-95
A11: Электронная почта заказчика | E11: hsa@yuresk.ru
A12: ИНН | E12: 8601045152
A13: КПП | E13: 862450001
A14: ОКАТО | E14: 71131000000
A16: № позиции | B16: Код по ОКВЭД2 | C16: Код по ОКПД2 | D16: Условия договора | P16: Объем финансового обеспечения закупки за счет субсидии, предоставляемой в целях реализации национальных и федеральных проектов, а также комплексного плана модернизации и расширения магистральной инфраструктуры | Q16: Код целевой статьи расходов, код вида расходов
D17: Предмет договора | E17: Минимально необходимые требования, предъявляемые к закупаемым товарам (работам, услугам) | F17: Единица измерения | H17: Сведения о количестве (объеме) | I17: Регион поставки товаров (выполнения работ, оказания услуг) | K17: Сведения о начальной (максимальной) цене договора (цене лота) | L17: График осуществления процедур закупки | N17: Способ закупки | O17: Закупка в электронной форме
F18: Код по ОКЕИ | G18: Наименование | I18: Код по ОКАТО | J18: Наименование | L18: Планируемая дата или период размещения извещения о закупке (месяц, год) | M18: Срок исполнения договора (месяц, год) | O18: Да/Нет
A19: 1 | B19: 2 | C19: 3 | D19: 4 | E19: 5 | F19: 6 | G19: 7 | H19: 8 | I19: 9 | J19: 10 | K19: 11 | L19: 12 | M19: 13 | N19: 14 | O19: 15 | P19: 16 | Q19: 17
A20: 154 | B20: 27.90 | C20: 27.90.33 | D20: Поставка материалов АИИС КУЭ (ИП) | E20: - | F20: 796 | G20: Штука | H20: 2296 | I20: 71139000 | J20: г. Нягань | K20: 70000000 | L20: 46023 | M20: 46295 | N20: Конкурс в ЭФ с СМСП | O20: Да
A21: 155 | B21: 27.90 | C21: 27.90.33 | D21: Поставка материалов АИИС КУЭ (ОД) | E21: - | F21: 796 | G21: Штука | H21: 1563 | I21: 71139000 | J21: г. Нягань | K21: 48601009 | L21: 46054 | M21: 46295 | N21: Конкурс в ЭФ с СМСП | O21: Да
A22: 156 | B22: 27.90 | C22: 27.90.33 | D22: Поставка материалов АИИС КУЭ (ИП) г. Югорск | E22: - | F22: 796 | G22: Штука | H22: 650 | I22: 71139000 | J22: г. Нягань | K22: 25652453 | L22: 46054 | M22: 46295 | N22: Конкурс в ЭФ с СМСП | O22: Да
A23: 158 | B23: 71.12 | C23: 71.12.40.120 | D23: Выполнение работ по метрологическому обеспечению АИИС КУЭ АО «ЮРЭСК» | F23: 876 | G23: Условная единица | H23: 1 | I23: 71110000 | J23: Районы ХМАО – Югры | K23: 12227508 | L23: 46082 | M23: 46326 | N23: Аукцион в ЭФ с СМСП | O23: Да
A24: 159 | B24: 71.20 | C24: 71.20.19.120 | D24: Оказание услуг по проведению очередного инспекционного контроля за качеством электрической энергии в распределительных электрических сетях общего назначения | E24: - | F24: 876 | G24: Условная единица | H24: 1 | I24: 71131000 | J24: г. Ханты-Мансийск | K24: 2543466 | L24: 46082 | M24: 46905 | N24: Единственный поставщик | O24: Нет
A25: 161 | B25: 55.10 | C25: 55.10 | D25: Оказание услуг по проживанию командированных сотрудников в гостинице г. Советский для нужд АО «ЮРЭСК» на 2026-2027 годы | E25: - | F25: 876 | G25: Условная единица | H25: 1 | I25: — | J25: г. Советский | K25: 700000 | L25: 46054 | M25: 46722 | N25: Запрос котировок в ЭФ | O25: Да
A26: 162 | B26: 55.10 | C26: 55.10 | D26: Оказание услуг по проживанию командированных сотрудников в гостинице пгт. Березово для нужд АО «ЮРЭСК» на 2026-2027 годы | E26: - | F26: 876 | G26: Условная единица | H26: 1 | I26: 71112000 | J26: Березовский район | K26: 1000000 | L26: 46054 | M26: 46722 | N26: Запрос котировок в ЭФ | O26: Да
A27: 165 | B27: 55.10 | C27: 55.10 | D27: Оказание услуг по проживанию командированных сотрудников в гостинице г. Нягань для нужд АО «ЮРЭСК» на 2026-2027 годы | E27: - | F27: 876 | G27: Условная единица | H27: 1 | I27: 71139000 | J27: г. Нягань | K27: 1000000 | L27: 46054 | M27: 46722 | N27: Запрос котировок в ЭФ | O27: Да
A28: 166 | B28: 55.10 | C28: 55.10 | D28: Оказание услуг по проживанию командированных сотрудников в гостинице пгт. Междуреченский для нужд АО «ЮРЭСК» на 2026-2027 годы | E28: - | F28: 876 | G28: Условная единица | H28: 1 | I28: — | J28: пгт.Междуреченский | K28: 900000 | L28: 46054 | M28: 46722 | N28: Запрос котировок в ЭФ | O28: Да
A29: 167 | B29: 19.20 | C29: 19.20.2 | D29: Поставка ГСМ для автотранспорта Няганьского филиала АО «ЮРЭСК» | E29: - | F29: 112 | G29: Литр | H29: 30000 | I29: 71139000 | J29: г. Нягань | K29: 2140368 | L29: 46054 | M29: 46235 | N29: Запрос котировок в ЭФ | O29: Да
A30: 170 | B30: 86.21 | C30: 86.21.10.120 | D30: Оказание платных медицинских услуг | E30: - | F30: 796 | G30: Штука | H30: 40 | I30: 71111000 | J30: Белоярский район | K30: 366611 | L30: 46054 | M30: 46357 | N30: Единственный поставщик | O30: Нет
A31: 171 | B31: 86.21 | C31: 86.21.10.120 | D31: Оказание услуг по проведению предрейсового медицинского осмотра водителей Белоярского филиала АО «ЮРЭСК» | E31: - | F31: 876 | G31: Условная единица | H31: 1,0 | I31: 71111000 | J31: Белоярский район | K31: 213120 | L31: 46054 | M31: 46478 | N31: Запрос котировок в ЭФ | O31: Да
A32: 172 | B32: 80.10 | C32: 80.10 | D32: Охрана техническими средствами административного офиса Березовского филиала п.г.т. Березово | E32: - | F32: 876 | G32: Условная единица | H32: 1 | I32: 71100000 | J32: ХМАО – Югра | K32: 372000 | L32: 46054 | M32: 04.2027 | N32: Единственный поставщик | O32: Нет
A33: 173 | B33: 80.10 | C33: 80.10 | D33: Охрана техническими средствами резервных дизель-генераторов Березовского филиала п.г.т. Березово | E33: - | F33: 876 | G33: Условная единица | H33: 1 | I33: 71100000 | J33: ХМАО – Югра | K33: 333600 | L33: 46054 | M33: 04.2027 | N33: Единственный поставщик | O33: Нет
A34: 174 | B34: 63 | C34: 63 | D34: Оказание услуг по технической поддержке программного комплекса АСУРЭО | E34: - | F34: 876 | G34: Условная единица | H34: 1 | I34: 71100000 | J34: ХМАО – Югра | K34: 310000 | L34: 46023 | M34: 46388 | N34: Единственный поставщик | O34: Нет
A35: 175 | B35: 33.14 | C35: 33.14.19.000 | D35: Выполнение работ по расчету уставок устройств релейной защиты и автоматики в электроустановках АО "ЮРЭСК" | E35: - | F35: 876 | G35: Условная единица | H35: 1 | I35: 71131000 | J35: г. Ханты-Мансийск | K35: 960000 | L35: 46082 | M35: 12.2026 | N35: Единственный поставщик | O35: Нет
A36: 176 | B36: 42.22 | C36: 42.22.22 | D36: Услуги по Организации каналов связи на Подстанциях АО ЮРЭСК | E36: - | F36: 876 | G36: Условная единица | H36: 1 | I36: 71100000 | J36: ХМАО – Югра | K36: 5400000 | L36: 46054 | M36: 46082 | N36: Единственный поставщик | O36: Нет
A37: 177 | B37: 61.10 | C37: 61.10.11.190 | D37: Услуги телефонной связи | F37: 876 | G37: Условная единица | H37: 1 | I37: 71139000 | J37: г. Нягань | K37: 710562.4 | L37: 46082 | M37: 47118 | N37: Единственный поставщик | O37: Нет
A38: 178 | B38: 61.10 | C38: 61.10.11.190 | D38: Оказание услуг фиксированной телефонной связи ПАО "МТС" | E38: - | F38: 876 | G38: Условная единица | H38: 1 | I38: 71131000 | J38: г. Ханты-Мансийск | K38: 9000000 | L38: 46023 | M38: 47848 | N38: Единственный поставщик | O38: Нет
A39: 179 | B39: 61.10 | C39: 61.10.11.190 | D39: Оказание услуги фиксированной телефонной связи ПАО "МегаФон" | E39: - | F39: 876 | G39: Условная единица | H39: 1 | I39: 71131000 | J39: г. Ханты-Мансийск | K39: 3000000 | L39: 46023 | M39: 47848 | N39: Единственный поставщик | O39: Нет
A40: 180 | B40: 81.29 | C40: 81.29.12.000 | D40: Оказание услуг по снегоочистке кровельной части административного здания АО "ЮРЭСК" в г. Ханты-Мансийске | E40: - | F40: 055 | G40: Квадратный метр | H40: 350 | I40: 71131000 | J40: г. Ханты-Мансийск | K40: 330000 | L40: 46023 | M40: 46357 | N40: Запрос котировок в ЭФ с СМСП | O40: Да
A41: 182 | B41: 58.19 | C41: 58.19.19 | D41: Поставка полиграфической продукции | E41: - | F41: 876 | G41: Условная единица | H41: 5700 | I41: 71100000 | J41: ХМАО – Югра | K41: 300000 | L41: 46054 | M41: 46357 | N41: Запрос котировок в ЭФ с СМСП | O41: Да
A42: 183 | B42: 35.11 | C42: 35.11.10.110 | D42: Оказание услуг по поставке электроэнергии для нужд Березовского филиала АО «ЮРЭСК» | E42: - | F42: 245 | G42: Киловатт-час | H42: 10700 | I42: 71112000 | J42: Березовский район | K42: 1000000 | L42: 46054 | M42: 46419 | N42: Единственный поставщик | O42: Нет
...
