Workbook

Sheet ПЗ от 28.09.2026
I1: Приложение
I2: к требованиям к форме плана закупки товаров (работ, услуг)
I3: (в редакции постановления Правительства РФ от 29 октября 2015 г. N 1169) (с изменениями от 14 декабря 2016 г., 27 декабря 2019 г.)
A5: План закупки товаров (работ, услуг)
A6: на 2026 г.
Q7: 7
A8: Наименование заказчика | E8: Акционерное общество «ЮГОРСКАЯ РЕГИОНАЛЬНАЯ ЭЛЕКТРОСЕТЕВАЯ КОМПАНИЯ»
A9: Адрес местонахождения заказчика | E9: 628011, Тюменская область, Ханты-Мансийский автономный округ - Югра, г. Ханты-Мансийск, ул. Ленина, 52/1.
A10: Телефон заказчика | E10: (3467) 31-85-95
A11: Электронная почта заказчика | E11: hsa@yuresk.ru
A12: ИНН | E12: 8601045152
A13: КПП | E13: 862450001
A14: ОКАТО | E14: 71131000000
A16: № позиции | B16: Код по ОКВЭД2 | C16: Код по ОКПД2 | D16: Условия договора | P16: Объем финансового обеспечения закупки за счет субсидии, предоставляемой в целях реализации национальных и федеральных проектов, а также комплексного плана модернизации и расширения магистральной инфраструктуры | Q16: Код целевой статьи расходов, код вида расходов
D17: Предмет договора | E17: Минимально необходимые требования, предъявляемые к закупаемым товарам (работам, услугам) | F17: Единица измерения | H17: Сведения о количестве (объеме) | I17: Регион поставки товаров (выполнения работ, оказания услуг) | K17: Сведения о начальной (максимальной) цене договора (цене лота) | L17: График осуществления процедур закупки | N17: Способ закупки | O17: Закупка в электронной форме
F18: Код по ОКЕИ | G18: Наименование | I18: Код по ОКАТО | J18: Наименование | L18: Планируемая дата или период размещения извещения о закупке (месяц, год) | M18: Срок исполнения договора (месяц, год) | O18: Да/Нет
A19: 1 | B19: 2 | C19: 3 | D19: 4 | E19: 5 | F19: 6 | G19: 7 | H19: 8 | I19: 9 | J19: 10 | K19: 11 | L19: 12 | M19: 13 | N19: 14 | O19: 15 | P19: 16 | Q19: 17
A20: 154 | B20: 27.90 | C20: 27.90.33 | D20: Поставка материалов АИИС КУЭ (ИП) | E20: - | F20: 796 | G20: Штука | H20: 2296 | I20: 71139000 | J20: г. Нягань | K20: 70000000 | L20: 46023 | M20: 46295 | N20: Конкурс в ЭФ с СМСП | O20: Да
A21: 155 | B21: 27.90 | C21: 27.90.33 | D21: Поставка материалов АИИС КУЭ (ОД) | E21: - | F21: 796 | G21: Штука | H21: 1563 | I21: 71139000 | J21: г. Нягань | K21: 48601009 | L21: 46054 | M21: 46295 | N21: Конкурс в ЭФ с СМСП | O21: Да
A22: 156 | B22: 27.90 | C22: 27.90.33 | D22: Поставка материалов АИИС КУЭ (ИП) г. Югорск | E22: - | F22: 796 | G22: Штука | H22: 650 | I22: 71139000 | J22: г. Нягань | K22: 25652453 | L22: 46054 | M22: 46295 | N22: Конкурс в ЭФ с СМСП | O22: Да
A23: 158 | B23: 71.12 | C23: 71.12.40.120 | D23: Выполнение работ по метрологическому обеспечению АИИС КУЭ АО «ЮРЭСК» | F23: 876 | G23: Условная единица | H23: 1 | I23: 71110000 | J23: Районы ХМАО – Югры | K23: 12227508 | L23: 46082 | M23: 46326 | N23: Аукцион в ЭФ с СМСП | O23: Да
A24: 159 | B24: 71.20 | C24: 71.20.19.120 | D24: Оказание услуг по проведению очередного инспекционного контроля за качеством электрической энергии в распределительных электрических сетях общего назначения | E24: - | F24: 876 | G24: Условная единица | H24: 1 | I24: 71131000 | J24: г. Ханты-Мансийск | K24: 2543466 | L24: 46082 | M24: 46905 | N24: Единственный поставщик | O24: Нет
A25: 161 | B25: 55.10 | C25: 55.10 | D25: Оказание услуг по проживанию командированных сотрудников в гостинице г. Советский для нужд АО «ЮРЭСК» на 2026-2027 годы | E25: - | F25: 876 | G25: Условная единица | H25: 1 | I25: — | J25: г. Советский | K25: 700000 | L25: 46054 | M25: 46722 | N25: Запрос котировок в ЭФ | O25: Да
A26: 162 | B26: 55.10 | C26: 55.10 | D26: Оказание услуг по проживанию командированных сотрудников в гостинице пгт. Березово для нужд АО «ЮРЭСК» на 2026-2027 годы | E26: - | F26: 876 | G26: Условная единица | H26: 1 | I26: 71112000 | J26: Березовский район | K26: 1000000 | L26: 46054 | M26: 46722 | N26: Запрос котировок в ЭФ | O26: Да
A27: 165 | B27: 55.10 | C27: 55.10 | D27: Оказание услуг по проживанию командированных сотрудников в гостинице г. Нягань для нужд АО «ЮРЭСК» на 2026-2027 годы | E27: - | F27: 876 | G27: Условная единица | H27: 1 | I27: 71139000 | J27: г. Нягань | K27: 1000000 | L27: 46054 | M27: 46722 | N27: Запрос котировок в ЭФ | O27: Да
A28: 166 | B28: 55.10 | C28: 55.10 | D28: Оказание услуг по проживанию командированных сотрудников в гостинице пгт. Междуреченский для нужд АО «ЮРЭСК» на 2026-2027 годы | E28: - | F28: 876 | G28: Условная единица | H28: 1 | I28: — | J28: пгт.Междуреченский | K28: 900000 | L28: 46054 | M28: 46722 | N28: Запрос котировок в ЭФ | O28: Да
A29: 167 | B29: 19.20 | C29: 19.20.2 | D29: Поставка ГСМ для автотранспорта Няганьского филиала АО «ЮРЭСК» | E29: - | F29: 112 | G29: Литр | H29: 30000 | I29: 71139000 | J29: г. Нягань | K29: 2140368 | L29: 46054 | M29: 46235 | N29: Запрос котировок в ЭФ | O29: Да
A30: 170 | B30: 86.21 | C30: 86.21.10.120 | D30: Оказание платных медицинских услуг | E30: - | F30: 796 | G30: Штука | H30: 40 | I30: 71111000 | J30: Белоярский район | K30: 366611 | L30: 46054 | M30: 46357 | N30: Единственный поставщик | O30: Нет
A31: 171 | B31: 86.21 | C31: 86.21.10.120 | D31: Оказание услуг по проведению предрейсового медицинского осмотра водителей Белоярского филиала АО «ЮРЭСК» | E31: - | F31: 876 | G31: Условная единица | H31: 1,0 | I31: 71111000 | J31: Белоярский район | K31: 213120 | L31: 46054 | M31: 46478 | N31: Запрос котировок в ЭФ | O31: Да
A32: 172 | B32: 80.10 | C32: 80.10 | D32: Охрана техническими средствами административного офиса Березовского филиала п.г.т. Березово | E32: - | F32: 876 | G32: Условная единица | H32: 1 | I32: 71100000 | J32: ХМАО – Югра | K32: 372000 | L32: 46054 | M32: 04.2027 | N32: Единственный поставщик | O32: Нет
A33: 173 | B33: 80.10 | C33: 80.10 | D33: Охрана техническими средствами резервных дизель-генераторов Березовского филиала п.г.т. Березово | E33: - | F33: 876 | G33: Условная единица | H33: 1 | I33: 71100000 | J33: ХМАО – Югра | K33: 333600 | L33: 46054 | M33: 04.2027 | N33: Единственный поставщик | O33: Нет
A34: 174 | B34: 63 | C34: 63 | D34: Оказание услуг по технической поддержке программного комплекса АСУРЭО | E34: - | F34: 876 | G34: Условная единица | H34: 1 | I34: 71100000 | J34: ХМАО – Югра | K34: 310000 | L34: 46023 | M34: 46388 | N34: Единственный поставщик | O34: Нет
A35: 175 | B35: 33.14 | C35: 33.14.19.000 | D35: Выполнение работ по расчету уставок устройств релейной защиты и автоматики в электроустановках АО "ЮРЭСК" | E35: - | F35: 876 | G35: Условная единица | H35: 1 | I35: 71131000 | J35: г. Ханты-Мансийск | K35: 960000 | L35: 46082 | M35: 12.2026 | N35: Единственный поставщик | O35: Нет
A36: 176 | B36: 42.22 | C36: 42.22.22 | D36: Услуги по Организации каналов связи на Подстанциях АО ЮРЭСК | E36: - | F36: 876 | G36: Условная единица | H36: 1 | I36: 71100000 | J36: ХМАО – Югра | K36: 5400000 | L36: 46054 | M36: 46082 | N36: Единственный поставщик | O36: Нет
A37: 177 | B37: 61.10 | C37: 61.10.11.190 | D37: Услуги телефонной связи | F37: 876 | G37: Условная единица | H37: 1 | I37: 71139000 | J37: г. Нягань | K37: 710562.4 | L37: 46082 | M37: 47118 | N37: Единственный поставщик | O37: Нет
A38: 178 | B38: 61.10 | C38: 61.10.11.190 | D38: Оказание услуг фиксированной телефонной связи ПАО "МТС" | E38: - | F38: 876 | G38: Условная единица | H38: 1 | I38: 71131000 | J38: г. Ханты-Мансийск | K38: 9000000 | L38: 46023 | M38: 47848 | N38: Единственный поставщик | O38: Нет
A39: 179 | B39: 61.10 | C39: 61.10.11.190 | D39: Оказание услуги фиксированной телефонной связи ПАО "МегаФон" | E39: - | F39: 876 | G39: Условная единица | H39: 1 | I39: 71131000 | J39: г. Ханты-Мансийск | K39: 3000000 | L39: 46023 | M39: 47848 | N39: Единственный поставщик | O39: Нет
A40: 180 | B40: 81.29 | C40: 81.29.12.000 | D40: Оказание услуг по снегоочистке кровельной части административного здания АО "ЮРЭСК" в г. Ханты-Мансийске | E40: - | F40: 055 | G40: Квадратный метр | H40: 350 | I40: 71131000 | J40: г. Ханты-Мансийск | K40: 330000 | L40: 46023 | M40: 46357 | N40: Запрос котировок в ЭФ с СМСП | O40: Да
A41: 182 | B41: 58.19 | C41: 58.19.19 | D41: Поставка полиграфической продукции | E41: - | F41: 876 | G41: Условная единица | H41: 5700 | I41: 71100000 | J41: ХМАО – Югра | K41: 300000 | L41: 46054 | M41: 46357 | N41: Запрос котировок в ЭФ с СМСП | O41: Да
A42: 183 | B42: 35.11 | C42: 35.11.10.110 | D42: Оказание услуг по поставке электроэнергии для нужд Березовского филиала АО «ЮРЭСК» | E42: - | F42: 245 | G42: Киловатт-час | H42: 10700 | I42: 71112000 | J42: Березовский район | K42: 1000000 | L42: 46054 | M42: 46419 | N42: Единственный поставщик | O42: Нет
A43: 184 | B43: 35.30 | C43: 35.30.11.120 | D43: Оказание услуг по теплоснабжению объектов АО «ЮРЭСК» в пгт. Березово | E43: - | F43: 233 | G43: Гигакалория | H43: 350 | I43: 71112000 | J43: Березовский район | K43: 900000 | L43: 46054 | M43: 46419 | N43: Единственный поставщик | O43: Нет
A44: 185 | B44: 35.11 | C44: 35.11.10.110 | D44: Оказание услуг по поставке электроэнергии для нужд Няганьского филиала АО «ЮРЭСК» | E44: - | F44: 245 | G44: киловатт-час | H44: 194940 | I44: 71139000 | J44: г. Нягань | K44: 1830000 | L44: 46054 | M44: 47088 | N44: Единственный поставщик | O44: Нет
A45: 186 | B45: 35.30 | C45: 35.30.11.120 | D45: Услуги по теплоснабжению в г.Белоярский для нужд Белоярского филиала АО «ЮРЭСК» | E45: - | F45: 233 | G45: Гигакалория | H45: 71.28 | I45: 71111000 | J45: Белоярский район | K45: 184830 | L45: 46023 | M45: 46388 | N45: Единственный поставщик | O45: Нет
A46: 187 | B46: 45.20 | C46: 45.20.1 | D46: Техническое обслуживание и ремнот транспорта, машин и механизмов Сургутского производственного подразделения | E46: - | F46: 876 | G46: Условная единица | H46: 1 | I46: 71136000 | J46: г. Сургут | K46: 586103.49 | L46: 46054 | M46: 46447 | N46: Запрос котировок в ЭФ | O46: Да
A47: 188 | B47: 45.20 | C47: 45.20.1 | D47: Ремонт автотранспорта КАМАЗ-65221-43 с КМУ FASSI F295A2.22 для нужд Белоярского филиала АО "ЮРЭСК" | E47: - | F47: 876 | G47: Условная единица | H47: 1,0 | I47: 71111000 | J47: Белоярский район | K47: 919000 | L47: 46082 | M47: 46235 | N47: Запрос котировок в ЭФ | O47: Да
A48: 189 | B48: 22.11 | C48: 22.11.1 | D48: Поставка автомобильных покрышек и колесных дисков для нужд АО "ЮРЭСК" | E48: - | F48: 796 | G48: Штука | H48: 92 | I48: 71131000 | J48: г. Ханты-Мансийск | K48: 1197000 | L48: 46082 | M48: 46357 | N48: Запрос котировок в ЭФ с СМСП | O48: Да
A49: 191 | B49: 45.31 | C49: 45.31.20.000 | D49: Поставка автотоваров | E49: - | F49: 876 | G49: Условная единица | H49: 176 | I49: 71100000 | J49: ХМАО – Югра | K49: 675123.3 | L49: 46082 | M49: 46113 | N49: Запрос котировок в ЭФ с СМСП | O49: Да
A50: 192 | B50: 27.32 | C50: 27.32.13.199 | D50: Поставка арматуры для ВЛ | E50: - | F50: 876 | G50: Условная единица | H50: 8342 | I50: 71100000 | J50: ХМАО – Югра | K50: 8832983.4 | L50: 46054 | M50: 46082 | N50: Аукцион в ЭФ с СМСП | O50: Да
A51: 193 | B51: 27.32 | C51: 27.32.13.199 | D51: Поставка арматуры для монтажа кабелей | E51: - | F51: 876 | G51: Условная единица | H51: 587 | I51: 71100000 | J51: ХМАО – Югра | K51: 1521490.5 | L51: 46054 | M51: 46082 | N51: Запрос котировок в ЭФ с СМСП | O51: Да
A52: 194 | B52: 25.73 | C52: 25.73.40.290 | D52: Поставка расходных материалов, запасных частей | F52: 876 | G52: Условная единица | H52: 222 | I52: 71100000 | J52: ХМАО – Югра | K52: 411745.64 | L52: 46082 | M52: 46113 | N52: Запрос котировок в ЭФ с СМСП | O52: Да
A53: 196 | B53: 26.51 | C53: 26.51.43.110 | D53: Поставка измерительных приборов | F53: 876 | G53: Условная единица | H53: 36 | I53: 71100000 | J53: ХМАО – Югра | K53: 422738.71 | L53: 46082 | M53: 46143 | N53: Запрос котировок в ЭФ с СМСП | O53: Да
A54: 197 | B54: 25.73 | C54: 25.73.40.290 | D54: Поставка инструмента | F54: 876 | G54: Условная единица | H54: 138 | I54: 71100000 | J54: ХМАО – Югра | K54: 982655.24 | L54: 46082 | M54: 46113 | N54: Запрос котировок в ЭФ с СМСП | O54: Да
A55: 198 | B55: 27.32 | C55: 27.32.13.199 | D55: Поставка кабельно-проводниковой продукции | E55: - | F55: 876 | G55: Условная единица | H55: 4500 | I55: 71100000 | J55: ХМАО – Югра | K55: 1681966 | L55: 46054 | M55: 46113 | N55: Запрос котировок в ЭФ с СМСП | O55: Да
A56: 199 | B56: 27.90 | C56: 27.90.33.110 | D56: Поставка коммутационных аппаратов | E56: - | F56: 876 | G56: Условная единица | H56: 161 | I56: 71100000 | J56: ХМАО – Югра | K56: 2134290.7 | L56: 46054 | M56: 46113 | N56: Аукцион в ЭФ с СМСП | O56: Да
A57: 200 | B57: 27.90 | C57: 27.90.1 | D57: Поставка комплектующих к силовым трансформаторам | E57: - | F57: 876 | G57: Условная единица | H57: 462 | I57: 71100000 | J57: ХМАО – Югра | K57: 1762922.3 | L57: 46054 | M57: 46082 | N57: Запрос котировок в ЭФ с СМСП | O57: Да
A58: 201 | B58: 46.73.4 | C58: 46.73.14.000 | D58: Поставка лакокрасочных материалов | F58: 876 | G58: Условная единица | H58: 435 | I58: 71100000 | J58: ХМАО – Югра | K58: 1408427.9 | L58: 46082 | M58: 46113 | N58: Запрос котировок в ЭФ с СМСП | O58: Да
A59: 202 | B59: 27.90 | C59: 27.90.33.110 | D59: Поставка материалов для СРЗА | E59: - | F59: 876 | G59: Условная единица | H59: 33 | I59: 71100000 | J59: ХМАО – Югра | K59: 1130785.4 | L59: 46082 | M59: 46113 | N59: Запрос котировок в ЭФ с СМСП | O59: Да
A60: 203 | B60: 24.10 | C60: 24.10.62.120 | D60: Поставка металлопроката | E60: - | F60: 876 | G60: Условная единица | H60: 317 | I60: 71100000 | J60: ХМАО – Югра | K60: 363215.89 | L60: 46054 | M60: 46082 | N60: Запрос котировок в ЭФ с СМСП | O60: Да
A61: 204 | B61: 27.11 | C61: 27.11.43.000 | D61: Поставка силовых трансформаторов | E61: - | F61: 796 | G61: Штука | H61: 7 | I61: 71100000 | J61: ХМАО – Югра | K61: 3731544 | L61: 46054 | M61: 46113 | N61: Аукцион в ЭФ с СМСП | O61: Да
A62: 205 | B62: 20.42 | C62: 20.42.15.150 | D62: Поставка Средств от укусов насекомых, смывающих и обезвреживающих средств | E62: - | F62: 876 | G62: Условная единица | H62: 12557 | I62: 71100000 | J62: ХМАО – Югра | K62: 1328556.2 | L62: 46054 | M62: 46082 | N62: Запрос котировок в ЭФ с СМСП | O62: Да
A63: 206 | B63: 28.29 | C63: 28.29.2 | D63: Поставка средств пожаротушения | F63: 876 | G63: Условная единица | H63: 151 | I63: 71100000 | J63: ХМАО – Югра | K63: 323415.59 | L63: 46082 | M63: 46113 | N63: Запрос котировок в ЭФ с СМСП | O63: Да
A64: 207 | B64: 32.99 | C64: 32.99.11.190 | D64: Поставка средств электрической защиты | E64: - | F64: 876 | G64: Условная единица | H64: 125 | I64: 71100000 | J64: ХМАО – Югра | K64: 578781.39 | L64: 46082 | M64: 46113 | N64: Запрос котировок в ЭФ с СМСП | O64: Да
A65: 208 | B65: 46.73.6 | C65: 46.73.16.000 | D65: Поставка строительных материалов | F65: 876 | G65: Условная единица | H65: 233 | I65: 71100000 | J65: ХМАО – Югра | K65: 155190.34 | L65: 46082 | M65: 46113 | N65: Запрос котировок в ЭФ с СМСП | O65: Да
A66: 209 | B66: 25.99 | C66: 25.99.29.190 | D66: Поставка Табличек, плакатов и знаков | E66: - | F66: 876 | G66: Условная единица | H66: 3225 | I66: 71100000 | J66: ХМАО – Югра | K66: 868283.53 | L66: 46113 | M66: 46143 | N66: Запрос котировок в ЭФ с СМСП | O66: Да
A67: 210 | B67: 28.24 | C67: 28.24.11.000 | D67: Поставка электро-бензоинструмента | E67: - | F67: 876 | G67: Условная единица | H67: 15 | I67: 71100000 | J67: ХМАО – Югра | K67: 226244.94 | L67: 46082 | M67: 46113 | N67: Запрос котировок в ЭФ с СМСП | O67: Да
A68: 211 | B68: 27.90 | C68: 27.90.40.190 | D68: Поставка электротоваров | E68: - | F68: 876 | G68: Условная единица | H68: 891 | I68: 71100000 | J68: ХМАО – Югра | K68: 734088.64 | L68: 46054 | M68: 46082 | N68: Запрос котировок в ЭФ с СМСП | O68: Да
A69: 212 | B69: 27.20 | C69: 27.20.23.190 | D69: Поставка элементов питания | E69: - | F69: 876 | G69: Условная единица | H69: 314 | I69: 71100000 | J69: ХМАО – Югра | K69: 3111227.9 | L69: 46113 | M69: 46174 | N69: Аукцион в ЭФ с СМСП | O69: Да
A70: 213 | B70: 14.12 | C70: 14.12.30.160 | D70: Поставка средств индивидуальной защиты (СИЗ) для защиты от воздействия электрической дуги электротехнического персонала АО «ЮРЭСК». | E70: - | F70: 876 | G70: Условная единица | H70: 1 | I70: 71100000 | J70: ХМАО – Югра | K70: 12491582 | L70: 46054 | M70: 46357 | N70: Конкурс в ЭФ с СМСП | O70: Да
A71: 214 | B71: 14.12 | C71: 14.12.30.160 | D71: Поставка средств индивидуальной защиты (СИЗ) от термических и механических воздействий для персонала АО «ЮРЭСК» | E71: - | F71: 876 | G71: Условная единица | H71: 1 | I71: 71100000 | J71: ХМАО – Югра | K71: 2509267.4 | L71: 46082 | M71: 46357 | N71: Конкурс в ЭФ с СМСП | O71: Да
A72: 216 | B72: 85.42 | C72: 85.42.19 | D72: Оказание услуг с целью обучения персонала Няганьского филиала для нужд АО "ЮРЭСК" на 2026 год | E72: - | F72: 876 | G72: Условная единица | H72: 1 | I72: 71139000 | J72: г. Нягань | K72: 259200 | L72: 46054 | M72: 46387 | N72: Запрос котировок в ЭФ | O72: Да
A73: 217 | B73: 85.42 | C73: 85.42.19 | D73: Оказание услуг с целью обучения персонала Кондинского филиала для нужд АО "ЮРЭСК"на 2026 год | E73: - | F73: 876 | G73: Условная единица | H73: 1 | I73: 71116000 | J73: Кондинский район | K73: 133800 | L73: 46023 | M73: 46357 | N73: Запрос котировок в ЭФ | O73: Да
A74: 218 | B74: 85.42 | C74: 85.42.19 | D74: Оказание услуг с целью обучения персонала для нужд АО "ЮРЭСК"на 2026 год | E74: - | F74: 876 | G74: Условная единица | H74: 1 | I74: 71131000 | J74: г. Ханты-Мансийск | K74: 2246500 | L74: 46054 | M74: 46357 | N74: Запрос котировок в ЭФ | O74: Да
A75: 219 | B75: 22.21 | C75: 22.21.21.120 | D75: Поставка неметаллической трубы для нужд АО "ЮРЭСК" | E75: - | F75: 006 | G75: Метр | H75: 6000 | I75: 71100000 | J75: ХМАО – Югра | K75: 5553553.2 | L75: 46082 | M75: 46266 | N75: Аукцион в ЭФ с СМСП | O75: Да
A76: 220 | B76: 27.11 | C76: 27.11.43.000 | D76: Поставка трансформаторных подстанций для нужд АО «ЮРЭСК» | E76: - | F76: 796 | G76: Штука | H76: 7 | I76: 71100000 | J76: ХМАО – Югра | K76: 74614566 | L76: 46113 | M76: 46204 | N76: Аукцион в ЭФ с СМСП | O76: Да
A77: 221 | B77: 27.12 | C77: 27.12.10.120 | D77: Поставка кабельных муфт для нужд АО "ЮРЭСК" | E77: - | F77: 796 | G77: Штука | H77: 120 | I77: 71100000 | J77: ХМАО – Югра | K77: 449233.47 | L77: 46054 | M77: 46113 | N77: Запрос котировок в ЭФ | O77: Да
A78: 222 | B78: 22.23 | C78: 22.23.19.140 | D78: Поставка плиты защиты кабеля "ПЗК" для нужд АО "ЮРЭСК" | E78: - | F78: 796 | G78: Штука | H78: 10000 | I78: 71100000 | J78: ХМАО – Югра | K78: 1390232.7 | L78: 46082 | M78: 46174 | N78: Запрос котировок в ЭФ с СМСП | O78: Да
A79: 223 | B79: 27.11 | C79: 27.11.43.000 | D79: Поставка автоматических выключателей для нужд АО "ЮРЭСК" | E79: - | F79: 796 | G79: Штука | H79: 30 | I79: 71100000 | J79: ХМАО – Югра | K79: 1283877.9 | L79: 46054 | M79: 46174 | N79: Запрос котировок в ЭФ | O79: Да
A80: 225 | B80: 88.10 | C80: 88.10.13 | D80: Оказание услуг для создания или выделения одного рабочего места для трудоустройства инвалида (специального рабочего места) для нужд Кондинского филиала АО «ЮРЭСК | E80: - | F80: 904 | G80: Рабочее место | H80: 1 | I80: 71116000 | J80: Кондинский район | K80: 828450 | L80: 46054 | M80: 46357 | N80: Запрос котировок в ЭФ | O80: Да
A81: 226 | B81: 86.21 | C81: 86.21.10.120 | D81: Оказание услуг по проведению периодического медицинского осмотра работников Няганьского филиала | E81: - | F81: 876 | G81: Условная единица | H81: 52 | I81: 71139000 | J81: г. Нягань | K81: 236650 | L81: 46054 | M81: 46357 | N81: Единственный поставщик | O81: Нет
A82: 227 | B82: 55.10 | C82: 55.10 | D82: Оказание услуг по проживанию командированных сотрудников в гостинице г. Урай для нужд АО «ЮРЭСК» на 2026-2027 годы | E82: - | F82: 876 | G82: Условная единица | H82: 1 | I82: 71100000 | J82: ХМАО – Югра | K82: 500000 | L82: 46082 | M82: 46722 | N82: Единственный поставщик | O82: Нет
A83: 228 | B83: 55.10 | C83: 55.10 | D83: Оказание услуг по проживанию командированных сотрудников в гостинице г. Сургуте для нужд АО «ЮРЭСК» на 2026-2027 годы | E83: - | F83: 876 | G83: Условная единица | H83: 1 | I83: 71136000 | J83: г. Сургут | K83: 700000 | L83: 46113 | M83: 46722 | N83: Единственный поставщик | O83: Нет
A84: 229 | B84: 55.10 | C84: 55.10 | D84: Оказание услуг по проживанию командированных сотрудников в гостинице г. Белоярский для нужд АО «ЮРЭСК» на 2026-2027 годы | E84: - | F84: 876 | G84: Условная единица | H84: 1 | I84: 71181000 | J84: г. Белоярский | K84: 1000000 | L84: 46082 | M84: 46722 | N84: Единственный поставщик | O84: Нет
A85: 230 | B85: 52.29 | C85: 52.29.20 | D85: Транспортные услуги для нужд Советского филиала АО «ЮРЭСК» | E85: - | F85: 876 | G85: условная единица | H85: 1 | I85: 71124000 | J85: Советский район | K85: 746609.58 | L85: 46082 | M85: 46357 | N85: Единственный поставщик | O85: Нет
A86: 231 | B86: 27.90 | C86: 27.90.33 | D86: Поставка материалов АИИС КУЭ (ИП) | E86: - | F86: 876 | G86: Условная единица | H86: 1 | I86: 71139000 | J86: г. Нягань | K86: 28212379 | L86: 46235 | M86: 46388 | N86: Конкурс в ЭФ с СМСП | O86: Да
A87: 232 | B87: 62.01 | C87: 62.01.2 | D87: Обновление АРМ "Энергосфера" | E87: - | F87: 876 | G87: Условная единица | H87: 1 | I87: 71131000 | J87: г. Ханты-Мансийск | K87: 784000 | L87: 46113 | M87: 46142 | N87: Единственный поставщик | O87: Нет
... A90: 235 | B90: 58.29 | C90: 58.29.29 | D90: Предоставление права использования Новых версий КИБ Серчинформ | E90: - | F90: 876 | G90: Условная единица | H90: 1 | I90: 71100000 | J90: ХМАО – Югра | K90: 2971612.6 | L90: 46204 | M90: 46569 | N90: Запрос котировок в ЭФ | O90: Да
A91: 236 | B91: 63.11.1 | C91: 63.11.1 | D91: Предоставление доступа к информационным системам для проверки Юрлиц | E91: - | F91: 876 | G91: Условная единица | H91: 1 | I91: 71100000 | J91: ХМАО – Югра | K91: 150000 | L91: 46143 | M91: 06.2027 | N91: Единственный поставщик | O91: Нет
A92: 237 | B92: 80.10 | C92: 80.10 | D92: Оказание услуг физической охраны объектов АО «ЮРЭСК» в г.Нягань, г. Югорск, п. Лорба, г. Белоярский (5 постов) (1 Лот) | E92: - | F92: 876 | G92: Условная единица | H92: 5 | I92: 71100000 | J92: ХМАО – Югра | K92: 17246736 | L92: 46327 | M92: 46813 | N92: Конкурс в ЭФ с СМСП | O92: Да
A93: 238 | B93: 80.10 | C93: 80.10 | D93: Оказание услуг физической охраны объектов АО «ЮРЭСК» в г. Ханты-Мансийск, п.г.т. Междуреченский (4 поста) (2 Лот) | E93: - | F93: 876 | G93: Условная единица | H93: 4 | I93: 71100000 | J93: ХМАО – Югра | K93: 13267584 | L93: 46327 | M93: 46813 | N93: Конкурс в ЭФ с СМСП | O93: Да
A94: 239 | B94: 19.20 | C94: 19.20.21.100 | D94: Поставка ГСМ для автотранспорта АО «ЮРЭСК», Березовский филиал. (пгт. Березово, пгт. Игрим) | E94: - | F94: 112 | G94: литр | H94: 47500 | I94: 71112000 | J94: Березовский район | K94: 4500000 | L94: 46327 | M94: 46722 | N94: Единственный поставщик | O94: Нет
A95: 240 | B95: 19.20 | C95: 19.20.21.100 | D95: Поставка ГСМ для автотранспорта АО «ЮРЭСК», Березовский филиал п. Светлый | E95: - | F95: 112 | G95: литр | H95: 2370 | I95: 71112000 | J95: Березовский район | K95: 206190 | L95: 46174 | M95: 46539 | N95: Единственный поставщик | O95: Нет
A96: 241 | B96: 19.20 | C96: 19.20.21.100 | D96: Поставка ГСМ для автотранспорта Сургутского прозводственного подразделения АО «ЮРЭСК» | E96: - | F96: 876 | G96: Условная единица | H96: 15 226,00 | I96: 71136000 | J96: г. Сургут | K96: 1304750 | L96: 46357 | M96: 46722 | N96: Запрос котировок в ЭФ | O96: Да
A97: 242 | B97: 19.20 | C97: 19.20.21.100 | D97: Поставка ГСМ для автотранспорта Няганьского филиала АО «ЮРЭСК» | E97: - | F97: 876 | G97: Условная единица | H97: 26 495,00 | I97: 71139000 | J97: г. Нягань | K97: 2160000 | L97: 46235 | M97: 46419 | N97: Запрос котировок в ЭФ | O97: Да
A98: 243 | B98: 19.20 | C98: 19.20.21.100 | D98: Поставка ГСМ для автотранспорта Кондинского филиала АО «ЮРЭСК» в г. Урай | E98: - | F98: 112 | G98: литр | H98: 9221,93 | I98: 71116000 | J98: Кондинский район | K98: 791830 | L98: 46327 | M98: 46722 | N98: Запрос котировок в ЭФ | O98: Да
A99: 244 | B99: 19.20 | C99: 19.20.21.100 | D99: Поставка ГСМ для автотранспорта Кондинского филиала АО «ЮРЭСК» пгт. Междуреченский и по Уральскому федеральному округу. | E99: - | F99: 112 | G99: литр | H99: 44 440,00 | I99: 71116000 | J99: Кондинский район | K99: 3282686 | L99: 46328 | M99: 46723 | N99: Запрос котировок в ЭФ | O99: Да
A100: 245 | B100: 19.20 | C100: 19.20.21.100 | D100: Поставка ГСМ для автотранспорта Кондинского филиала АО «ЮРЭСК» в пгт. Кондинское | E100: - | F100: 112 | G100: литр | H100: 3227.6 | I100: 71116000 | J100: Кондинский район | K100: 212007 | L100: 46329 | M100: 46724 | N100: Единственный поставщик | O100: Нет
A101: 246 | B101: 19.20 | C101: 19.20.21.100 | D101: Поставка ГСМ для автотранспорта Кондинского филиала АО «ЮРЭСК» в пгт. Мортка. | E101: - | F101: 112 | G101: литр | H101: 6451 | I101: 71116000 | J101: Кондинский район | K101: 516362 | L101: 46328 | M101: 46725 | N101: Единственный поставщик | O101: Нет
A102: 247 | B102: 19.20 | C102: 19.20.21.100 | D102: Поставка ГСМ для автотранспорта Советского филиала АО «ЮРЭСК» | E102: - | F102: 876 | G102: Условная единица | H102: 129605 | I102: 71187000 | J102: г. Югорск | K102: 10343250 | L102: 46327 | M102: 46722 | N102: Запрос котировок в ЭФ | O102: Да
A103: 249 | B103: 33.12 | C103: 33.12.15 | D103: Услуги по обслуживанию лифтового оборудования в административном здании АО "ЮРЭСК" в г. Ханты-Мансийске | E103: - | F103: 876 | G103: Условная единица | H103: 1 | I103: 71131000 | J103: г. Ханты-Мансийск | K103: 500000 | L103: 46327 | M103: 46722 | N103: Запрос котировок в ЭФ с СМСП | O103: Да
A104: 250 | B104: 37.00 | C104: 37.00.11 | D104: Техническое обслуживание системы водоотведения, водоснабжения г. Сургут пр.Набережный, 27 | E104: - | F104: 876 | G104: Условная единица | H104: 1 | I104: 71136000 | J104: г. Сургут | K104: 688800 | L104: 46204 | M104: 46661 | N104: Запрос котировок в ЭФ с СМСП | O104: Да
...
