Workbook

Sheet Форма 3
C1: Типовой бланк | Q1: Приложение 2
C3: Ведомость контрольного замера по п/ст: | Q3: Дата: | R3: 45644
A5: Замер по трансформаторам | I5: 1 | J5: час.* | L5: 2 | M5: час.* | O5: … | P5: час.* | R5: 24 | S5: час.*
A6: Диспет. | C6: Sном | H6: Ток | I6: Pнагр. | J6: Qнагр. | K6: Ток | L6: Pнагр. | M6: Qнагр. | N6: Ток | O6: Pнагр. | P6: Qнагр. | Q6: Ток | R6: Pнагр. | S6: Qнагр.
A7: наимен. | C7: МВА | H7: А | I7: МВт | J7: МВАр | K7: А | L7: МВт | M7: МВАр | N7: А | O7: МВт | P7: МВАр | Q7: А | R7: МВт | S7: МВАр
F8: 220кВ
F9: 110кВ
D10: Нагрузка | F10: 35кВ
F11: 10кВ
F12: 6кВ
D13: РПН
F14: 220кВ
B15: 1Т | F15: 110кВ
D16: Напряж. | F16: 35кВ
F17: 10кВ
F18: 6кВ
D19: РПН
F20: 220кВ
F21: 110кВ
D22: Нагрузка | F22: 35кВ
F23: 10кВ
F24: 6кВ
D25: РПН
F26: 220кВ
B27: 2Т | F27: 110кВ
D28: Напряж. | F28: 35кВ
F29: 10кВ
F30: 6кВ
D31: РПН
F32: 110кВ
D33: Нагрузка | F33: 10кВ | H33: 90 | I33: =SQRT(3)*I36*H33*C46*POWER(10,-3) -> 0 | J33: =I33*E46 -> 0 | K33: 90 | L33: =SQRT(3)*L36*K33*C46*POWER(10,-3) -> 0 | M33: =L33*E46 -> 0 | N33: 90 | O33: =SQRT(3)*O36*N33*C46*POWER(10,-3) -> 0 | P33: =O33*E46 -> 0 | Q33: 90 | R33: =SQRT(3)*R36*Q33*C46*POWER(10,-3) -> 0 | S33: =R33*E46 -> 0
H34: 480 | I34: =SQRT(3)*I37*H34*C44*POWER(10,-3) -> 0 | J34: =I34*E44 -> 0 | K34: 480 | L34: =SQRT(3)*L37*K34*C44*POWER(10,-3) -> 0 | M34: =L34*E44 -> 0 | N34: 480 | O34: =SQRT(3)*O37*N34*C44*POWER(10,-3) -> 0 | P34: =O34*E44 -> 0 | Q34: 480 | R34: =SQRT(3)*R37*Q34*C44*POWER(10,-3) -> 0 | S34: =R34*E44 -> 0
B35: 2Т | C35: 16 | F35: 110кВ
D36: Напряж. | F36: 35кВ | I36: 37 | L36: 37 | O36: 37 | R36: 37
F37: 10кВ | I37: 10.5 | L37: 10.5 | O37: 10.5 | R37: 10.5
D38: РПН (ПБВ) | I38: 2 | L38: 2 | O38: 2 | R38: 2
F39: 220кВ | H39: =H9+H25 -> 0 | I39: =SUM(I9,I25) -> 0 | J39: =SUM(J9,J25) -> 0 | K39: =K9+K25 -> 0 | L39: =SUM(L9,L25) -> 0 | M39: =SUM(M9,M25) -> 0 | N39: =N9+N25 -> 0 | O39: =SUM(O9,O25) -> 0 | P39: =SUM(P9,P25) -> 0 | Q39: =Q9+Q25 -> 0 | R39: =SUM(R9,R25) -> 0 | S39: =SUM(S9,S25) -> 0
F40: 110кВ
B41: Итого | F41: 35кВ | H41: =H10+H26 -> 0 | I41: =I10+I26 -> 0 | J41: =J10+J26 -> 0 | K41: =K10+K26 -> 0 | L41: =L10+L26 -> 0 | M41: =M10+M26 -> 0 | N41: =N10+N26 -> 0 | O41: =O10+O26 -> 0 | ... S41: =S10+S26 -> 0
F42: 10кВ
...

Sheet ПС 110-10 МДФ
A1: Ведомость контрольного замера по ПС: 110/10 кВ «МДФ»
AM2: Дата: | AN2: 45644
A4: Замер по трансформаторам | H4: 1 час. | K4: 2 час. | N4: 3 час. | Q4: 4 час. | T4: 5 час. | W4: 6 час. | Z4: 7 час. | AC4: 8 час. | AF4: 9 час. | AI4: 10 час. | AL4: 11 час. | AO4: 12 час.
A5: Диспет. наимен. | C5: S ном, МВА | H5: Ток | I5: Pнагр. | J5: Qнагр. | K5: Ток | L5: Pнагр. | M5: Qнагр. | N5: Ток | O5: Pнагр. | P5: Qнагр. | Q5: Ток | R5: Pнагр. | S5: Qнагр. | T5: Ток | U5: Pнагр. | V5: Qнагр. | W5: Ток | X5: Pнагр. | Y5: Qнагр. | Z5: Ток | AA5: Pнагр. | AB5: Qнагр. | AC5: Ток | AD5: Pнагр. | AE5: Qнагр. | AF5: Ток | AG5: Pнагр. | AH5: Qнагр. | AI5: Ток | AJ5: Pнагр. | AK5: Qнагр. | AL5: Ток | AM5: Pнагр. | AN5: Qнагр. | AO5: Ток | AP5: Pнагр. | AQ5: Qнагр.
H6: А | I6: МВт | J6: Мвар | K6: А | L6: МВт | M6: Мвар | N6: А | O6: МВт | P6: Мвар | Q6: А | R6: МВт | S6: Мвар | T6: А | U6: МВт | V6: Мвар | W6: А | X6: МВт | Y6: Мвар | Z6: А | AA6: МВт | AB6: Мвар | AC6: А | AD6: МВт | AE6: Мвар | AF6: А | AG6: МВт | AH6: Мвар | AI6: А | AJ6: МВт | AK6: Мвар | AL6: А | AM6: МВт | AN6: Мвар | AO6: А | AP6: МВт | AQ6: Мвар
A7: 1Т | C7: 25 | D7: Нагрузка | F7: 110 кВ | H7: =SQRT(I7^2+J7^2)*1000/(1.73*H10) -> 0 | I7: 0 | J7: 0 | K7: =SQRT(L7^2+M7^2)*1000/(1.73*K10) -> 0 | L7: 0 | M7: 0 | N7: =SQRT(O7^2+P7^2)*1000/(1.73*N10) -> 0 | O7: 0 | P7: 0 | Q7: =SQRT(R7^2+S7^2)*1000/(1.73*Q10) -> 0 | R7: 0 | S7: 0 | T7: =SQRT(U7^2+V7^2)*1000/(1.73*T10) -> 0 | U7: 0 | V7: 0 | W7: =SQRT(X7^2+Y7^2)*1000/(1.73*W10) -> 0 | X7: 0 | Y7: 0 | Z7: =SQRT(AA7^2+AB7^2)*1000/(1.73*Z10) -> 0 | AA7: 0 | AB7: 0 | AC7: =SQRT(AD7^2+AE7^2)*1000/(1.73*AC10) -> 0 | AD7: 0 | AE7: 0 | AF7: =SQRT(AG7^2+AH7^2)*1000/(1.73*AF10) -> 0 | AG7: 0 | AH7: 0 | AI7: =SQRT(AJ7^2+AK7^2)*1000/(1.73*AI10) -> 0 | AJ7: 0 | AK7: 0 | AL7: =SQRT(AM7^2+AN7^2)*1000/(1.73*AL10) -> 0 | AM7: 0 | AN7: 0 | AO7: =SQRT(AP7^2+AQ7^2)*1000/(1.73*AO10) -> 0 | AP7: 0 | AQ7: 0
F8: 10 кВ | H8: =SQRT(I8^2+J8^2)*1000/(1.73*H11) -> 52.066717 | I8: =I33+I31 -> 0.919 | J8: =J33+J31 -> 0.259 | K8: =SQRT(L8^2+M8^2)*1000/(1.73*K11) -> 52.388497 | L8: =L33+L31 -> 0.924 | M8: =M33+M31 -> 0.263 | N8: =SQRT(O8^2+P8^2)*1000/(1.73*N11) -> 50.945742 | O8: =O33+O31 -> 0.901 | P8: =P33+P31 -> 0.247 | Q8: =SQRT(R8^2+S8^2)*1000/(1.73*Q11) -> 51.079816 | R8: =R33+R31 -> 0.903 | S8: =S33+S31 -> 0.249 | T8: =SQRT(U8^2+V8^2)*1000/(1.73*T11) -> 51.749286 | U8: =U33+U31 -> 0.916 | V8: =V33+V31 -> 0.248 | W8: =SQRT(X8^2+Y8^2)*1000/(1.73*W11) -> 52.347045 | X8: =X33+X31 -> 0.926 | Y8: =Y33+Y31 -> 0.253 | Z8: =SQRT(AA8^2+AB8^2)*1000/(1.73*Z11) -> 54.87887 | AA8: =AA33+AA31 -> 0.973 | AB8: =AB33+AB31 -> 0.257 | AC8: =SQRT(AD8^2+AE8^2)*1000/(1.73*AC11) -> 59.608997 | AD8: =AD33+AD31 -> 1.06 | AE8: =AE33+AE31 -> 0.267 | AF8: =SQRT(AG8^2+AH8^2)*1000/(1.73*AF11) -> 64.305582 | AG8: =AG33+AG31 -> 1.121 | AH8: =AH33+AH31 -> 0.366 | AI8: =SQRT(AJ8^2+AK8^2)*1000/(1.73*AI11) -> 65.621267 | AJ8: =AJ33+AJ31 -> 1.131 | AK8: =AK33+AK31 -> 0.411 | AL8: =SQRT(AM8^2+AN8^2)*1000/(1.73*AL11) -> 62.466673 | AM8: =AM33+AM31 -> 1.081 | AN8: =AN33+AN31 -> 0.379 | AO8: =SQRT(AP8^2+AQ8^2)*1000/(1.73*AO11) -> 63.685524 | AP8: =AP33+AP31 -> 1.105 | AQ8: =AQ33+AQ31 -> 0.378
D9: РПН | H9: 7 | K9: 7 | N9: 7 | Q9: 7 | T9: 7 | W9: 7 | Z9: 7 | AC9: 7 | AF9: 7 | AI9: 7 | AL9: 7 | AO9: 7
D10: Напряж. | F10: 110 кВ | H10: 121 | K10: 121 | N10: 121 | Q10: 121 | T10: 121 | W10: 121 | Z10: 121 | AC10: 121 | AF10: 121 | AI10: 121 | AL10: 121 | AO10: 121
F11: 10 кВ | H11: 10.6 | K11: 10.6 | N11: 10.6 | Q11: 10.6 | T11: 10.6 | W11: 10.6 | Z11: 10.6 | AC11: 10.6 | AF11: 10.6 | AI11: 10.6 | AL11: 10.6 | AO11: 10.6
D12: ПБВ | H12: - | K12: - | N12: - | Q12: - | T12: - | W12: - | Z12: - | AC12: - | AF12: - | AI12: - | AL12: - | AO12: -
A13: 2Т | C13: 25 | D13: Нагрузка | F13: 110 кВ | H13: =SQRT(I13^2+J13^2)*1000/(1.73*H16) -> 0 | I13: 0 | J13: 0 | K13: =SQRT(L13^2+M13^2)*1000/(1.73*K16) -> 0 | L13: 0 | M13: 0 | N13: =SQRT(O13^2+P13^2)*1000/(1.73*N16) -> 0 | O13: 0 | P13: 0 | Q13: =SQRT(R13^2+S13^2)*1000/(1.73*Q16) -> 0 | R13: 0 | S13: 0 | T13: =SQRT(U13^2+V13^2)*1000/(1.73*T16) -> 0 | U13: 0 | V13: 0 | W13: =SQRT(X13^2+Y13^2)*1000/(1.73*W16) -> 0 | X13: 0 | Y13: 0 | Z13: =SQRT(AA13^2+AB13^2)*1000/(1.73*Z16) -> 0 | AA13: 0 | AB13: 0 | AC13: =SQRT(AD13^2+AE13^2)*1000/(1.73*AC16) -> 0 | AD13: 0 | AE13: 0 | AF13: =SQRT(AG13^2+AH13^2)*1000/(1.73*AF16) -> 0 | AG13: 0 | AH13: 0 | AI13: =SQRT(AJ13^2+AK13^2)*1000/(1.73*AI16) -> 0 | AJ13: 0 | AK13: 0 | AL13: =SQRT(AM13^2+AN13^2)*1000/(1.73*AL16) -> 0 | AM13: 0 | AN13: 0 | AO13: =SQRT(AP13^2+AQ13^2)*1000/(1.73*AO16) -> 0 | AP13: 0 | AQ13: 0
F14: 10 кВ | H14: =SQRT(I14^2+J14^2)*1000/(1.73*H17) -> 129.1916 | I14: =I34+I32 -> 2.302 | J14: =J34+J32 -> 0.648 | K14: =SQRT(L14^2+M14^2)*1000/(1.73*K17) -> 128.76908 | L14: =L34+L32 -> 2.295 | M14: =M34+M32 -> 0.644 | N14: =SQRT(O14^2+P14^2)*1000/(1.73*N17) -> 127.624 | O14: =O34+O32 -> 2.278 | P14: =P34+P32 -> 0.626 | Q14: =SQRT(R14^2+S14^2)*1000/(1.73*Q17) -> 129.26348 | R14: =R34+R32 -> 2.307 | S14: =S34+S32 -> 0.635 | T14: =SQRT(U14^2+V14^2)*1000/(1.73*T17) -> 126.86099 | U14: =U34+U32 -> 2.265 | V14: =V34+V32 -> 0.62 | W14: =SQRT(X14^2+Y14^2)*1000/(1.73*W17) -> 134.27597 | X14: =X34+X32 -> 2.398 | Y14: =Y34+Y32 -> 0.654 | Z14: =SQRT(AA14^2+AB14^2)*1000/(1.73*Z17) -> 138.7213 | AA14: =AA34+AA32 -> 2.48 | AB14: =AB34+AB32 -> 0.666 | AC14: =SQRT(AD14^2+AE14^2)*1000/(1.73*AC17) -> 140.99691 | AD14: =AD34+AD32 -> 2.522 | AE14: =AE34+AE32 -> 0.672 | AF14: =SQRT(AG14^2+AH14^2)*1000/(1.73*AF17) -> 151.38288 | AG14: =AG34+AG32 -> 2.649 | AH14: =AH34+AH32 -> 0.914 | AI14: =SQRT(AJ14^2+AK14^2)*1000/(1.73*AI17) -> 148.25526 | AJ14: =AJ34+AJ32 -> 2.595 | AK14: =AK34+AK32 -> 0.893 | AL14: =SQRT(AM14^2+AN14^2)*1000/(1.73*AL17) -> 142.24258 | AM14: =AM34+AM32 -> 2.513 | AN14: =AN34+AN32 -> 0.786 | AO14: =SQRT(AP14^2+AQ14^2)*1000/(1.73*AO17) -> 142.722 | AP14: =AP34+AP32 -> 2.497 | AQ14: =AQ34+AQ32 -> 0.863
D15: РПН | H15: 7 | K15: 7 | N15: 7 | Q15: 7 | T15: 7 | W15: 7 | Z15: 7 | AC15: 7 | AF15: 7 | AI15: 7 | AL15: 7 | AO15: 7
D16: Напряж. | F16: 110 кВ | H16: 124 | K16: 124 | N16: 124 | Q16: 124 | T16: 124 | W16: 124 | Z16: 124 | AC16: 124 | AF16: 124 | AI16: 124 | AL16: 124 | AO16: 124
F17: 10 кВ | H17: 10.7 | K17: 10.7 | N17: 10.7 | Q17: 10.7 | T17: 10.7 | W17: 10.7 | Z17: 10.7 | AC17: 10.7 | AF17: 10.7 | AI17: 10.7 | AL17: 10.7 | AO17: 10.7
D18: ПБВ | H18: - | K18: - | N18: - | Q18: - | T18: - | W18: - | Z18: - | AC18: - | AF18: - | AI18: - | AL18: - | AO18: -
A19: Всего | F19: 110 кВ | H19: =H7+H13 -> 0 | I19: =I7+I13 -> 0 | J19: =J7+J13 -> 0 | K19: =K7+K13 -> 0 | L19: =L7+L13 -> 0 | M19: =M7+M13 -> 0 | N19: =N7+N13 -> 0 | O19: =O7+O13 -> 0 | ... AQ19: =AQ7+AQ13 -> 0
F20: 10 кВ | H20: =H8+H14 -> 181.25831 | I20: =I8+I14 -> 3.221 | J20: =J8+J14 -> 0.907 | K20: =K8+K14 -> 181.15758 | L20: =L8+L14 -> 3.219 | M20: =M8+M14 -> 0.907 | N20: =N8+N14 -> 178.56974 | O20: =O8+O14 -> 3.179 | ... AQ20: =AQ8+AQ14 -> 1.241
A21: cosФ(110)= | B21: 0 | D21: tgФ(110)= | E21: 0
A22: cosФ(10)= | B22: =(I20+L20+O20+R20+U20+X20+AA20+AD20+AG20+AJ20+AM20+AP20+I69+L69+O69+R69+U69+X69+AA69+AD69+AG69+AJ69+AM69+AP69)/SQRT((I20+L20+O20+R20+U20+X20+AA20+AD20+AG20+AJ20+AM20+AP20+I69+L69+O69+R69+U69+X69+AA69+AD69+AG69+AJ69+AM69+AP69)^2+(J20+M20+P20+S20+V20+Y20+AB20+AE20+AH20+AK20+AN20+J69+M69+P69+S69+V69+Y69+AB69+AE69+AH69+AK69+AN69+AQ69+AQ20)^2) -> 0.95791481 | D22: tgФ(10)= | E22: =(J20+M20+P20+S20+V20+Y20+AB20+AE20+AH20+AK20+AN20+J69+M69+P69+S69+V69+Y69+AB69+AE69+AH69+AK69+AN69+AQ69+AQ20)/(I20+L20+O20+R20+U20+X20+AA20+AD20+AG20+AJ20+AM20+AP20+I69+L69+O69+R69+U69+X69+AA69+AD69+AG69+AJ69+AM69+AP69) -> 0.29966406
A24: Замер по | D24: Уст.ЧАПВ | F24: Уст.АЧР | H24: 1 час. | K24: 2 час. | N24: 3 час. | Q24: 4 час. | T24: 5 час. | W24: 6 час. | Z24: 7 час. | AC24: 8 час. | AF24: 9 час. | AI24: 10 час. | AL24: 11 час. | AO24: 12 час.
A25: ВЛ- 10 кВ | D25: герц | E25: сек | F25: герц | G25: сек
A26: яч. №15 | B26: ф."Мортка-1" | H26: =SQRT(I26^2+J26^2)*1000/(1.73*$H$11) -> 46.546587 | I26: 0.822 | J26: 0.23 | K26: =SQRT(L26^2+M26^2)*1000/(1.73*$H$11) -> 46.905808 | L26: 0.828 | M26: 0.233 | N26: =SQRT(O26^2+P26^2)*1000/(1.73*$H$11) -> 45.82343 | O26: 0.811 | P26: 0.22 | Q26: =SQRT(R26^2+S26^2)*1000/(1.73*$H$11) -> 45.560339 | R26: 0.806 | S26: 0.22 | T26: =SQRT(U26^2+V26^2)*1000/(1.73*$H$11) -> 46.311435 | U26: 0.82 | V26: 0.221 | W26: =SQRT(X26^2+Y26^2)*1000/(1.73*$H$11) -> 46.880537 | X26: 0.83 | Y26: 0.224 | Z26: =SQRT(AA26^2+AB26^2)*1000/(1.73*$H$11) -> 49.758052 | AA26: 0.883 | AB26: 0.23 | AC26: =SQRT(AD26^2+AE26^2)*1000/(1.73*$H$11) -> 53.445978 | AD26: 0.95 | AE26: 0.241 | AF26: =SQRT(AG26^2+AH26^2)*1000/(1.73*$H$11) -> 53.222425 | AG26: 0.941 | AH26: 0.259 | AI26: =SQRT(AJ26^2+AK26^2)*1000/(1.73*$H$11) -> 50.582731 | AJ26: 0.896 | AK26: 0.24 | AL26: =SQRT(AM26^2+AN26^2)*1000/(1.73*$H$11) -> 50.291151 | AM26: 0.891 | AN26: 0.238 | AO26: =SQRT(AP26^2+AQ26^2)*1000/(1.73*$H$11) -> 51.370942 | AP26: 0.912 | AQ26: 0.236
A27: яч. №19 | B27: ф."Завод-1" | H27: =SQRT(I27^2+J27^2)*1000/(1.73*$H$11) -> 5.2082649 | I27: 0.091 | J27: 0.029 | K27: =SQRT(L27^2+M27^2)*1000/(1.73*$H$11) -> 5.1733193 | L27: 0.09 | M27: 0.03 | N27: =SQRT(O27^2+P27^2)*1000/(1.73*$H$11) -> 5.1239371 | O27: 0.09 | P27: 0.027 | Q27: =SQRT(R27^2+S27^2)*1000/(1.73*$H$11) -> 5.2082649 | R27: 0.091 | S27: 0.029 | T27: =SQRT(U27^2+V27^2)*1000/(1.73*$H$11) -> 5.1239371 | U27: 0.09 | V27: 0.027 | W27: =SQRT(X27^2+Y27^2)*1000/(1.73*$H$11) -> 5.1563345 | X27: 0.09 | Y27: 0.029 | Z27: =SQRT(AA27^2+AB27^2)*1000/(1.73*$H$11) -> 5.1239371 | AA27: 0.09 | AB27: 0.027 | AC27: =SQRT(AD27^2+AE27^2)*1000/(1.73*$H$11) -> 5.8458254 | AD27: 0.104 | AE27: 0.026 | AF27: =SQRT(AG27^2+AH27^2)*1000/(1.73*$H$11) -> 11.139 | AG27: 0.174 | AH27: 0.107 | AI27: =SQRT(AJ27^2+AK27^2)*1000/(1.73*$H$11) -> 15.585158 | AJ27: 0.229 | AK27: 0.171 | AL27: =SQRT(AM27^2+AN27^2)*1000/(1.73*$H$11) -> 12.902336 | AM27: 0.19 | AN27: 0.141 | AO27: =SQRT(AP27^2+AQ27^2)*1000/(1.73*$H$11) -> 12.804241 | AP27: 0.187 | AQ27: 0.142
A28: яч. №4 | B28: ф."Микрорайон" | H28: =SQRT(I28^2+J28^2)*1000/(1.73*$H$17) -> 23.509163 | I28: 0.398 | J28: 0.176 | K28: =SQRT(L28^2+M28^2)*1000/(1.73*$H$17) -> 22.296927 | L28: 0.377 | M28: 0.168 | N28: =SQRT(O28^2+P28^2)*1000/(1.73*$H$17) -> 22.096027 | O28: 0.376 | P28: 0.161 | Q28: =SQRT(R28^2+S28^2)*1000/(1.73*$H$17) -> 23.330283 | R28: 0.397 | S28: 0.17 | T28: =SQRT(U28^2+V28^2)*1000/(1.73*$H$17) -> 20.558167 | U28: 0.348 | V28: 0.154 | W28: =SQRT(X28^2+Y28^2)*1000/(1.73*$H$17) -> 23.578826 | X28: 0.402 | Y28: 0.17 | Z28: =SQRT(AA28^2+AB28^2)*1000/(1.73*$H$17) -> 22.79828 | AA28: 0.388 | AB28: 0.166 | AC28: =SQRT(AD28^2+AE28^2)*1000/(1.73*$H$17) -> 21.622274 | AD28: 0.366 | AE28: 0.162 | AF28: =SQRT(AG28^2+AH28^2)*1000/(1.73*$H$17) -> 35.331046 | AG28: 0.503 | AH28: 0.418 | AI28: =SQRT(AJ28^2+AK28^2)*1000/(1.73*$H$17) -> 34.390763 | AJ28: 0.487 | AK28: 0.41 | AL28: =SQRT(AM28^2+AN28^2)*1000/(1.73*$H$17) -> 27.770637 | AM28: 0.416 | AN28: 0.302 | AO28: =SQRT(AP28^2+AQ28^2)*1000/(1.73*$H$17) -> 33.401329 | AP28: 0.474 | AQ28: 0.397
A29: яч. №16 | B29: ф."Мортка-2" | H29: =SQRT(I29^2+J29^2)*1000/(1.73*$H$17) -> 105.23722 | I29: 1.89 | J29: 0.472 | K29: =SQRT(L29^2+M29^2)*1000/(1.73*$H$17) -> 105.91854 | L29: 1.902 | M29: 0.476 | N29: =SQRT(O29^2+P29^2)*1000/(1.73*$H$17) -> 104.72663 | O29: 1.882 | P29: 0.465 | Q29: =SQRT(R29^2+S29^2)*1000/(1.73*$H$17) -> 105.35608 | R29: 1.894 | S29: 0.465 | T29: =SQRT(U29^2+V29^2)*1000/(1.73*$H$17) -> 105.84115 | U29: 1.903 | V29: 0.466 | W29: =SQRT(X29^2+Y29^2)*1000/(1.73*$H$17) -> 110.21772 | X29: 1.982 | Y29: 0.484 | Z29: =SQRT(AA29^2+AB29^2)*1000/(1.73*$H$17) -> 115.46149 | AA29: 2.078 | AB29: 0.5 | AC29: =SQRT(AD29^2+AE29^2)*1000/(1.73*$H$17) -> 118.68692 | AD29: 2.137 | AE29: 0.51 | AF29: =SQRT(AG29^2+AH29^2)*1000/(1.73*$H$17) -> 117.88226 | AG29: 2.125 | AH29: 0.496 | AI29: =SQRT(AJ29^2+AK29^2)*1000/(1.73*$H$17) -> 115.72373 | AJ29: 2.087 | AK29: 0.483 | AL29: =SQRT(AM29^2+AN29^2)*1000/(1.73*$H$17) -> 115.26235 | AM29: 2.078 | AN29: 0.484 | AO29: =SQRT(AP29^2+AQ29^2)*1000/(1.73*$H$17) -> 111.14836 | AP29: 2.004 | AQ29: 0.466
A30: яч. №20 | B30: ф."Завод-2" | H30: =SQRT(I30^2+J30^2)*1000/(1.73*$H$17) -> 0.75630706 | I30: 0.014 | J30: 0 | K30: =SQRT(L30^2+M30^2)*1000/(1.73*$H$17) -> 0.86435093 | L30: 0.016 | M30: 0 | N30: =SQRT(O30^2+P30^2)*1000/(1.73*$H$17) -> 0.75630706 | O30: 0.014 | P30: 0 | Q30: =SQRT(R30^2+S30^2)*1000/(1.73*$H$17) -> 0.86435093 | R30: 0.016 | S30: 0 | T30: =SQRT(U30^2+V30^2)*1000/(1.73*$H$17) -> 0.75630706 | U30: 0.014 | V30: 0 | W30: =SQRT(X30^2+Y30^2)*1000/(1.73*$H$17) -> 0.75630706 | X30: 0.014 | Y30: 0 | Z30: =SQRT(AA30^2+AB30^2)*1000/(1.73*$H$17) -> 0.75630706 | AA30: 0.014 | AB30: 0 | AC30: =SQRT(AD30^2+AE30^2)*1000/(1.73*$H$17) -> 1.0264167 | AD30: 0.019 | AE30: 0 | AF30: =SQRT(AG30^2+AH30^2)*1000/(1.73*$H$17) -> 1.1344606 | AG30: 0.021 | AH30: 0 | AI30: =SQRT(AJ30^2+AK30^2)*1000/(1.73*$H$17) -> 1.1344606 | AJ30: 0.021 | AK30: 0 | AL30: =SQRT(AM30^2+AN30^2)*1000/(1.73*$H$17) -> 1.0264167 | AM30: 0.019 | AN30: 0 | AO30: =SQRT(AP30^2+AQ30^2)*1000/(1.73*$H$17) -> 1.0264167 | AP30: 0.019 | AQ30: 0
B31: ТСН-1 | I31: 0.006 | J31: 0 | L31: 0.006 | O31: 0 | R31: 0.006 | U31: 0.006 | X31: 0.006 | AA31: 0 | AD31: 0.006 | AG31: 0.006 | AJ31: 0.006 | AP31: 0.006
B32: ТСН-2 | I32: 0 | L32: 0 | O32: 0.006 | R32: 0 | X32: 0 | AA32: 0 | AG32: 0 | AJ32: 0 | AP32: 0
A33: Итого по отх.ВЛ от 1С-10 кВ | H33: =H26+H27 -> 51.754852 | I33: =I26+I27 -> 0.913 | J33: =J26+J27 -> 0.259 | K33: =K26+K27 -> 52.079127 | L33: =L26+L27 -> 0.918 | M33: =M26+M27 -> 0.263 | N33: =N26+N27 -> 50.947367 | O33: =O26+O27 -> 0.901 | ... AQ33: =AQ26+AQ27 -> 0.378
A34: Итого по отх.ВЛ от 2С-10 кВ | H34: =H30+H29+H28 -> 129.50269 | I34: =I30+I29+I28 -> 2.302 | J34: =J30+J29+J28 -> 0.648 | K34: =K30+K29+K28 -> 129.07982 | L34: =L30+L29+L28 -> 2.295 | M34: =M30+M29+M28 -> 0.644 | N34: =N30+N29+N28 -> 127.57896 | O34: =O30+O29+O28 -> 2.272 | ... AQ34: =AQ30+AQ29+AQ28 -> 0.863
A35: Итого по ВЛ-10 кВ | H35: =H33+H34 -> 181.25754 | I35: =I33+I34 -> 3.215 | J35: =J33+J34 -> 0.907 | K35: =K33+K34 -> 181.15894 | L35: =L33+L34 -> 3.213 | M35: =M33+M34 -> 0.907 | N35: =N33+N34 -> 178.52633 | O35: =O33+O34 -> 3.173 | ... AQ35: =AQ33+AQ34 -> 1.241
A37: РАСЧЕТ ПОТЕРЬ В ТРАНСФОРМАТОРАХ
A38: 1Т | B38: Потери пост. | D38: Px.x+j Qx.x. | H38: =$C$40/1000 -> 0.027 | I38: +j | J38: =$G$40/1000 -> 0.173 | K38: =$C$40/1000 -> 0.027 | L38: +j | M38: =$G$40/1000 -> 0.173 | N38: =$C$40/1000 -> 0.027 | O38: +j | P38: =$G$40/1000 -> 0.173 | Q38: =$C$40/1000 -> 0.027 | R38: +j | S38: =$G$40/1000 -> 0.173 | T38: =$C$40/1000 -> 0.027 | U38: +j | V38: =$G$40/1000 -> 0.173 | W38: =$C$40/1000 -> 0.027 | X38: +j | Y38: =$G$40/1000 -> 0.173 | Z38: =$C$40/1000 -> 0.027 | AA38: +j | AB38: =$G$40/1000 -> 0.173 | AC38: =$C$40/1000 -> 0.027 | AD38: +j | AE38: =$G$40/1000 -> 0.173 | AF38: =$C$40/1000 -> 0.027 | AG38: +j | AH38: =$G$40/1000 -> 0.173 | AI38: =$C$40/1000 -> 0.027 | AJ38: +j | AK38: =$G$40/1000 -> 0.173 | AL38: =$C$40/1000 -> 0.027 | AM38: +j | AN38: =$G$40/1000 -> 0.173 | AO38: =$C$40/1000 -> 0.027 | AP38: +j | AQ38: =$G$40/1000 -> 0.173
B39: Потери перем. | D39: Рпер+j Qпер. | H39: =((I8^2+J8^2)*$G$41/1000)/($C$7*$C$7) -> 0.00017503526 | I39: +j | J39: =((I8^2+J8^2)*$J$41)/(100*$C$7) -> 0.0038288964 | K39: =((L8^2+M8^2)*$G$41/1000)/($C$7*$C$7) -> 0.00017720544 | L39: +j | M39: =((L8^2+M8^2)*$J$41)/(100*$C$7) -> 0.003876369 | N39: =((O8^2+P8^2)*$G$41/1000)/($C$7*$C$7) -> 0.00016757952 | O39: +j | P39: =((O8^2+P8^2)*$J$41)/(100*$C$7) -> 0.003665802 | Q39: =((R8^2+S8^2)*$G$41/1000)/($C$7*$C$7) -> 0.00016846272 | R39: +j | S39: =((R8^2+S8^2)*$J$41)/(100*$C$7) -> 0.003685122 | T39: =((U8^2+V8^2)*$G$41/1000)/($C$7*$C$7) -> 0.00017290752 | U39: +j | V39: =((U8^2+V8^2)*$J$41)/(100*$C$7) -> 0.003782352 | W39: =((X8^2+Y8^2)*$G$41/1000)/($C$7*$C$7) -> 0.00017692512 | X39: +j | Y39: =((X8^2+Y8^2)*$J$41)/(100*$C$7) -> 0.003870237 | Z39: =((AA8^2+AB8^2)*$G$41/1000)/($C$7*$C$7) -> 0.00019445338 | AA39: +j | AB39: =((AA8^2+AB8^2)*$J$41)/(100*$C$7) -> 0.0042536676 | AC39: =((AD8^2+AE8^2)*$G$41/1000)/($C$7*$C$7) -> 0.00022941869 | AD39: +j | AE39: =((AD8^2+AE8^2)*$J$41)/(100*$C$7) -> 0.0050185338 | AF39: =((AG8^2+AH8^2)*$G$41/1000)/($C$7*$C$7) -> 0.00026699462 | AG39: +j | AH39: =((AG8^2+AH8^2)*$J$41)/(100*$C$7) -> 0.0058405074 | AI39: =((AJ8^2+AK8^2)*$G$41/1000)/($C$7*$C$7) -> 0.00027803174 | AJ39: +j | AK39: =((AJ8^2+AK8^2)*$J$41)/(100*$C$7) -> 0.0060819444 | AL39: =((AM8^2+AN8^2)*$G$41/1000)/($C$7*$C$7) -> 0.00025194278 | AM39: +j | AN39: =((AM8^2+AN8^2)*$J$41)/(100*$C$7) -> 0.0055112484 | AO39: =((AP8^2+AQ8^2)*$G$41/1000)/($C$7*$C$7) -> 0.00026187053 | AP39: +j | AQ39: =((AP8^2+AQ8^2)*$J$41)/(100*$C$7) -> 0.0057284178
B40: Рхх= | C40: 27 | E40: Qхх= | G40: 173
F41: Ркз(10)= | G41: 120 | H41: Uкз%(10)= | J41: 10.5
B42: Полная нагрузка с потерями | H42: =I8+H38+H39 -> 0.94617504 | I42: +j | J42: =J8+J38+J39 -> 0.4358289 | K42: =L8+K38+K39 -> 0.95117721 | L42: +j | M42: =M8+M38+M39 -> 0.43987637 | N42: =O8+N38+N39 -> 0.92816758 | O42: +j | P42: =P8+P38+P39 -> 0.4236658 | Q42: =R8+Q38+Q39 -> 0.93016846 | R42: +j | S42: =S8+S38+S39 -> 0.42568512 | T42: =U8+T38+T39 -> 0.94317291 | U42: +j | V42: =V8+V38+V39 -> 0.42478235 | W42: =X8+W38+W39 -> 0.95317693 | X42: +j | Y42: =Y8+Y38+Y39 -> 0.42987024 | Z42: =AA8+Z38+Z39 -> 1.0001945 | AA42: +j | AB42: =AB8+AB38+AB39 -> 0.43425367 | AC42: =AD8+AC38+AC39 -> 1.0872294 | AD42: +j | AE42: =AE8+AE38+AE39 -> 0.44501853 | AF42: =AG8+AF38+AF39 -> 1.148267 | AG42: +j | AH42: =AH8+AH38+AH39 -> 0.54484051 | AI42: =AJ8+AI38+AI39 -> 1.158278 | AJ42: +j | AK42: =AK8+AK38+AK39 -> 0.59008194 | AL42: =AM8+AL38+AL39 -> 1.1082519 | AM42: +j | AN42: =AN8+AN38+AN39 -> 0.55751125 | AO42: =AP8+AO38+AO39 -> 1.1322619 | AP42: +j | AQ42: =AQ8+AQ38+AQ39 -> 0.55672842
A43: 2Т | B43: Потери пост. | D43: Px.x+j Qx.x. | H43: =$C$45/1000 -> 0.027 | I43: +j | J43: =$G$45/1000 -> 0.173 | K43: =$C$45/1000 -> 0.027 | L43: +j | M43: =$G$45/1000 -> 0.173 | N43: =$C$45/1000 -> 0.027 | O43: +j | P43: =$G$45/1000 -> 0.173 | Q43: =$C$45/1000 -> 0.027 | R43: +j | S43: =$G$45/1000 -> 0.173 | T43: =$C$45/1000 -> 0.027 | U43: +j | V43: =$G$45/1000 -> 0.173 | W43: =$C$45/1000 -> 0.027 | X43: +j | Y43: =$G$45/1000 -> 0.173 | Z43: =$C$45/1000 -> 0.027 | AA43: +j | AB43: =$G$45/1000 -> 0.173 | AC43: =$C$45/1000 -> 0.027 | AD43: +j | AE43: =$G$45/1000 -> 0.173 | AF43: =$C$45/1000 -> 0.027 | AG43: +j | AH43: =$G$45/1000 -> 0.173 | AI43: =$C$45/1000 -> 0.027 | AJ43: +j | AK43: =$G$45/1000 -> 0.173 | AL43: =$C$45/1000 -> 0.027 | AM43: +j | AN43: =$G$45/1000 -> 0.173 | AO43: =$C$45/1000 -> 0.027 | AP43: +j | AQ43: =$G$45/1000 -> 0.173
...

Sheet ПС 110-10 ЮМАС
A1: Ведомость контрольного замера по ПС: 110/35/10 кВ «ЮМАС»
AM2: Дата: | AN2: 45644
A4: Замер по трансформаторам | H4: 1 час. | K4: 2 час. | N4: 3 час. | Q4: 4 час. | T4: 5 час. | W4: 6 час. | Z4: 7 час. | AC4: 8 час. | AF4: 9 час. | AI4: 10 час. | AL4: 11 час. | AO4: 12 час.
A5: Диспет. наимен. | C5: S ном, МВА | H5: Ток | I5: Pнагр. | J5: Qнагр. | K5: Ток | L5: Pнагр. | M5: Qнагр. | N5: Ток | O5: Pнагр. | P5: Qнагр. | Q5: Ток | R5: Pнагр. | S5: Qнагр. | T5: Ток | U5: Pнагр. | V5: Qнагр. | W5: Ток | X5: Pнагр. | Y5: Qнагр. | Z5: Ток | AA5: Pнагр. | AB5: Qнагр. | AC5: Ток | AD5: Pнагр. | AE5: Qнагр. | AF5: Ток | AG5: Pнагр. | AH5: Qнагр. | AI5: Ток | AJ5: Pнагр. | AK5: Qнагр. | AL5: Ток | AM5: Pнагр. | AN5: Qнагр. | AO5: Ток | AP5: Pнагр. | AQ5: Qнагр.
H6: А | I6: МВт | J6: Мвар | K6: А | L6: МВт | M6: Мвар | N6: А | O6: МВт | P6: Мвар | Q6: А | R6: МВт | S6: Мвар | T6: А | U6: МВт | V6: Мвар | W6: А | X6: МВт | Y6: Мвар | Z6: А | AA6: МВт | AB6: Мвар | AC6: А | AD6: МВт | AE6: Мвар | AF6: А | AG6: МВт | AH6: Мвар | AI6: А | AJ6: МВт | AK6: Мвар | AL6: А | AM6: МВт | AN6: Мвар | AO6: А | AP6: МВт | AQ6: Мвар
A7: 1Т | C7: 16 | D7: Нагрузка | F7: 110 кВ | H7: =SQRT(I7^2+J7^2)*1000/(1.73*H11) -> 47.104286 | I7: 9.6448 | J7: 2.0504 | K7: =SQRT(L7^2+M7^2)*1000/(1.73*K11) -> 46.610964 | L7: 9.5392 | M7: 2.0504 | N7: =SQRT(O7^2+P7^2)*1000/(1.73*N11) -> 46.173473 | O7: 9.4512 | P7: 2.024 | Q7: =SQRT(R7^2+S7^2)*1000/(1.73*Q11) -> 45.621489 | R7: 9.3368 | S7: 2.0064 | T7: =SQRT(U7^2+V7^2)*1000/(1.73*T11) -> 46.073698 | U7: 9.4336 | V7: 2.0064 | W7: =SQRT(X7^2+Y7^2)*1000/(1.73*W11) -> 46.649527 | X7: 9.5568 | Y7: 2.0064 | Z7: =SQRT(AA7^2+AB7^2)*1000/(1.73*Z11) -> 49.065792 | AA7: 10.0496 | AB7: 2.1208 | AC7: =SQRT(AD7^2+AE7^2)*1000/(1.73*AC11) -> 51.497241 | AD7: 10.5512 | AE7: 2.2088 | AF7: =SQRT(AG7^2+AH7^2)*1000/(1.73*AF11) -> 51.908782 | AG7: 10.6392 | AH7: 2.2088 | AI7: =SQRT(AJ7^2+AK7^2)*1000/(1.73*AI11) -> 51.249006 | AJ7: 10.5336 | AK7: 2.0328 | AL7: =SQRT(AM7^2+AN7^2)*1000/(1.73*AL11) -> 50.125532 | AM7: 10.3224 | AN7: 1.8832 | AO7: =SQRT(AP7^2+AQ7^2)*1000/(1.73*AO11) -> 49.62934 | AP7: 10.2168 | AQ7: 1.8832
F8: 35 кВ | H8: =SQRT(I8^2+J8^2)*1000/(1.73*H12) -> 12.437281 | I8: =I32 -> 0.756 | J8: =J32 -> 0.1687 | K8: =SQRT(L8^2+M8^2)*1000/(1.73*K12) -> 13.046913 | L8: =L32 -> 0.79135 | M8: =M32 -> 0.18445 | N8: =SQRT(O8^2+P8^2)*1000/(1.73*N12) -> 13.08409 | O8: =O32 -> 0.79485 | P8: =P32 -> 0.17955 | Q8: =SQRT(R8^2+S8^2)*1000/(1.73*Q12) -> 12.595169 | R8: =R32 -> 0.76545 | S8: =S32 -> 0.1715 | T8: =SQRT(U8^2+V8^2)*1000/(1.73*T12) -> 13.115217 | U8: =U32 -> 0.7966 | V8: =V32 -> 0.1806 | W8: =SQRT(X8^2+Y8^2)*1000/(1.73*W12) -> 12.10268 | X8: =X32 -> 0.73535 | Y8: =Y32 -> 0.16555 | Z8: =SQRT(AA8^2+AB8^2)*1000/(1.73*Z12) -> 13.732005 | AA8: =AA32 -> 0.8344 | AB8: =AB32 -> 0.1876 | AC8: =SQRT(AD8^2+AE8^2)*1000/(1.73*AC12) -> 13.59158 | AD8: =AD32 -> 0.82775 | AE8: =AE32 -> 0.1771 | AF8: =SQRT(AG8^2+AH8^2)*1000/(1.73*AF12) -> 13.946066 | AG8: =AG32 -> 0.8498 | AH8: =AH32 -> 0.17955 | AI8: =SQRT(AJ8^2+AK8^2)*1000/(1.73*AI12) -> 12.85496 | AJ8: =AJ32 -> 0.7896 | AK8: =AK32 -> 0.1323 | AL8: =SQRT(AM8^2+AN8^2)*1000/(1.73*AL12) -> 11.954788 | AM8: =AM32 -> 0.73675 | AN8: =AN32 -> 0.10745 | AO8: =SQRT(AP8^2+AQ8^2)*1000/(1.73*AO12) -> 12.99492 | AP8: =AP32 -> 0.7994 | AQ8: =AQ32 -> 0.12635
F9: 10 кВ | H9: =SQRT(I9^2+J9^2)*1000/(1.73*H13) -> 511.467 | I9: =I54+I52 -> 8.925692 | J9: =J54+J52 -> 1.3375 | K9: =SQRT(L9^2+M9^2)*1000/(1.73*K13) -> 503.84528 | L9: =L54+L52 -> 8.788744 | M9: =M54+M52 -> 1.3436 | N9: =SQRT(O9^2+P9^2)*1000/(1.73*N13) -> 498.38023 | O9: =O54+O52 -> 8.693144 | P9: =P54+P52 -> 1.3308 | Q9: =SQRT(R9^2+S9^2)*1000/(1.73*Q13) -> 493.82681 | R9: =R54+R52 -> 8.612112 | S9: =S54+S52 -> 1.3291 | T9: =SQRT(U9^2+V9^2)*1000/(1.73*T13) -> 497.47791 | U9: =U54+U52 -> 8.679868 | V9: =V54+V52 -> 1.3122 | W9: =SQRT(X9^2+Y9^2)*1000/(1.73*W13) -> 507.71702 | X9: =X54+X52 -> 8.862336 | Y9: =Y54+Y52 -> 1.3137 | Z9: =SQRT(AA9^2+AB9^2)*1000/(1.73*Z13) -> 529.96341 | AA9: =AA54+AA52 -> 9.25584 | AB9: =AB54+AB52 -> 1.3358 | AC9: =SQRT(AD9^2+AE9^2)*1000/(1.73*AC13) -> 559.29847 | AD9: =AD54+AD52 -> 9.775172 | AE9: =AE54+AE52 -> 1.3604 | AF9: =SQRT(AG9^2+AH9^2)*1000/(1.73*AF13) -> 562.42337 | AG9: =AG54+AG52 -> 9.834256 | AH9: =AH54+AH52 -> 1.3355 | AI9: =SQRT(AJ9^2+AK9^2)*1000/(1.73*AI13) -> 558.84944 | AJ9: =AJ54+AJ52 -> 9.785788 | AK9: =AK54+AK52 -> 1.2193 | AL9: =SQRT(AM9^2+AN9^2)*1000/(1.73*AL13) -> 549.99523 | AM9: =AM54+AM52 -> 9.639932 | AN9: =AN54+AN52 -> 1.1238 | AO9: =SQRT(AP9^2+AQ9^2)*1000/(1.73*AO13) -> 540.19425 | AP9: =AP54+AP52 -> 9.465708 | AQ9: =AQ54+AQ52 -> 1.1245
D10: РПН | H10: 4 | K10: 4 | N10: 4 | Q10: 4 | T10: 4 | W10: 4 | Z10: 4 | AC10: 4 | AF10: 4 | AI10: 4 | AL10: 4 | AO10: 4
D11: Напряж. | F11: 110 кВ | H11: 121 | K11: 121 | N11: 121 | Q11: 121 | T11: 121 | W11: 121 | Z11: 121 | AC11: 121 | AF11: 121 | AI11: 121 | AL11: 121 | AO11: 121
F12: 35 кВ | H12: 36 | K12: 36 | N12: 36 | Q12: 36 | T12: 36 | W12: 36 | Z12: 36 | AC12: 36 | AF12: 36 | AI12: 36 | AL12: 36 | AO12: 36
F13: 10 кВ | H13: 10.2 | K13: 10.2 | N13: 10.2 | Q13: 10.2 | T13: 10.2 | W13: 10.2 | Z13: 10.2 | AC13: 10.2 | AF13: 10.2 | AI13: 10.2 | AL13: 10.2 | AO13: 10.2
D14: ПБВ | H14: 4 | K14: 4 | N14: 4 | Q14: 4 | T14: 4 | W14: 4 | Z14: 4 | AC14: 4 | AF14: 4 | AI14: 4 | AL14: 4 | AO14: 4
A15: 2Т | C15: 16 | D15: Нагрузка | F15: 110 кВ | H15: =SQRT(I15^2+J15^2)*1000/(1.73*H19) -> 51.158492 | I15: 10.516 | J15: 2.024 | K15: =SQRT(L15^2+M15^2)*1000/(1.73*K19) -> 50.078813 | L15: 10.296 | M15: 1.9712 | N15: =SQRT(O15^2+P15^2)*1000/(1.73*N19) -> 49.650113 | O15: 10.208 | P15: 1.9536 | Q15: =SQRT(R15^2+S15^2)*1000/(1.73*Q19) -> 49.675681 | R15: 10.2168 | S15: 1.936 | T15: =SQRT(U15^2+V15^2)*1000/(1.73*T19) -> 49.923527 | U15: 10.2696 | V15: 1.936 | W15: =SQRT(X15^2+Y15^2)*1000/(1.73*W19) -> 51.307853 | X15: 10.5512 | Y15: 2.0064 | Z15: =SQRT(AA15^2+AB15^2)*1000/(1.73*Z19) -> 53.730712 | AA15: 11.044 | AB15: 2.1296 | AC15: =SQRT(AD15^2+AE15^2)*1000/(1.73*AC19) -> 55.801297 | AD15: 11.4752 | AE15: 2.1824 | AF15: =SQRT(AG15^2+AH15^2)*1000/(1.73*AF19) -> 54.54869 | AG15: 11.22 | AH15: 2.1208 | AI15: =SQRT(AJ15^2+AK15^2)*1000/(1.73*AI19) -> 53.047228 | AJ15: 10.9296 | AK15: 1.9624 | AL15: =SQRT(AM15^2+AN15^2)*1000/(1.73*AL19) -> 52.464968 | AM15: 10.8152 | AN15: 1.9096 | AO15: =SQRT(AP15^2+AQ15^2)*1000/(1.73*AO19) -> 52.479652 | AP15: 10.8152 | AQ15: 1.9272
F16: 35 кВ | H16: =SQRT(I16^2+J16^2)*1000/(1.73*H20) -> 26.736441 | I16: =I33 -> 1.64815 | J16: =J33 -> 0.2373 | K16: =SQRT(L16^2+M16^2)*1000/(1.73*K20) -> 26.549678 | L16: =L33 -> 1.6366 | M16: =M33 -> 0.2359 | N16: =SQRT(O16^2+P16^2)*1000/(1.73*N20) -> 26.374838 | O16: =O33 -> 1.62645 | P16: =P33 -> 0.22995 | Q16: =SQRT(R16^2+S16^2)*1000/(1.73*Q20) -> 26.351885 | R16: =R33 -> 1.6254 | S16: =S33 -> 0.22715 | T16: =SQRT(U16^2+V16^2)*1000/(1.73*T20) -> 26.763631 | U16: =U33 -> 1.65095 | V16: =V33 -> 0.2296 | W16: =SQRT(X16^2+Y16^2)*1000/(1.73*W20) -> 27.401761 | X16: =X33 -> 1.69015 | Y16: =Y33 -> 0.23625 | Z16: =SQRT(AA16^2+AB16^2)*1000/(1.73*Z20) -> 27.359102 | AA16: =AA33 -> 1.68805 | AB16: =AB33 -> 0.23205 | AC16: =SQRT(AD16^2+AE16^2)*1000/(1.73*AC20) -> 28.630062 | AD16: =AD33 -> 1.7675 | AE16: =AE33 -> 0.2352 | AF16: =SQRT(AG16^2+AH16^2)*1000/(1.73*AF20) -> 28.119483 | AG16: =AG33 -> 1.73635 | AH16: =AH33 -> 0.2282 | AI16: =SQRT(AJ16^2+AK16^2)*1000/(1.73*AI20) -> 27.875463 | AJ16: =AJ33 -> 1.7206 | AK16: =AK33 -> 0.23135 | AL16: =SQRT(AM16^2+AN16^2)*1000/(1.73*AL20) -> 27.36467 | AM16: =AM33 -> 1.6884 | AN16: =AN33 -> 0.23205 | AO16: =SQRT(AP16^2+AQ16^2)*1000/(1.73*AO20) -> 27.018755 | AP16: =AP33 -> 1.6667 | AQ16: =AQ33 -> 0.2317
F17: 10 кВ | H17: =SQRT(I17^2+J17^2)*1000/(1.73*H21) -> 510.36953 | I17: =I55+I53 -> 8.920928 | J17: =J55+J53 -> 1.2348 | K17: =SQRT(L17^2+M17^2)*1000/(1.73*K21) -> 498.97825 | L17: =L55+L53 -> 8.720208 | M17: =M55+M53 -> 1.2188 | N17: =SQRT(O17^2+P17^2)*1000/(1.73*N21) -> 494.2846 | O17: =O55+O53 -> 8.636712 | P17: =P55+P53 -> 1.2178 | Q17: =SQRT(R17^2+S17^2)*1000/(1.73*Q21) -> 495.27919 | R17: =R55+R53 -> 8.656088 | S17: =S55+S53 -> 1.206 | T17: =SQRT(U17^2+V17^2)*1000/(1.73*T21) -> 496.27942 | U17: =U55+U53 -> 8.676008 | V17: =V55+V53 -> 1.1908 | W17: =SQRT(X17^2+Y17^2)*1000/(1.73*W21) -> 510.34994 | X17: =X55+X53 -> 8.92204 | Y17: =Y55+Y53 -> 1.2242 | Z17: =SQRT(AA17^2+AB17^2)*1000/(1.73*Z21) -> 538.75705 | AA17: =AA55+AA53 -> 9.421832 | AB17: =AB55+AB53 -> 1.269 | AC17: =SQRT(AD17^2+AE17^2)*1000/(1.73*AC21) -> 558.27357 | AD17: =AD55+AD53 -> 9.770488 | AE17: =AE55+AE53 -> 1.2592 | AF17: =SQRT(AG17^2+AH17^2)*1000/(1.73*AF21) -> 545.64932 | AG17: =AG55+AG53 -> 9.547984 | AH17: =AH55+AH53 -> 1.2428 | AI17: =SQRT(AJ17^2+AK17^2)*1000/(1.73*AI21) -> 529.07473 | AJ17: =AJ55+AJ53 -> 9.269472 | AK17: =AK55+AK53 -> 1.113 | AL17: =SQRT(AM17^2+AN17^2)*1000/(1.73*AL21) -> 524.61577 | AM17: =AM55+AM53 -> 9.193496 | AN17: =AN55+AN53 -> 1.0856 | AO17: =SQRT(AP17^2+AQ17^2)*1000/(1.73*AO21) -> 526.11138 | AP17: =AP55+AP53 -> 9.219504 | AQ17: =AQ55+AQ53 -> 1.0904
D18: РПН | H18: 4 | K18: 5 | N18: 5 | Q18: 5 | T18: 5 | W18: 5 | Z18: 5 | AC18: 5 | AF18: 5 | AI18: 5 | AL18: 5 | AO18: 5
D19: Напряж. | F19: 110 кВ | H19: 121 | K19: 121 | N19: 121 | Q19: 121 | T19: 121 | W19: 121 | Z19: 121 | AC19: 121 | AF19: 121 | AI19: 121 | AL19: 121 | AO19: 121
F20: 35 кВ | H20: 36 | K20: 36 | N20: 36 | Q20: 36 | T20: 36 | W20: 36 | Z20: 36 | AC20: 36 | AF20: 36 | AI20: 36 | AL20: 36 | AO20: 36
F21: 10 кВ | H21: 10.2 | K21: 10.2 | N21: 10.2 | Q21: 10.2 | T21: 10.2 | W21: 10.2 | Z21: 10.2 | AC21: 10.2 | AF21: 10.2 | AI21: 10.2 | AL21: 10.2 | AO21: 10.2
D22: ПБВ | H22: - | K22: - | Q22: - | T22: - | W22: - | Z22: - | AC22: - | AF22: - | AL22: - | AO22: -
A23: Всего | F23: 110 кВ | H23: =H15+H7 -> 98.262777 | I23: =I15+I7 -> 20.1608 | J23: =J15+J7 -> 4.0744 | K23: =K15+K7 -> 96.689777 | L23: =L15+L7 -> 19.8352 | M23: =M15+M7 -> 4.0216 | N23: =N15+N7 -> 95.823587 | O23: =O15+O7 -> 19.6592 | ... AQ23: =AQ15+AQ7 -> 3.8104
F24: 35 кВ | H24: =H16+H8 -> 39.173723 | I24: =I16+I8 -> 2.40415 | J24: =J16+J8 -> 0.406 | K24: =K16+K8 -> 39.596591 | L24: =L16+L8 -> 2.42795 | M24: =M16+M8 -> 0.42035 | N24: =N16+N8 -> 39.458928 | O24: =O16+O8 -> 2.4213 | ... AQ24: =AQ16+AQ8 -> 0.35805
F25: 10 кВ | H25: =H17+H9 -> 1021.8365 | I25: =I17+I9 -> 17.84662 | J25: =J17+J9 -> 2.5723 | K25: =K17+K9 -> 1002.8235 | L25: =L17+L9 -> 17.508952 | M25: =M17+M9 -> 2.5624 | N25: =N17+N9 -> 992.66483 | O25: =O17+O9 -> 17.329856 | ... AQ25: =AQ17+AQ9 -> 2.2149
A26: cosФ(110)= | B26: 0 | D26: tgФ(110)= | E26: 0
A27: cosФ(35)= | B27: =(I24+L24+O24+R24+U24+X24+AA24+AD24+AG24+AJ24+AM24+AP24+I94+L94+O94+R94+U94+X94+AA94+AD94+AG94+AJ94+AM94+AP94)/SQRT((I24+L24+O24+R24+U24+X24+AA24+AD24+AG24+AJ24+AM24+AP24+I94+L94+O94+R94+U94+X94+AA94+AD94+AG94+AJ94+AM94+AP94)^2+(J24+M24+P24+S24+V24+Y24+AB24+AE24+AH24+AK24+AN24+J94+M94+P94+S94+V94+Y94+AB94+AE94+AH94+AK94+AN94+AQ94+AQ24)^2) -> 0.98744206 | D27: tgФ(35)= | E27: =(J24+M24+P24+S24+V24+Y24+AB24+AE24+AH24+AK24+AN24+J94+M94+P94+S94+V94+Y94+AB94+AE94+AH94+AK94+AN94+AQ94+AQ24)/(I24+L24+O24+R24+U24+X24+AA24+AD24+AG24+AJ24+AM24+AP24+I94+L94+O94+R94+U94+X94+AA94+AD94+AG94+AJ94+AM94+AP94) -> 0.15999071
A28: cosФ(10)= | B28: =(I25+L25+O25+R25+U25+X25+AA25+AD25+AG25+AJ25+AM25+AP25+I95+L95+O95+R95+U95+X95+AA95+AD95+AG95+AJ95+AM95+AP95)/SQRT((I25+L25+O25+R25+U25+X25+AA25+AD25+AG25+AJ25+AM25+AP25+I95+L95+O95+R95+U95+X95+AA95+AD95+AG95+AJ95+AM95+AP95)^2+(J25+M25+P25+S25+V25+Y25+AB25+AE25+AH25+AK25+AN25+J95+M95+P95+S95+V95+Y95+AB95+AE95+AH95+AK95+AN95+AQ95+AQ25)^2) -> 0.99128872 | D28: tgФ(10)= | E28: =(J25+M25+P25+S25+V25+Y25+AB25+AE25+AH25+AK25+AN25+J95+M95+P95+S95+V95+Y95+AB95+AE95+AH95+AK95+AN95+AQ95+AQ25)/(I25+L25+O25+R25+U25+X25+AA25+AD25+AG25+AJ25+AM25+AP25+I95+L95+O95+R95+U95+X95+AA95+AD95+AG95+AJ95+AM95+AP95) -> 0.13286418
A30: Замер по | D30: Уст.ЧАПВ | F30: Уст.АЧР | H30: 1 час. | K30: 2 час. | N30: 3 час. | Q30: 4 час. | T30: 5 час. | W30: 6 час. | Z30: 7 час. | AC30: 8 час. | AF30: 9 час. | AI30: 10 час. | AL30: 11 час. | AO30: 12 час.
A31: ВЛ- 35 кВ | D31: герц | E31: сек | F31: герц | G31: сек
A32: ВЛ-35 кВ | B32: ф."ВЛ Ямки" | H32: =SQRT(I32^2+J32^2)*1000/(1.73*H20) -> 12.437281 | I32: 0.756 | J32: 0.1687 | K32: =SQRT(L32^2+M32^2)*1000/(1.73*K20) -> 13.046913 | L32: 0.79135 | M32: 0.18445 | N32: =SQRT(O32^2+P32^2)*1000/(1.73*N20) -> 13.08409 | O32: 0.79485 | P32: 0.17955 | Q32: =SQRT(R32^2+S32^2)*1000/(1.73*Q20) -> 12.595169 | R32: 0.76545 | S32: 0.1715 | T32: =SQRT(U32^2+V32^2)*1000/(1.73*T20) -> 13.115217 | U32: 0.7966 | V32: 0.1806 | W32: =SQRT(X32^2+Y32^2)*1000/(1.73*W20) -> 12.10268 | X32: 0.73535 | Y32: 0.16555 | Z32: =SQRT(AA32^2+AB32^2)*1000/(1.73*Z20) -> 13.732005 | AA32: 0.8344 | AB32: 0.1876 | AC32: =SQRT(AD32^2+AE32^2)*1000/(1.73*AC20) -> 13.59158 | AD32: 0.82775 | AE32: 0.1771 | AF32: =SQRT(AG32^2+AH32^2)*1000/(1.73*AF20) -> 13.946066 | AG32: 0.8498 | AH32: 0.17955 | AI32: =SQRT(AJ32^2+AK32^2)*1000/(1.73*AI20) -> 12.85496 | AJ32: 0.7896 | AK32: 0.1323 | AL32: =SQRT(AM32^2+AN32^2)*1000/(1.73*AL20) -> 11.954788 | AM32: 0.73675 | AN32: 0.10745 | AO32: =SQRT(AP32^2+AQ32^2)*1000/(1.73*AO20) -> 12.99492 | AP32: 0.7994 | AQ32: 0.12635
A33: ВЛ-35 кВ | B33: ф."ВЛ ЛПК" | H33: =SQRT(I33^2+J33^2)*1000/(1.73*H20) -> 26.736441 | I33: 1.64815 | J33: 0.2373 | K33: =SQRT(L33^2+M33^2)*1000/(1.73*K20) -> 26.549678 | L33: 1.6366 | M33: 0.2359 | N33: =SQRT(O33^2+P33^2)*1000/(1.73*N20) -> 26.374838 | O33: 1.62645 | P33: 0.22995 | Q33: =SQRT(R33^2+S33^2)*1000/(1.73*Q20) -> 26.351885 | R33: 1.6254 | S33: 0.22715 | T33: =SQRT(U33^2+V33^2)*1000/(1.73*T20) -> 26.763631 | U33: 1.65095 | V33: 0.2296 | W33: =SQRT(X33^2+Y33^2)*1000/(1.73*W20) -> 27.401761 | X33: 1.69015 | Y33: 0.23625 | Z33: =SQRT(AA33^2+AB33^2)*1000/(1.73*Z20) -> 27.359102 | AA33: 1.68805 | AB33: 0.23205 | AC33: =SQRT(AD33^2+AE33^2)*1000/(1.73*AC20) -> 28.630062 | AD33: 1.7675 | AE33: 0.2352 | AF33: =SQRT(AG33^2+AH33^2)*1000/(1.73*AF20) -> 28.119483 | AG33: 1.73635 | AH33: 0.2282 | AI33: =SQRT(AJ33^2+AK33^2)*1000/(1.73*AI20) -> 27.875463 | AJ33: 1.7206 | AK33: 0.23135 | AL33: =SQRT(AM33^2+AN33^2)*1000/(1.73*AL20) -> 27.36467 | AM33: 1.6884 | AN33: 0.23205 | AO33: =SQRT(AP33^2+AQ33^2)*1000/(1.73*AO20) -> 27.018755 | AP33: 1.6667 | AQ33: 0.2317
A34: Итого по отх.ВЛ от 1С-35 кВ | H34: =H32 -> 12.437281 | I34: =I32 -> 0.756 | J34: =J32 -> 0.1687 | K34: =K32 -> 13.046913 | L34: =L32 -> 0.79135 | M34: =M32 -> 0.18445 | N34: =N32 -> 13.08409 | O34: =O32 -> 0.79485 | ... AQ34: =AQ32 -> 0.12635
A35: Итого по отх.ВЛ от 2С-35 кВ | H35: =H33 -> 26.736441 | I35: =I33 -> 1.64815 | J35: =J33 -> 0.2373 | K35: =K33 -> 26.549678 | L35: =L33 -> 1.6366 | M35: =M33 -> 0.2359 | N35: =N33 -> 26.374838 | O35: =O33 -> 1.62645 | ... AQ35: =AQ33 -> 0.2317
A36: Итого по ВЛ-35 кВ | H36: =H34+H35 -> 39.173723 | I36: =I34+I35 -> 2.40415 | J36: =J34+J35 -> 0.406 | K36: =K34+K35 -> 39.596591 | L36: =L34+L35 -> 2.42795 | M36: =M34+M35 -> 0.42035 | N36: =N34+N35 -> 39.458928 | O36: =O34+O35 -> 2.4213 | ... AQ36: =AQ34+AQ35 -> 0.35805
A38: Замер по | D38: Уст.ЧАПВ | F38: Уст.АЧР | H38: 1 час. | K38: 2 час. | N38: 3 час. | Q38: 4 час. | T38: 5 час. | W38: 6 час. | Z38: 7 час. | AC38: 8 час. | AF38: 9 час. | AI38: 10 час. | AL38: 11 час. | AO38: 12 час.
A39: ВЛ- 10 кВ | D39: герц | E39: сек | F39: герц | G39: сек
A40: яч.5 | B40: ф."Нефтяник-1" | H40: =SQRT(I40^2+J40^2)*1000/(1.73*H21) -> 127.53209 | I40: 2.2264 | J40: 0.328 | K40: =SQRT(L40^2+M40^2)*1000/(1.73*K21) -> 124.29479 | L40: 2.1696 | M40: 0.3216 | N40: =SQRT(O40^2+P40^2)*1000/(1.73*N21) -> 121.5328 | O40: 2.1208 | P40: 0.3184 | Q40: =SQRT(R40^2+S40^2)*1000/(1.73*Q21) -> 121.21495 | R40: 2.1144 | S40: 0.3232 | T40: =SQRT(U40^2+V40^2)*1000/(1.73*T21) -> 121.03291 | U40: 2.112 | V40: 0.3176 | W40: =SQRT(X40^2+Y40^2)*1000/(1.73*W21) -> 126.36463 | X40: 2.2064 | Y40: 0.3224 | Z40: =SQRT(AA40^2+AB40^2)*1000/(1.73*Z21) -> 133.66669 | AA40: 2.3352 | AB40: 0.332 | AC40: =SQRT(AD40^2+AE40^2)*1000/(1.73*AC21) -> 141.21744 | AD40: 2.4696 | AE40: 0.3328 | AF40: =SQRT(AG40^2+AH40^2)*1000/(1.73*AF21) -> 148.13883 | AG40: 2.5936 | AH40: 0.3264 | AI40: =SQRT(AJ40^2+AK40^2)*1000/(1.73*AI21) -> 147.6811 | AJ40: 2.588 | AK40: 0.3056 | AL40: =SQRT(AM40^2+AN40^2)*1000/(1.73*AL21) -> 145.56486 | AM40: 2.5528 | AN40: 0.2848 | AO40: =SQRT(AP40^2+AQ40^2)*1000/(1.73*AO21) -> 144.71388 | AP40: 2.5376 | AQ40: 0.2856
A41: яч.7 | B41: ф."Луговой" | H41: =SQRT(I41^2+J41^2)*1000/(1.73*H21) -> 126.73538 | I41: 2.2224 | J41: 0.2496 | K41: =SQRT(L41^2+M41^2)*1000/(1.73*K21) -> 123.33497 | L41: 2.1618 | M41: 0.2514 | N41: =SQRT(O41^2+P41^2)*1000/(1.73*N21) -> 123.23952 | O41: 2.1612 | P41: 0.2418 | Q41: =SQRT(R41^2+S41^2)*1000/(1.73*Q21) -> 121.77897 | R41: 2.1354 | S41: 0.2406 | T41: =SQRT(U41^2+V41^2)*1000/(1.73*T21) -> 122.01549 | U41: 2.1396 | V41: 0.2406 | W41: =SQRT(X41^2+Y41^2)*1000/(1.73*W21) -> 122.97679 | X41: 2.1564 | Y41: 0.243 | Z41: =SQRT(AA41^2+AB41^2)*1000/(1.73*Z21) -> 127.02117 | AA41: 2.2284 | AB41: 0.2412 | AC41: =SQRT(AD41^2+AE41^2)*1000/(1.73*AC21) -> 130.38988 | AD41: 2.2878 | AE41: 0.2448 | AF41: =SQRT(AG41^2+AH41^2)*1000/(1.73*AF21) -> 126.20733 | AG41: 2.2146 | AH41: 0.2352 | AI41: =SQRT(AJ41^2+AK41^2)*1000/(1.73*AI21) -> 122.98827 | AJ41: 2.1612 | AK41: 0.198 | AL41: =SQRT(AM41^2+AN41^2)*1000/(1.73*AL21) -> 121.17253 | AM41: 2.13 | AN41: 0.1872 | AO41: =SQRT(AP41^2+AQ41^2)*1000/(1.73*AO21) -> 121.21838 | AP41: 2.1306 | AQ41: 0.1896
A42: яч.9 | B42: ф."Вокзал" | H42: =SQRT(I42^2+J42^2)*1000/(1.73*H21) -> 1.1345625 | I42: 0.0161 | J42: 0.0119 | K42: =SQRT(L42^2+M42^2)*1000/(1.73*K21) -> 1.117536 | L42: 0.0158 | M42: 0.0118 | N42: =SQRT(O42^2+P42^2)*1000/(1.73*N21) -> 1.1505559 | O42: 0.0168 | P42: 0.0114 | Q42: =SQRT(R42^2+S42^2)*1000/(1.73*Q21) -> 1.1324517 | R42: 0.0162 | S42: 0.0117 | T42: =SQRT(U42^2+V42^2)*1000/(1.73*T21) -> 1.1245403 | U42: 0.0161 | V42: 0.0116 | W42: =SQRT(X42^2+Y42^2)*1000/(1.73*W21) -> 1.1166304 | X42: 0.016 | Y42: 0.0115 | Z42: =SQRT(AA42^2+AB42^2)*1000/(1.73*Z21) -> 1.499606 | AA42: 0.0218 | AB42: 0.015 | AC42: =SQRT(AD42^2+AE42^2)*1000/(1.73*AC21) -> 2.9152054 | AD42: 0.0455 | AE42: 0.024 | AF42: =SQRT(AG42^2+AH42^2)*1000/(1.73*AF21) -> 3.0590133 | AG42: 0.0484 | AH42: 0.0239 | AI42: =SQRT(AJ42^2+AK42^2)*1000/(1.73*AI21) -> 1.8939167 | AJ42: 0.0303 | AK42: 0.0141 | AL42: =SQRT(AM42^2+AN42^2)*1000/(1.73*AL21) -> 1.8476615 | AM42: 0.0299 | AN42: 0.013 | AO42: =SQRT(AP42^2+AQ42^2)*1000/(1.73*AO21) -> 1.6804371 | AP42: 0.0267 | AQ42: 0.0129
A43: яч.11 | B43: ф."Лиственничный" | H43: =SQRT(I43^2+J43^2)*1000/(1.73*H21) -> 76.294857 | I43: 1.3316 | J43: 0.1984 | K43: =SQRT(L43^2+M43^2)*1000/(1.73*K21) -> 76.608759 | L43: 1.3372 | M43: 0.1984 | N43: =SQRT(O43^2+P43^2)*1000/(1.73*N21) -> 76.089732 | O43: 1.328 | P43: 0.198 | Q43: =SQRT(R43^2+S43^2)*1000/(1.73*Q21) -> 76.015057 | R43: 1.3272 | S43: 0.1944 | T43: =SQRT(U43^2+V43^2)*1000/(1.73*T21) -> 76.259123 | U43: 1.3312 | V43: 0.1968 | W43: =SQRT(X43^2+Y43^2)*1000/(1.73*W21) -> 78.659323 | X43: 1.374 | Y43: 0.1968 | Z43: =SQRT(AA43^2+AB43^2)*1000/(1.73*Z21) -> 80.050611 | AA43: 1.3984 | AB43: 0.1996 | AC43: =SQRT(AD43^2+AE43^2)*1000/(1.73*AC21) -> 82.217745 | AD43: 1.436 | AE43: 0.2068 | AF43: =SQRT(AG43^2+AH43^2)*1000/(1.73*AF21) -> 82.312175 | AG43: 1.4356 | AH43: 0.2208 | AI43: =SQRT(AJ43^2+AK43^2)*1000/(1.73*AI21) -> 80.958781 | AJ43: 1.4152 | AK43: 0.1952 | AL43: =SQRT(AM43^2+AN43^2)*1000/(1.73*AL21) -> 79.430331 | AM43: 1.392 | AN43: 0.164 | AO43: =SQRT(AP43^2+AQ43^2)*1000/(1.73*AO21) -> 75.166534 | AP43: 1.3168 | AQ43: 0.1592
...

Sheet ПС 110-10 Лорба
A1: Ведомость контрольного замера по ПС: 110/10 кВ «Лорба»
A2: Дата: 18.12.2024
A4: Замер по трансформаторам | H4: 1 час | K4: 2 час | N4: 3 час | Q4: 4 час | T4: 5 час | W4: 6 час | Z4: 7 час | AC4: 8 час | AF4: 9 час | AI4: 10 час | AL4: 11 час | AO4: 12 час | AR4: 13 час | AU4: 14 час | AX4: 15 час | BA4: 16 час | BD4: 17 час | BG4: 18 час | BJ4: 19 час | BM4: 20 час | BP4: 21 час | BS4: 22 час | BV4: 23 час | BY4: 00 час
A5: Диспет. наимен. | C5: S ном, МВА | H5: Ток | I5: Pнагр. | J5: Qнагр. | K5: Ток | L5: Pнагр. | M5: Qнагр. | N5: Ток | O5: Pнагр. | P5: Qнагр. | Q5: Ток | R5: Pнагр. | S5: Qнагр. | T5: Ток | U5: Pнагр. | V5: Qнагр. | W5: Ток | X5: Pнагр. | Y5: Qнагр. | Z5: Ток | AA5: Pнагр. | AB5: Qнагр. | AC5: Ток | AD5: Pнагр. | AE5: Qнагр. | AF5: Ток | AG5: Pнагр. | AH5: Qнагр. | AI5: Ток | AJ5: Pнагр. | AK5: Qнагр. | AL5: Ток | AM5: Pнагр. | AN5: Qнагр. | AO5: Ток | AP5: Pнагр. | AQ5: Qнагр. | AR5: Ток | AS5: Pнагр. | AT5: Qнагр. | AU5: Ток | AV5: Pнагр. | AW5: Qнагр. | AX5: Ток | AY5: Pнагр. | AZ5: Qнагр. | BA5: Ток | BB5: Pнагр. | BC5: Qнагр. | BD5: Ток | BE5: Pнагр. | BF5: Qнагр. | BG5: Ток | BH5: Pнагр. | BI5: Qнагр. | BJ5: Ток | BK5: Pнагр. | BL5: Qнагр. | BM5: Ток | BN5: Pнагр. | BO5: Qнагр. | BP5: Ток | BQ5: Pнагр. | BR5: Qнагр. | BS5: Ток | BT5: Pнагр. | BU5: Qнагр. | BV5: Ток | BW5: Pнагр. | BX5: Qнагр. | BY5: Ток | BZ5: Pнагр. | CA5: Qнагр.
H6: А | I6: МВт | J6: Мвар | K6: А | L6: МВт | M6: Мвар | N6: А | O6: МВт | P6: Мвар | Q6: А | R6: МВт | S6: Мвар | T6: А | U6: МВт | V6: Мвар | W6: А | X6: МВт | Y6: Мвар | Z6: А | AA6: МВт | AB6: Мвар | AC6: А | AD6: МВт | AE6: Мвар | AF6: А | AG6: МВт | AH6: Мвар | AI6: А | AJ6: МВт | AK6: Мвар | AL6: А | AM6: МВт | AN6: Мвар | AO6: А | AP6: МВт | AQ6: Мвар | AR6: А | AS6: МВт | AT6: Мвар | AU6: А | AV6: МВт | AW6: Мвар | AX6: А | AY6: МВт | AZ6: Мвар | BA6: А | BB6: МВт | BC6: Мвар | BD6: А | BE6: МВт | BF6: Мвар | BG6: А | BH6: МВт | BI6: Мвар | BJ6: А | BK6: МВт | BL6: Мвар | BM6: А | BN6: МВт | BO6: Мвар | BP6: А | BQ6: МВт | BR6: Мвар | BS6: А | BT6: МВт | BU6: Мвар | BV6: А | BW6: МВт | BX6: Мвар | BY6: А | BZ6: МВт | CA6: Мвар
A7: 1Т (КРУН-6 яч. 1 + ТСН ПС 110/6 кВ Лорба) | C7: 2.5 | D7: Нагрузка | F7: 110 кВ | H7: =ROUND(SQRT(I7^2+J7^2)*1000/(SQRT(3)*I10),2) -> 0 | K7: =ROUND(SQRT(L7^2+M7^2)*1000/(SQRT(3)*L10),2) -> 0 | N7: =ROUND(SQRT(O7^2+P7^2)*1000/(SQRT(3)*O10),2) -> 0 | Q7: =ROUND(SQRT(R7^2+S7^2)*1000/(SQRT(3)*R10),2) -> 0 | T7: =ROUND(SQRT(U7^2+V7^2)*1000/(SQRT(3)*U10),2) -> 0 | W7: =ROUND(SQRT(X7^2+Y7^2)*1000/(SQRT(3)*X10),2) -> 0 | Z7: =ROUND(SQRT(AA7^2+AB7^2)*1000/(SQRT(3)*AA10),2) -> 0 | AC7: =ROUND(SQRT(AD7^2+AE7^2)*1000/(SQRT(3)*AD10),2) -> 0 | AF7: =ROUND(SQRT(AG7^2+AH7^2)*1000/(SQRT(3)*AG10),2) -> 0 | AI7: =ROUND(SQRT(AJ7^2+AK7^2)*1000/(SQRT(3)*AJ10),2) -> 0 | AL7: =ROUND(SQRT(AM7^2+AN7^2)*1000/(SQRT(3)*AM10),2) -> 0 | AO7: =ROUND(SQRT(AP7^2+AQ7^2)*1000/(SQRT(3)*AP10),2) -> 0 | AR7: =ROUND(SQRT(AS7^2+AT7^2)*1000/(SQRT(3)*AS10),2) -> 0 | AU7: =ROUND(SQRT(AV7^2+AW7^2)*1000/(SQRT(3)*AV10),2) -> 0 | AX7: =ROUND(SQRT(AY7^2+AZ7^2)*1000/(SQRT(3)*AY10),2) -> 0 | BA7: =ROUND(SQRT(BB7^2+BC7^2)*1000/(SQRT(3)*BB10),2) -> 0 | BD7: =ROUND(SQRT(BE7^2+BF7^2)*1000/(SQRT(3)*BE10),2) -> 0 | BG7: =ROUND(SQRT(BH7^2+BI7^2)*1000/(SQRT(3)*BH10),2) -> 0 | BJ7: =ROUND(SQRT(BK7^2+BL7^2)*1000/(SQRT(3)*BK10),2) -> 0 | BM7: =ROUND(SQRT(BN7^2+BO7^2)*1000/(SQRT(3)*BN10),2) -> 0 | BP7: =ROUND(SQRT(BQ7^2+BR7^2)*1000/(SQRT(3)*BQ10),2) -> 0 | BS7: =ROUND(SQRT(BT7^2+BU7^2)*1000/(SQRT(3)*BT10),2) -> 0 | BV7: =ROUND(SQRT(BW7^2+BX7^2)*1000/(SQRT(3)*BW10),2) -> 0 | BY7: =ROUND(SQRT(BZ7^2+CA7^2)*1000/(SQRT(3)*BZ10),2) -> 0
F8: 6 кВ | H8: =ROUND(SQRT(I8^2+J8^2)*1000/(SQRT(3)*I11),2) -> 3.29 | I8: =I20+I12 -> 0.032592 | J8: =J20+J12 -> 0.015096 | K8: =ROUND(SQRT(L8^2+M8^2)*1000/(SQRT(3)*L11),2) -> 3.26 | L8: =L20+L12 -> 0.03212 | M8: =M20+M12 -> 0.015344 | N8: =ROUND(SQRT(O8^2+P8^2)*1000/(SQRT(3)*O11),2) -> 3.27 | O8: =O20+O12 -> 0.03236 | P8: =P20+P12 -> 0.015112 | Q8: =ROUND(SQRT(R8^2+S8^2)*1000/(SQRT(3)*R11),2) -> 3.25 | R8: =R20+R12 -> 0.032112 | S8: =S20+S12 -> 0.015104 | T8: =ROUND(SQRT(U8^2+V8^2)*1000/(SQRT(3)*U11),2) -> 3.23 | U8: =U20+U12 -> 0.03188 | V8: =V20+V12 -> 0.015104 | W8: =ROUND(SQRT(X8^2+Y8^2)*1000/(SQRT(3)*X11),2) -> 3.3 | X8: =X20+X12 -> 0.032832 | Y8: =Y20+Y12 -> 0.014864 | Z8: =ROUND(SQRT(AA8^2+AB8^2)*1000/(SQRT(3)*AA11),2) -> 3.37 | AA8: =AA20+AA12 -> 0.03356 | AB8: =AB20+AB12 -> 0.015104 | AC8: =ROUND(SQRT(AD8^2+AE8^2)*1000/(SQRT(3)*AD11),2) -> 3.28 | AD8: =AD20+AD12 -> 0.032592 | AE8: =AE20+AE12 -> 0.014864 | AF8: =ROUND(SQRT(AG8^2+AH8^2)*1000/(SQRT(3)*AG11),2) -> 3.53 | AG8: =AG20+AG12 -> 0.03548 | AH8: =AH20+AH12 -> 0.014864 | AI8: =ROUND(SQRT(AJ8^2+AK8^2)*1000/(SQRT(3)*AJ11),2) -> 3.54 | AJ8: =AJ20+AJ12 -> 0.035712 | AK8: =AK20+AK12 -> 0.014624 | AL8: =ROUND(SQRT(AM8^2+AN8^2)*1000/(SQRT(3)*AM11),2) -> 3.52 | AM8: =AM20+AM12 -> 0.035472 | AN8: =AN20+AN12 -> 0.014624 | AO8: =ROUND(SQRT(AP8^2+AQ8^2)*1000/(SQRT(3)*AP11),2) -> 3.26 | AP8: =AP20+AP12 -> 0.032592 | AQ8: =AQ20+AQ12 -> 0.014376 | AR8: =ROUND(SQRT(AS8^2+AT8^2)*1000/(SQRT(3)*AS11),2) -> 3.38 | AS8: =AS20+AS12 -> 0.033792 | AT8: =AT20+AT12 -> 0.014856 | AU8: =ROUND(SQRT(AV8^2+AW8^2)*1000/(SQRT(3)*AV11),2) -> 3.47 | AV8: =AV20+AV12 -> 0.03476 | AW8: =AW20+AW12 -> 0.015104 | AX8: =ROUND(SQRT(AY8^2+AZ8^2)*1000/(SQRT(3)*AY11),2) -> 3.44 | AY8: =AY20+AY12 -> 0.03452 | AZ8: =AZ20+AZ12 -> 0.014624 | BA8: =ROUND(SQRT(BB8^2+BC8^2)*1000/(SQRT(3)*BB11),2) -> 3.09 | BB8: =BB20+BB12 -> 0.030432 | BC8: =BC20+BC12 -> 0.014624 | BD8: =ROUND(SQRT(BE8^2+BF8^2)*1000/(SQRT(3)*BE11),2) -> 3.27 | BE8: =BE20+BE12 -> 0.0326 | BF8: =BF20+BF12 -> 0.014632 | BG8: =ROUND(SQRT(BH8^2+BI8^2)*1000/(SQRT(3)*BH11),2) -> 3.41 | BH8: =BH20+BH12 -> 0.034032 | BI8: =BI20+BI12 -> 0.015104 | BJ8: =ROUND(SQRT(BK8^2+BL8^2)*1000/(SQRT(3)*BK11),2) -> 3.25 | BK8: =BK20+BK12 -> 0.03212 | BL8: =BL20+BL12 -> 0.015104 | BM8: =ROUND(SQRT(BN8^2+BO8^2)*1000/(SQRT(3)*BN11),2) -> 3.23 | BN8: =BN20+BN12 -> 0.03188 | BO8: =BO20+BO12 -> 0.015104 | BP8: =ROUND(SQRT(BQ8^2+BR8^2)*1000/(SQRT(3)*BQ11),2) -> 3.23 | BQ8: =BQ20+BQ12 -> 0.03188 | BR8: =BR20+BR12 -> 0.015112 | BS8: =ROUND(SQRT(BT8^2+BU8^2)*1000/(SQRT(3)*BT11),2) -> 3.22 | BT8: =BT20+BT12 -> 0.03188 | BU8: =BU20+BU12 -> 0.014864 | BV8: =ROUND(SQRT(BW8^2+BX8^2)*1000/(SQRT(3)*BW11),2) -> 3.14 | BW8: =BW20+BW12 -> 0.03092 | BX8: =BX20+BX12 -> 0.014864 | BY8: =ROUND(SQRT(BZ8^2+CA8^2)*1000/(SQRT(3)*BZ11),2) -> 3.16 | BZ8: =BZ20+BZ12 -> 0.03116 | CA8: =CA20+CA12 -> 0.014864 | CB8: =SUM(BZ8,BW8,BT8,BQ8,BN8,BK8,BH8,BE8,BB8,AY8,AV8,AS8,AP8,AM8,AJ8,AG8,AD8,AA8,X8,U8,R8,O8,L8,I8) -> 0.78928 | CC8: =SUM(CA8,BX8,BU8,BR8,BO8,BL8,BI8,BF8,BC8,AZ8,AW8,AT8,AQ8,AN8,AK8,AH8,AE8,AB8,Y8,V8,S8,P8,M8,J8) -> 0.357936
D9: РПН | I9: 7 | L9: 7 | O9: 7 | R9: 7 | U9: 7 | X9: 7 | AA9: 7 | AD9: 7 | AG9: 7 | AJ9: 7 | AM9: 7 | AP9: 7 | AS9: 7 | AV9: 7 | AY9: 7 | BB9: 7 | BE9: 7 | BH9: 7 | BK9: 7 | BN9: 7 | BQ9: 7 | BT9: 7 | BW9: 7 | BZ9: 7
D10: Напряж. | F10: 110 кВ | I10: 115 | L10: 115 | O10: 115 | R10: 115 | U10: 115 | X10: 115 | AA10: 115 | AD10: 115 | AG10: 115 | AJ10: 115 | AM10: 115 | AP10: 115 | AS10: 115 | AV10: 115 | AY10: 115 | BB10: 115 | BE10: 115 | BH10: 115 | BK10: 115 | BN10: 115 | BQ10: 115 | BT10: 115 | BW10: 115 | BZ10: 115
F11: 6 кВ | I11: 6.3 | L11: 6.3 | O11: 6.3 | R11: 6.3 | U11: 6.3 | X11: 6.3 | AA11: 6.3 | AD11: 6.3 | AG11: 6.3 | AJ11: 6.3 | AM11: 6.3 | AP11: 6.3 | AS11: 6.3 | AV11: 6.3 | AY11: 6.3 | BB11: 6.3 | BE11: 6.3 | BH11: 6.3 | BK11: 6.3 | BN11: 6.3 | BQ11: 6.3 | BT11: 6.3 | BW11: 6.3 | BZ11: 6.3
A12: ТСН-1 | D12: Нагрузка | H12: =ROUND(SQRT(I12^2+J12^2)*1000/(SQRT(3)*I13),2) -> 3.46 | I12: 0.002352 | J12: =-1*-0.000456 -> 0.000456 | K12: =ROUND(SQRT(L12^2+M12^2)*1000/(SQRT(3)*L13),2) -> 3.47 | L12: 0.00236 | M12: =-1*-0.000464 -> 0.000464 | N12: =ROUND(SQRT(O12^2+P12^2)*1000/(SQRT(3)*O13),2) -> 3.47 | O12: 0.00236 | P12: =-1*-0.000472 -> 0.000472 | Q12: =ROUND(SQRT(R12^2+S12^2)*1000/(SQRT(3)*R13),2) -> 3.46 | R12: 0.002352 | S12: =-1*-0.000464 -> 0.000464 | T12: =ROUND(SQRT(U12^2+V12^2)*1000/(SQRT(3)*U13),2) -> 3.47 | U12: 0.00236 | V12: =-1*-0.000464 -> 0.000464 | W12: =ROUND(SQRT(X12^2+Y12^2)*1000/(SQRT(3)*X13),2) -> 3.46 | X12: 0.002352 | Y12: =-1*-0.000464 -> 0.000464 | Z12: =ROUND(SQRT(AA12^2+AB12^2)*1000/(SQRT(3)*AA13),2) -> 3.47 | AA12: 0.00236 | AB12: =-1*-0.000464 -> 0.000464 | AC12: =ROUND(SQRT(AD12^2+AE12^2)*1000/(SQRT(3)*AD13),2) -> 3.46 | AD12: 0.002352 | AE12: =-1*-0.000464 -> 0.000464 | AF12: =ROUND(SQRT(AG12^2+AH12^2)*1000/(SQRT(3)*AG13),2) -> 3.47 | AG12: 0.00236 | AH12: =-1*-0.000464 -> 0.000464 | AI12: =ROUND(SQRT(AJ12^2+AK12^2)*1000/(SQRT(3)*AJ13),2) -> 3.46 | AJ12: 0.002352 | AK12: =-1*-0.000464 -> 0.000464 | AL12: =ROUND(SQRT(AM12^2+AN12^2)*1000/(SQRT(3)*AM13),2) -> 3.46 | AM12: 0.002352 | AN12: =-1*-0.000464 -> 0.000464 | AO12: =ROUND(SQRT(AP12^2+AQ12^2)*1000/(SQRT(3)*AP13),2) -> 3.46 | AP12: 0.002352 | AQ12: =-1*-0.000456 -> 0.000456 | AR12: =ROUND(SQRT(AS12^2+AT12^2)*1000/(SQRT(3)*AS13),2) -> 3.46 | AS12: 0.002352 | AT12: =-1*-0.000456 -> 0.000456 | AU12: =ROUND(SQRT(AV12^2+AW12^2)*1000/(SQRT(3)*AV13),2) -> 3.47 | AV12: 0.00236 | AW12: =-1*-0.000464 -> 0.000464 | AX12: =ROUND(SQRT(AY12^2+AZ12^2)*1000/(SQRT(3)*AY13),2) -> 3.47 | AY12: 0.00236 | AZ12: =-1*-0.000464 -> 0.000464 | BA12: =ROUND(SQRT(BB12^2+BC12^2)*1000/(SQRT(3)*BB13),2) -> 3.46 | BB12: 0.002352 | BC12: =-1*-0.000464 -> 0.000464 | BD12: =ROUND(SQRT(BE12^2+BF12^2)*1000/(SQRT(3)*BE13),2) -> 3.47 | BE12: 0.00236 | BF12: =-1*-0.000472 -> 0.000472 | BG12: =ROUND(SQRT(BH12^2+BI12^2)*1000/(SQRT(3)*BH13),2) -> 3.46 | BH12: 0.002352 | BI12: =-1*-0.000464 -> 0.000464 | BJ12: =ROUND(SQRT(BK12^2+BL12^2)*1000/(SQRT(3)*BK13),2) -> 3.47 | BK12: 0.00236 | BL12: =-1*-0.000464 -> 0.000464 | BM12: =ROUND(SQRT(BN12^2+BO12^2)*1000/(SQRT(3)*BN13),2) -> 3.47 | BN12: 0.00236 | BO12: =-1*-0.000464 -> 0.000464 | BP12: =ROUND(SQRT(BQ12^2+BR12^2)*1000/(SQRT(3)*BQ13),2) -> 3.47 | BQ12: 0.00236 | BR12: =-1*-0.000472 -> 0.000472 | BS12: =ROUND(SQRT(BT12^2+BU12^2)*1000/(SQRT(3)*BT13),2) -> 3.47 | BT12: 0.00236 | BU12: =-1*-0.000464 -> 0.000464 | BV12: =ROUND(SQRT(BW12^2+BX12^2)*1000/(SQRT(3)*BW13),2) -> 3.47 | BW12: 0.00236 | BX12: =-1*-0.000464 -> 0.000464 | BY12: =ROUND(SQRT(BZ12^2+CA12^2)*1000/(SQRT(3)*BZ13),2) -> 3.47 | BZ12: 0.00236 | CA12: =-1*-0.000464 -> 0.000464 | CB12: =SUM(BZ12,BW12,BT12,BQ12,BN12,BK12,BH12,BE12,BB12,AY12,AV12,AS12,AP12,AM12,AJ12,AG12,AD12,AA12,X12,U12,R12,O12,L12,I12) -> 0.05656 | CC12: =SUM(CA12,BX12,BU12,BR12,BO12,BL12,BI12,BF12,BC12,AZ12,AW12,AT12,AQ12,AN12,AK12,AH12,AE12,AB12,Y12,V12,S12,P12,M12,J12) -> 0.011136
D13: Напряж. | I13: 0.4 | L13: 0.4 | O13: 0.4 | R13: 0.4 | U13: 0.4 | X13: 0.4 | AA13: 0.4 | AD13: 0.4 | AG13: 0.4 | AJ13: 0.4 | AM13: 0.4 | AP13: 0.4 | AS13: 0.4 | AV13: 0.4 | AY13: 0.4 | BB13: 0.4 | BE13: 0.4 | BH13: 0.4 | BK13: 0.4 | BN13: 0.4 | BQ13: 0.4 | BT13: 0.4 | BW13: 0.4 | BZ13: 0.4
A14: Всего | F14: 110 кВ | H14: - | I14: - | J14: - | K14: - | L14: - | M14: - | N14: - | O14: - | P14: - | Q14: - | R14: - | S14: - | T14: - | U14: - | V14: - | W14: - | X14: - | Y14: - | Z14: - | AA14: - | AB14: - | AC14: - | AD14: - | AE14: - | AF14: - | AG14: - | AH14: - | AI14: - | AJ14: - | AK14: - | AL14: - | AM14: - | AN14: - | AO14: - | AP14: - | AQ14: - | AR14: - | AS14: - | AT14: - | AU14: - | AV14: - | AW14: - | AX14: - | AY14: - | AZ14: - | BA14: - | BB14: - | BC14: - | BD14: - | BE14: - | BF14: - | BG14: - | BH14: - | BI14: - | BJ14: - | BK14: - | BL14: - | BM14: - | BN14: - | BO14: - | BP14: - | BQ14: - | BR14: - | BS14: - | BT14: - | BU14: - | BV14: - | BW14: - | BX14: - | BY14: - | BZ14: - | CA14: -
F15: 6 кВ | H15: =H8 -> 3.29 | I15: =I8 -> 0.032592 | J15: =J8 -> 0.015096 | K15: - | L15: - | M15: - | N15: - | O15: - | P15: - | Q15: - | R15: - | S15: - | T15: - | U15: - | V15: - | W15: - | X15: - | Y15: - | Z15: - | AA15: - | AB15: - | AC15: - | AD15: - | AE15: - | AF15: - | AG15: - | AH15: - | AI15: - | AJ15: - | AK15: - | AL15: - | AM15: - | AN15: - | AO15: - | AP15: - | AQ15: - | AR15: - | AS15: - | AT15: - | AU15: - | AV15: - | AW15: - | AX15: - | AY15: - | AZ15: - | BA15: - | BB15: - | BC15: - | BD15: - | BE15: - | BF15: - | BG15: - | BH15: - | BI15: - | BJ15: - | BK15: - | BL15: - | BM15: - | BN15: - | BO15: - | BP15: - | BQ15: - | BR15: - | BS15: - | BT15: - | BU15: - | BV15: - | BW15: - | BX15: - | BY15: - | BZ15: - | CA15: -
A16: cosФ(6)= | B16: - | D16: tgФ(6)= | E16: -
A18: Замер по | D18: Уст.ЧАПВ | F18: Уст.АЧР | H18: Ток | I18: Pнагр. | J18: Qнагр. | K18: Ток | L18: Pнагр. | M18: Qнагр. | N18: Ток | O18: Pнагр. | P18: Qнагр. | Q18: Ток | R18: Pнагр. | S18: Qнагр. | T18: Ток | U18: Pнагр. | V18: Qнагр. | W18: Ток | X18: Pнагр. | Y18: Qнагр. | Z18: Ток | AA18: Pнагр. | AB18: Qнагр. | AC18: Ток | AD18: Pнагр. | AE18: Qнагр. | AF18: Ток | AG18: Pнагр. | AH18: Qнагр. | AI18: Ток | AJ18: Pнагр. | AK18: Qнагр. | AL18: Ток | AM18: Pнагр. | AN18: Qнагр. | AO18: Ток | AP18: Pнагр. | AQ18: Qнагр. | AR18: Ток | AS18: Pнагр. | AT18: Qнагр. | AU18: Ток | AV18: Pнагр. | AW18: Qнагр. | AX18: Ток | AY18: Pнагр. | AZ18: Qнагр. | BA18: Ток | BB18: Pнагр. | BC18: Qнагр. | BD18: Ток | BE18: Pнагр. | BF18: Qнагр. | BG18: Ток | BH18: Pнагр. | BI18: Qнагр. | BJ18: Ток | BK18: Pнагр. | BL18: Qнагр. | BM18: Ток | BN18: Pнагр. | BO18: Qнагр. | BP18: Ток | BQ18: Pнагр. | BR18: Qнагр. | BS18: Ток | BT18: Pнагр. | BU18: Qнагр. | BV18: Ток | BW18: Pнагр. | BX18: Qнагр. | BY18: Ток | BZ18: Pнагр. | CA18: Qнагр.
D19: герц | E19: сек | F19: герц | G19: сек | H19: А | I19: МВт | J19: Мвар | K19: А | L19: МВт | M19: Мвар | N19: А | O19: МВт | P19: Мвар | Q19: А | R19: МВт | S19: Мвар | T19: А | U19: МВт | V19: Мвар | W19: А | X19: МВт | Y19: Мвар | Z19: А | AA19: МВт | AB19: Мвар | AC19: А | AD19: МВт | AE19: Мвар | AF19: А | AG19: МВт | AH19: Мвар | AI19: А | AJ19: МВт | AK19: Мвар | AL19: А | AM19: МВт | AN19: Мвар | AO19: А | AP19: МВт | AQ19: Мвар | AR19: А | AS19: МВт | AT19: Мвар | AU19: А | AV19: МВт | AW19: Мвар | AX19: А | AY19: МВт | AZ19: Мвар | BA19: А | BB19: МВт | BC19: Мвар | BD19: А | BE19: МВт | BF19: Мвар | BG19: А | BH19: МВт | BI19: Мвар | BJ19: А | BK19: МВт | BL19: Мвар | BM19: А | BN19: МВт | BO19: Мвар | BP19: А | BQ19: МВт | BR19: Мвар | BS19: А | BT19: МВт | BU19: Мвар | BV19: А | BW19: МВт | BX19: Мвар | BY19: А | BZ19: МВт | CA19: Мвар
A20: яч. 4 ф. "Поселок" | H20: =ROUND(SQRT(I20^2+J20^2)*1000/(SQRT(3)*I11),2) -> 3.08 | I20: 0.03024 | J20: 0.01464 | K20: =ROUND(SQRT(L20^2+M20^2)*1000/(SQRT(3)*L11),2) -> 3.05 | L20: 0.02976 | M20: 0.01488 | N20: =ROUND(SQRT(O20^2+P20^2)*1000/(SQRT(3)*O11),2) -> 3.06 | O20: 0.03 | P20: 0.01464 | Q20: =ROUND(SQRT(R20^2+S20^2)*1000/(SQRT(3)*R11),2) -> 3.04 | R20: 0.02976 | S20: 0.01464 | T20: =ROUND(SQRT(U20^2+V20^2)*1000/(SQRT(3)*U11),2) -> 3.02 | U20: 0.02952 | V20: 0.01464 | W20: =ROUND(SQRT(X20^2+Y20^2)*1000/(SQRT(3)*X11),2) -> 3.09 | X20: 0.03048 | Y20: 0.0144 | Z20: =ROUND(SQRT(AA20^2+AB20^2)*1000/(SQRT(3)*AA11),2) -> 3.16 | AA20: 0.0312 | AB20: 0.01464 | AC20: =ROUND(SQRT(AD20^2+AE20^2)*1000/(SQRT(3)*AD11),2) -> 3.07 | AD20: 0.03024 | AE20: 0.0144 | AF20: =ROUND(SQRT(AG20^2+AH20^2)*1000/(SQRT(3)*AG11),2) -> 3.31 | AG20: 0.03312 | AH20: 0.0144 | AI20: =ROUND(SQRT(AJ20^2+AK20^2)*1000/(SQRT(3)*AJ11),2) -> 3.32 | AJ20: 0.03336 | AK20: 0.01416 | AL20: =ROUND(SQRT(AM20^2+AN20^2)*1000/(SQRT(3)*AM11),2) -> 3.3 | AM20: 0.03312 | AN20: 0.01416 | AO20: =ROUND(SQRT(AP20^2+AQ20^2)*1000/(SQRT(3)*AP11),2) -> 3.05 | AP20: 0.03024 | AQ20: 0.01392 | AR20: =ROUND(SQRT(AS20^2+AT20^2)*1000/(SQRT(3)*AS11),2) -> 3.17 | AS20: 0.03144 | AT20: 0.0144 | AU20: =ROUND(SQRT(AV20^2+AW20^2)*1000/(SQRT(3)*AV11),2) -> 3.26 | AV20: 0.0324 | AW20: 0.01464 | AX20: =ROUND(SQRT(AY20^2+AZ20^2)*1000/(SQRT(3)*AY11),2) -> 3.22 | AY20: 0.03216 | AZ20: 0.01416 | BA20: =ROUND(SQRT(BB20^2+BC20^2)*1000/(SQRT(3)*BB11),2) -> 2.88 | BB20: 0.02808 | BC20: 0.01416 | BD20: =ROUND(SQRT(BE20^2+BF20^2)*1000/(SQRT(3)*BE11),2) -> 3.06 | BE20: 0.03024 | BF20: 0.01416 | BG20: =ROUND(SQRT(BH20^2+BI20^2)*1000/(SQRT(3)*BH11),2) -> 3.2 | BH20: 0.03168 | BI20: 0.01464 | BJ20: =ROUND(SQRT(BK20^2+BL20^2)*1000/(SQRT(3)*BK11),2) -> 3.04 | BK20: 0.02976 | BL20: 0.01464 | BM20: =ROUND(SQRT(BN20^2+BO20^2)*1000/(SQRT(3)*BN11),2) -> 3.02 | BN20: 0.02952 | BO20: 0.01464 | BP20: =ROUND(SQRT(BQ20^2+BR20^2)*1000/(SQRT(3)*BQ11),2) -> 3.02 | BQ20: 0.02952 | BR20: 0.01464 | BS20: =ROUND(SQRT(BT20^2+BU20^2)*1000/(SQRT(3)*BT11),2) -> 3.01 | BT20: 0.02952 | BU20: 0.0144 | BV20: =ROUND(SQRT(BW20^2+BX20^2)*1000/(SQRT(3)*BW11),2) -> 2.93 | BW20: 0.02856 | BX20: 0.0144 | BY20: =ROUND(SQRT(BZ20^2+CA20^2)*1000/(SQRT(3)*BZ11),2) -> 2.95 | BZ20: 0.0288 | CA20: 0.0144 | CB20: =SUM(BZ20,BW20,BT20,BQ20,BN20,BK20,BH20,BE20,BB20,AY20,AV20,AS20,AP20,AM20,AJ20,AG20,AD20,AA20,X20,U20,R20,O20,L20,I20) -> 0.73272 | CC20: =SUM(CA20,BX20,BU20,BR20,BO20,BL20,BI20,BF20,BC20,AZ20,AW20,AT20,AQ20,AN20,AK20,AH20,AE20,AB20,Y20,V20,S20,P20,M20,J20) -> 0.3468
A23: РАСЧЕТ ПОТЕРЬ В ТРАНСФОРМАТОРАХ
A24: 1Т | B24: Потери пост. | D24: Px.x+j Qx.x. | H24: 0.0055 | I24: +j | J24: 0.0371
