Workbook

Sheet Форма 3
C1: Типовой бланк | Q1: Приложение 2
C3: Ведомость контрольного замера по п/ст: | Q3: Дата: | R3: 45644
A5: Замер по трансформаторам | I5: 1 | J5: час.* | L5: 2 | M5: час.* | O5: … | P5: час.* | R5: 24 | S5: час.*
A6: Диспет. | C6: Sном | H6: Ток | I6: Pнагр. | J6: Qнагр. | K6: Ток | L6: Pнагр. | M6: Qнагр. | N6: Ток | O6: Pнагр. | P6: Qнагр. | Q6: Ток | R6: Pнагр. | S6: Qнагр.
A7: наимен. | C7: МВА | H7: А | I7: МВт | J7: МВАр | K7: А | L7: МВт | M7: МВАр | N7: А | O7: МВт | P7: МВАр | Q7: А | R7: МВт | S7: МВАр
F8: 220кВ
F9: 110кВ
D10: Нагрузка | F10: 35кВ
F11: 10кВ
F12: 6кВ
D13: РПН
F14: 220кВ
B15: 1Т | F15: 110кВ
D16: Напряж. | F16: 35кВ
F17: 10кВ
F18: 6кВ
D19: РПН
F20: 220кВ
F21: 110кВ
D22: Нагрузка | F22: 35кВ
F23: 10кВ
F24: 6кВ
D25: РПН
F26: 220кВ
B27: 2Т | F27: 110кВ
D28: Напряж. | F28: 35кВ
F29: 10кВ
F30: 6кВ
D31: РПН
F32: 110кВ
D33: Нагрузка | F33: 10кВ | H33: 90 | I33: =SQRT(3)*I36*H33*C46*POWER(10,-3) -> 0 | J33: =I33*E46 -> 0 | K33: 90 | L33: =SQRT(3)*L36*K33*C46*POWER(10,-3) -> 0 | M33: =L33*E46 -> 0 | N33: 90 | O33: =SQRT(3)*O36*N33*C46*POWER(10,-3) -> 0 | P33: =O33*E46 -> 0 | Q33: 90 | R33: =SQRT(3)*R36*Q33*C46*POWER(10,-3) -> 0 | S33: =R33*E46 -> 0
H34: 480 | I34: =SQRT(3)*I37*H34*C44*POWER(10,-3) -> 0 | J34: =I34*E44 -> 0 | K34: 480 | L34: =SQRT(3)*L37*K34*C44*POWER(10,-3) -> 0 | M34: =L34*E44 -> 0 | N34: 480 | O34: =SQRT(3)*O37*N34*C44*POWER(10,-3) -> 0 | P34: =O34*E44 -> 0 | Q34: 480 | R34: =SQRT(3)*R37*Q34*C44*POWER(10,-3) -> 0 | S34: =R34*E44 -> 0
B35: 2Т | C35: 16 | F35: 110кВ
D36: Напряж. | F36: 35кВ | I36: 37 | L36: 37 | O36: 37 | R36: 37
F37: 10кВ | I37: 10.5 | L37: 10.5 | O37: 10.5 | R37: 10.5
D38: РПН (ПБВ) | I38: 2 | L38: 2 | O38: 2 | R38: 2
F39: 220кВ | H39: =H9+H25 -> 0 | I39: =SUM(I9,I25) -> 0 | J39: =SUM(J9,J25) -> 0 | K39: =K9+K25 -> 0 | L39: =SUM(L9,L25) -> 0 | M39: =SUM(M9,M25) -> 0 | N39: =N9+N25 -> 0 | O39: =SUM(O9,O25) -> 0 | P39: =SUM(P9,P25) -> 0 | Q39: =Q9+Q25 -> 0 | R39: =SUM(R9,R25) -> 0 | S39: =SUM(S9,S25) -> 0
F40: 110кВ
B41: Итого | F41: 35кВ | H41: =H10+H26 -> 0 | I41: =I10+I26 -> 0 | J41: =J10+J26 -> 0 | K41: =K10+K26 -> 0 | L41: =L10+L26 -> 0 | M41: =M10+M26 -> 0 | N41: =N10+N26 -> 0 | O41: =O10+O26 -> 0 | ... S41: =S10+S26 -> 0
F42: 10кВ
F43: 6кВ | H43: =H11+H27 -> 0 | I43: =SUM(I11,I27) -> 0 | J43: =SUM(J11,J27) -> 0 | K43: =K11+K27 -> 0 | L43: =SUM(L11,L27) -> 0 | M43: =SUM(M11,M27) -> 0 | N43: =N11+N27 -> 0 | O43: =SUM(O11,O27) -> 0 | P43: =SUM(P11,P27) -> 0 | Q43: =Q11+Q27 -> 0 | R43: =SUM(R11,R27) -> 0 | S43: =SUM(S11,S27) -> 0
A44: cosФ(35)= | D44: tgФ(35)=
A45: cosФ(10)= | D45: tgФ(10)=
A46: cosФ(6)= | D46: tgФ(6)=
A47: Замер по | D47: Уст.ЧАПВ | F47: Уст.АЧР | H47: Ток | I47: Pнагр. | J47: Qнагр. | K47: Ток | L47: Pнагр. | M47: Qнагр. | N47: Ток | O47: Pнагр. | P47: Qнагр. | Q47: Ток | R47: Pнагр. | S47: Qнагр.
B48: ВЛ- кВ | D48: герц | E48: сек | F48: герц | G48: сек | H48: 0 | I48: МВт | J48: Мвар | K48: А | L48: МВт | M48: Мвар | N48: А | O48: МВт | P48: Мвар | Q48: А | R48: МВт | S48: Мвар
A49: 1
A50: 2
A51: 3
A52: ,,,,,,,,
H54: РАСЧЕТ ПОТЕРЬ В ТРАНСФОРМАТОРАХ
B55: Потери пост. | D55: Px.x+j Qx.x. | I55: +j | L55: +j | O55: +j | R55: +j
A56: 1Т | B56: Потери перем. | D56: Рпер+j Qпер. | I56: +j | L56: +j | O56: +j | R56: +j
B57: Pкз = | C57: 0.0482 | D57: Uкз%= | E57: 11.2
B58: Ркз(110)=0,089 | E58: Ркз(35)= | H58: Ркз(10)= | J58: Ркз(6)= | L58: Uкз%(110)= | N58: Uкз%(35)= | P58: Uкз%(10)= | R58: Uкз%(6)=
B59: Полная нагрузка с потерями | H59: =SUM(I9,H55,H56) -> 0 | I59: +j | J59: =SUM(J9,J55,J56) -> 0 | K59: =SUM(L9,H55,K56) -> 0 | L59: +j | M59: =SUM(M9,J55,M56) -> 0 | N59: =SUM(O9,H55,N56) -> 0 | O59: +j | P59: =SUM(P9,J55,P56) -> 0 | Q59: =SUM(R9,H55,Q56) -> 0 | R59: +j | S59: =SUM(S9,J55,S56) -> 0
B60: Потери пост. | D60: Px.x+j Qx.x. | I60: +j | L60: +j | O60: +j | R60: +j
A61: 2Т | B61: Потери перем. | D61: Рпер+j Qпер. | I61: +j | L61: +j | O61: +j | R61: +j
B62: Pкз = | C62: 0.0611 | D62: Uкз%= | E62: 11
B63: Ркз(110)= | E63: Ркз(35)= | H63: Ркз(10)= | J63: Ркз(6)= | L63: Uкз%(110)= | N63: Uкз%(35)= | P63: Uкз%(10)= | R63: Uкз%(6)=
B64: Полная нагрузка с потерями | H64: =SUM(I25,H60,H61) -> 0 | I64: +j | J64: =SUM(J25,J60,J61) -> 0 | K64: =SUM(L25,H60,K61) -> 0 | L64: +j | M64: =SUM(M25,J60,M61) -> 0 | N64: =SUM(O25,H60,N61) -> 0 | O64: +j | P64: =SUM(P25,J60,P61) -> 0 | Q64: =SUM(R25,H60,Q61) -> 0 | R64: +j | S64: =SUM(S25,J60,S61) -> 0
A65: Суммарная нагрузка
A66: ПС с потерями | F66: S p | H66: =SUM(H59,H64) -> 0 | I66: +j | J66: =SUM(J59,J64) -> 0 | K66: =SUM(K59,K64) -> 0 | L66: +j | M66: =SUM(M59,M64) -> 0 | N66: =SUM(N59,N64) -> 0 | O66: +j | P66: =SUM(P59,P64) -> 0 | Q66: =SUM(Q59,Q64) -> 0 | R66: +j | S66: =SUM(S59,S64) -> 0
A68: * - | B68: время уральское

Sheet ПС 110-10 МДФ
A1: Ведомость контрольного замера по ПС: 110/10 кВ «МДФ»
AM2: Дата: | AN2: 45644
A4: Замер по трансформаторам | H4: 1 час. | K4: 2 час. | N4: 3 час. | Q4: 4 час. | T4: 5 час. | W4: 6 час. | Z4: 7 час. | AC4: 8 час. | AF4: 9 час. | AI4: 10 час. | AL4: 11 час. | AO4: 12 час.
A5: Диспет. наимен. | C5: S ном, МВА | H5: Ток | I5: Pнагр. | J5: Qнагр. | K5: Ток | L5: Pнагр. | M5: Qнагр. | N5: Ток | O5: Pнагр. | P5: Qнагр. | Q5: Ток | R5: Pнагр. | S5: Qнагр. | T5: Ток | U5: Pнагр. | V5: Qнагр. | W5: Ток | X5: Pнагр. | Y5: Qнагр. | Z5: Ток | AA5: Pнагр. | AB5: Qнагр. | AC5: Ток | AD5: Pнагр. | AE5: Qнагр. | AF5: Ток | AG5: Pнагр. | AH5: Qнагр. | AI5: Ток | AJ5: Pнагр. | AK5: Qнагр. | AL5: Ток | AM5: Pнагр. | AN5: Qнагр. | AO5: Ток | AP5: Pнагр. | AQ5: Qнагр.
H6: А | I6: МВт | J6: Мвар | K6: А | L6: МВт | M6: Мвар | N6: А | O6: МВт | P6: Мвар | Q6: А | R6: МВт | S6: Мвар | T6: А | U6: МВт | V6: Мвар | W6: А | X6: МВт | Y6: Мвар | Z6: А | AA6: МВт | AB6: Мвар | AC6: А | AD6: МВт | AE6: Мвар | AF6: А | AG6: МВт | AH6: Мвар | AI6: А | AJ6: МВт | AK6: Мвар | AL6: А | AM6: МВт | AN6: Мвар | AO6: А | AP6: МВт | AQ6: Мвар
A7: 1Т | C7: 25 | D7: Нагрузка | F7: 110 кВ | H7: =SQRT(I7^2+J7^2)*1000/(1.73*H10) -> 0 | I7: 0 | J7: 0 | K7: =SQRT(L7^2+M7^2)*1000/(1.73*K10) -> 0 | L7: 0 | M7: 0 | N7: =SQRT(O7^2+P7^2)*1000/(1.73*N10) -> 0 | O7: 0 | P7: 0 | Q7: =SQRT(R7^2+S7^2)*1000/(1.73*Q10) -> 0 | R7: 0 | S7: 0 | T7: =SQRT(U7^2+V7^2)*1000/(1.73*T10) -> 0 | U7: 0 | V7: 0 | W7: =SQRT(X7^2+Y7^2)*1000/(1.73*W10) -> 0 | X7: 0 | Y7: 0 | Z7: =SQRT(AA7^2+AB7^2)*1000/(1.73*Z10) -> 0 | AA7: 0 | AB7: 0 | AC7: =SQRT(AD7^2+AE7^2)*1000/(1.73*AC10) -> 0 | AD7: 0 | AE7: 0 | AF7: =SQRT(AG7^2+AH7^2)*1000/(1.73*AF10) -> 0 | AG7: 0 | AH7: 0 | AI7: =SQRT(AJ7^2+AK7^2)*1000/(1.73*AI10) -> 0 | AJ7: 0 | AK7: 0 | AL7: =SQRT(AM7^2+AN7^2)*1000/(1.73*AL10) -> 0 | AM7: 0 | AN7: 0 | AO7: =SQRT(AP7^2+AQ7^2)*1000/(1.73*AO10) -> 0 | AP7: 0 | AQ7: 0
F8: 10 кВ | H8: =SQRT(I8^2+J8^2)*1000/(1.73*H11) -> 52.066717 | I8: =I33+I31 -> 0.919 | J8: =J33+J31 -> 0.259 | K8: =SQRT(L8^2+M8^2)*1000/(1.73*K11) -> 52.388497 | L8: =L33+L31 -> 0.924 | M8: =M33+M31 -> 0.263 | N8: =SQRT(O8^2+P8^2)*1000/(1.73*N11) -> 50.945742 | O8: =O33+O31 -> 0.901 | P8: =P33+P31 -> 0.247 | Q8: =SQRT(R8^2+S8^2)*1000/(1.73*Q11) -> 51.079816 | R8: =R33+R31 -> 0.903 | S8: =S33+S31 -> 0.249 | T8: =SQRT(U8^2+V8^2)*1000/(1.73*T11) -> 51.749286 | U8: =U33+U31 -> 0.916 | V8: =V33+V31 -> 0.248 | W8: =SQRT(X8^2+Y8^2)*1000/(1.73*W11) -> 52.347045 | X8: =X33+X31 -> 0.926 | Y8: =Y33+Y31 -> 0.253 | Z8: =SQRT(AA8^2+AB8^2)*1000/(1.73*Z11) -> 54.87887 | AA8: =AA33+AA31 -> 0.973 | AB8: =AB33+AB31 -> 0.257 | AC8: =SQRT(AD8^2+AE8^2)*1000/(1.73*AC11) -> 59.608997 | AD8: =AD33+AD31 -> 1.06 | AE8: =AE33+AE31 -> 0.267 | AF8: =SQRT(AG8^2+AH8^2)*1000/(1.73*AF11) -> 64.305582 | AG8: =AG33+AG31 -> 1.121 | AH8: =AH33+AH31 -> 0.366 | AI8: =SQRT(AJ8^2+AK8^2)*1000/(1.73*AI11) -> 65.621267 | AJ8: =AJ33+AJ31 -> 1.131 | AK8: =AK33+AK31 -> 0.411 | AL8: =SQRT(AM8^2+AN8^2)*1000/(1.73*AL11) -> 62.466673 | AM8: =AM33+AM31 -> 1.081 | AN8: =AN33+AN31 -> 0.379 | AO8: =SQRT(AP8^2+AQ8^2)*1000/(1.73*AO11) -> 63.685524 | AP8: =AP33+AP31 -> 1.105 | AQ8: =AQ33+AQ31 -> 0.378
D9: РПН | H9: 7 | K9: 7 | N9: 7 | Q9: 7 | T9: 7 | W9: 7 | Z9: 7 | AC9: 7 | AF9: 7 | AI9: 7 | AL9: 7 | AO9: 7
D10: Напряж. | F10: 110 кВ | H10: 121 | K10: 121 | N10: 121 | Q10: 121 | T10: 121 | W10: 121 | Z10: 121 | AC10: 121 | AF10: 121 | AI10: 121 | AL10: 121 | AO10: 121
F11: 10 кВ | H11: 10.6 | K11: 10.6 | N11: 10.6 | Q11: 10.6 | T11: 10.6 | W11: 10.6 | Z11: 10.6 | AC11: 10.6 | AF11: 10.6 | AI11: 10.6 | AL11: 10.6 | AO11: 10.6
D12: ПБВ | H12: - | K12: - | N12: - | Q12: - | T12: - | W12: - | Z12: - | AC12: - | AF12: - | AI12: - | AL12: - | AO12: -
A13: 2Т | C13: 25 | D13: Нагрузка | F13: 110 кВ | H13: =SQRT(I13^2+J13^2)*1000/(1.73*H16) -> 0 | I13: 0 | J13: 0 | K13: =SQRT(L13^2+M13^2)*1000/(1.73*K16) -> 0 | L13: 0 | M13: 0 | N13: =SQRT(O13^2+P13^2)*1000/(1.73*N16) -> 0 | O13: 0 | P13: 0 | Q13: =SQRT(R13^2+S13^2)*1000/(1.73*Q16) -> 0 | R13: 0 | S13: 0 | T13: =SQRT(U13^2+V13^2)*1000/(1.73*T16) -> 0 | U13: 0 | V13: 0 | W13: =SQRT(X13^2+Y13^2)*1000/(1.73*W16) -> 0 | X13: 0 | Y13: 0 | Z13: =SQRT(AA13^2+AB13^2)*1000/(1.73*Z16) -> 0 | AA13: 0 | AB13: 0 | AC13: =SQRT(AD13^2+AE13^2)*1000/(1.73*AC16) -> 0 | AD13: 0 | AE13: 0 | AF13: =SQRT(AG13^2+AH13^2)*1000/(1.73*AF16) -> 0 | AG13: 0 | AH13: 0 | AI13: =SQRT(AJ13^2+AK13^2)*1000/(1.73*AI16) -> 0 | AJ13: 0 | AK13: 0 | AL13: =SQRT(AM13^2+AN13^2)*1000/(1.73*AL16) -> 0 | AM13: 0 | AN13: 0 | AO13: =SQRT(AP13^2+AQ13^2)*1000/(1.73*AO16) -> 0 | AP13: 0 | AQ13: 0
F14: 10 кВ | H14: =SQRT(I14^2+J14^2)*1000/(1.73*H17) -> 129.1916 | I14: =I34+I32 -> 2.302 | J14: =J34+J32 -> 0.648 | K14: =SQRT(L14^2+M14^2)*1000/(1.73*K17) -> 128.76908 | L14: =L34+L32 -> 2.295 | M14: =M34+M32 -> 0.644 | N14: =SQRT(O14^2+P14^2)*1000/(1.73*N17) -> 127.624 | O14: =O34+O32 -> 2.278 | P14: =P34+P32 -> 0.626 | Q14: =SQRT(R14^2+S14^2)*1000/(1.73*Q17) -> 129.26348 | R14: =R34+R32 -> 2.307 | S14: =S34+S32 -> 0.635 | T14: =SQRT(U14^2+V14^2)*1000/(1.73*T17) -> 126.86099 | U14: =U34+U32 -> 2.265 | V14: =V34+V32 -> 0.62 | W14: =SQRT(X14^2+Y14^2)*1000/(1.73*W17) -> 134.27597 | X14: =X34+X32 -> 2.398 | Y14: =Y34+Y32 -> 0.654 | Z14: =SQRT(AA14^2+AB14^2)*1000/(1.73*Z17) -> 138.7213 | AA14: =AA34+AA32 -> 2.48 | AB14: =AB34+AB32 -> 0.666 | AC14: =SQRT(AD14^2+AE14^2)*1000/(1.73*AC17) -> 140.99691 | AD14: =AD34+AD32 -> 2.522 | AE14: =AE34+AE32 -> 0.672 | AF14: =SQRT(AG14^2+AH14^2)*1000/(1.73*AF17) -> 151.38288 | AG14: =AG34+AG32 -> 2.649 | AH14: =AH34+AH32 -> 0.914 | AI14: =SQRT(AJ14^2+AK14^2)*1000/(1.73*AI17) -> 148.25526 | AJ14: =AJ34+AJ32 -> 2.595 | AK14: =AK34+AK32 -> 0.893 | AL14: =SQRT(AM14^2+AN14^2)*1000/(1.73*AL17) -> 142.24258 | AM14: =AM34+AM32 -> 2.513 | AN14: =AN34+AN32 -> 0.786 | AO14: =SQRT(AP14^2+AQ14^2)*1000/(1.73*AO17) -> 142.722 | AP14: =AP34+AP32 -> 2.497 | AQ14: =AQ34+AQ32 -> 0.863
D15: РПН | H15: 7 | K15: 7 | N15: 7 | Q15: 7 | T15: 7 | W15: 7 | Z15: 7 | AC15: 7 | AF15: 7 | AI15: 7 | AL15: 7 | AO15: 7
D16: Напряж. | F16: 110 кВ | H16: 124 | K16: 124 | N16: 124 | Q16: 124 | T16: 124 | W16: 124 | Z16: 124 | AC16: 124 | AF16: 124 | AI16: 124 | AL16: 124 | AO16: 124
F17: 10 кВ | H17: 10.7 | K17: 10.7 | N17: 10.7 | Q17: 10.7 | T17: 10.7 | W17: 10.7 | Z17: 10.7 | AC17: 10.7 | AF17: 10.7 | AI17: 10.7 | AL17: 10.7 | AO17: 10.7
D18: ПБВ | H18: - | K18: - | N18: - | Q18: - | T18: - | W18: - | Z18: - | AC18: - | AF18: - | AI18: - | AL18: - | AO18: -
A19: Всего | F19: 110 кВ | H19: =H7+H13 -> 0 | I19: =I7+I13 -> 0 | J19: =J7+J13 -> 0 | K19: =K7+K13 -> 0 | L19: =L7+L13 -> 0 | M19: =M7+M13 -> 0 | N19: =N7+N13 -> 0 | O19: =O7+O13 -> 0 | ... AQ19: =AQ7+AQ13 -> 0
F20: 10 кВ | H20: =H8+H14 -> 181.25831 | I20: =I8+I14 -> 3.221 | J20: =J8+J14 -> 0.907 | K20: =K8+K14 -> 181.15758 | L20: =L8+L14 -> 3.219 | M20: =M8+M14 -> 0.907 | N20: =N8+N14 -> 178.56974 | O20: =O8+O14 -> 3.179 | ... AQ20: =AQ8+AQ14 -> 1.241
A21: cosФ(110)= | B21: 0 | D21: tgФ(110)= | E21: 0
A22: cosФ(10)= | B22: =(I20+L20+O20+R20+U20+X20+AA20+AD20+AG20+AJ20+AM20+AP20+I69+L69+O69+R69+U69+X69+AA69+AD69+AG69+AJ69+AM69+AP69)/SQRT((I20+L20+O20+R20+U20+X20+AA20+AD20+AG20+AJ20+AM20+AP20+I69+L69+O69+R69+U69+X69+AA69+AD69+AG69+AJ69+AM69+AP69)^2+(J20+M20+P20+S20+V20+Y20+AB20+AE20+AH20+AK20+AN20+J69+M69+P69+S69+V69+Y69+AB69+AE69+AH69+AK69+AN69+AQ69+AQ20)^2) -> 0.95791481 | D22: tgФ(10)= | E22: =(J20+M20+P20+S20+V20+Y20+AB20+AE20+AH20+AK20+AN20+J69+M69+P69+S69+V69+Y69+AB69+AE69+AH69+AK69+AN69+AQ69+AQ20)/(I20+L20+O20+R20+U20+X20+AA20+AD20+AG20+AJ20+AM20+AP20+I69+L69+O69+R69+U69+X69+AA69+AD69+AG69+AJ69+AM69+AP69) -> 0.29966406
A24: Замер по | D24: Уст.ЧАПВ | F24: Уст.АЧР | H24: 1 час. | K24: 2 час. | N24: 3 час. | Q24: 4 час. | T24: 5 час. | W24: 6 час. | Z24: 7 час. | AC24: 8 час. | AF24: 9 час. | AI24: 10 час. | AL24: 11 час. | AO24: 12 час.
A25: ВЛ- 10 кВ | D25: герц | E25: сек | F25: герц | G25: сек
A26: яч. №15 | B26: ф."Мортка-1" | H26: =SQRT(I26^2+J26^2)*1000/(1.73*$H$11) -> 46.546587 | I26: 0.822 | J26: 0.23 | K26: =SQRT(L26^2+M26^2)*1000/(1.73*$H$11) -> 46.905808 | L26: 0.828 | M26: 0.233 | N26: =SQRT(O26^2+P26^2)*1000/(1.73*$H$11) -> 45.82343 | O26: 0.811 | P26: 0.22 | Q26: =SQRT(R26^2+S26^2)*1000/(1.73*$H$11) -> 45.560339 | R26: 0.806 | S26: 0.22 | T26: =SQRT(U26^2+V26^2)*1000/(1.73*$H$11) -> 46.311435 | U26: 0.82 | V26: 0.221 | W26: =SQRT(X26^2+Y26^2)*1000/(1.73*$H$11) -> 46.880537 | X26: 0.83 | Y26: 0.224 | Z26: =SQRT(AA26^2+AB26^2)*1000/(1.73*$H$11) -> 49.758052 | AA26: 0.883 | AB26: 0.23 | AC26: =SQRT(AD26^2+AE26^2)*1000/(1.73*$H$11) -> 53.445978 | AD26: 0.95 | AE26: 0.241 | AF26: =SQRT(AG26^2+AH26^2)*1000/(1.73*$H$11) -> 53.222425 | AG26: 0.941 | AH26: 0.259 | AI26: =SQRT(AJ26^2+AK26^2)*1000/(1.73*$H$11) -> 50.582731 | AJ26: 0.896 | AK26: 0.24 | AL26: =SQRT(AM26^2+AN26^2)*1000/(1.73*$H$11) -> 50.291151 | AM26: 0.891 | AN26: 0.238 | AO26: =SQRT(AP26^2+AQ26^2)*1000/(1.73*$H$11) -> 51.370942 | AP26: 0.912 | AQ26: 0.236
A27: яч. №19 | B27: ф."Завод-1" | H27: =SQRT(I27^2+J27^2)*1000/(1.73*$H$11) -> 5.2082649 | I27: 0.091 | J27: 0.029 | K27: =SQRT(L27^2+M27^2)*1000/(1.73*$H$11) -> 5.1733193 | L27: 0.09 | M27: 0.03 | N27: =SQRT(O27^2+P27^2)*1000/(1.73*$H$11) -> 5.1239371 | O27: 0.09 | P27: 0.027 | Q27: =SQRT(R27^2+S27^2)*1000/(1.73*$H$11) -> 5.2082649 | R27: 0.091 | S27: 0.029 | T27: =SQRT(U27^2+V27^2)*1000/(1.73*$H$11) -> 5.1239371 | U27: 0.09 | V27: 0.027 | W27: =SQRT(X27^2+Y27^2)*1000/(1.73*$H$11) -> 5.1563345 | X27: 0.09 | Y27: 0.029 | Z27: =SQRT(AA27^2+AB27^2)*1000/(1.73*$H$11) -> 5.1239371 | AA27: 0.09 | AB27: 0.027 | AC27: =SQRT(AD27^2+AE27^2)*1000/(1.73*$H$11) -> 5.8458254 | AD27: 0.104 | AE27: 0.026 | AF27: =SQRT(AG27^2+AH27^2)*1000/(1.73*$H$11) -> 11.139 | AG27: 0.174 | AH27: 0.107 | AI27: =SQRT(AJ27^2+AK27^2)*1000/(1.73*$H$11) -> 15.585158 | AJ27: 0.229 | AK27: 0.171 | AL27: =SQRT(AM27^2+AN27^2)*1000/(1.73*$H$11) -> 12.902336 | AM27: 0.19 | AN27: 0.141 | AO27: =SQRT(AP27^2+AQ27^2)*1000/(1.73*$H$11) -> 12.804241 | AP27: 0.187 | AQ27: 0.142
A28: яч. №4 | B28: ф."Микрорайон" | H28: =SQRT(I28^2+J28^2)*1000/(1.73*$H$17) -> 23.509163 | I28: 0.398 | J28: 0.176 | K28: =SQRT(L28^2+M28^2)*1000/(1.73*$H$17) -> 22.296927 | L28: 0.377 | M28: 0.168 | N28: =SQRT(O28^2+P28^2)*1000/(1.73*$H$17) -> 22.096027 | O28: 0.376 | P28: 0.161 | Q28: =SQRT(R28^2+S28^2)*1000/(1.73*$H$17) -> 23.330283 | R28: 0.397 | S28: 0.17 | T28: =SQRT(U28^2+V28^2)*1000/(1.73*$H$17) -> 20.558167 | U28: 0.348 | V28: 0.154 | W28: =SQRT(X28^2+Y28^2)*1000/(1.73*$H$17) -> 23.578826 | X28: 0.402 | Y28: 0.17 | Z28: =SQRT(AA28^2+AB28^2)*1000/(1.73*$H$17) -> 22.79828 | AA28: 0.388 | AB28: 0.166 | AC28: =SQRT(AD28^2+AE28^2)*1000/(1.73*$H$17) -> 21.622274 | AD28: 0.366 | AE28: 0.162 | AF28: =SQRT(AG28^2+AH28^2)*1000/(1.73*$H$17) -> 35.331046 | AG28: 0.503 | AH28: 0.418 | AI28: =SQRT(AJ28^2+AK28^2)*1000/(1.73*$H$17) -> 34.390763 | AJ28: 0.487 | AK28: 0.41 | AL28: =SQRT(AM28^2+AN28^2)*1000/(1.73*$H$17) -> 27.770637 | AM28: 0.416 | AN28: 0.302 | AO28: =SQRT(AP28^2+AQ28^2)*1000/(1.73*$H$17) -> 33.401329 | AP28: 0.474 | AQ28: 0.397
A29: яч. №16 | B29: ф."Мортка-2" | H29: =SQRT(I29^2+J29^2)*1000/(1.73*$H$17) -> 105.23722 | I29: 1.89 | J29: 0.472 | K29: =SQRT(L29^2+M29^2)*1000/(1.73*$H$17) -> 105.91854 | L29: 1.902 | M29: 0.476 | N29: =SQRT(O29^2+P29^2)*1000/(1.73*$H$17) -> 104.72663 | O29: 1.882 | P29: 0.465 | Q29: =SQRT(R29^2+S29^2)*1000/(1.73*$H$17) -> 105.35608 | R29: 1.894 | S29: 0.465 | T29: =SQRT(U29^2+V29^2)*1000/(1.73*$H$17) -> 105.84115 | U29: 1.903 | V29: 0.466 | W29: =SQRT(X29^2+Y29^2)*1000/(1.73*$H$17) -> 110.21772 | X29: 1.982 | Y29: 0.484 | Z29: =SQRT(AA29^2+AB29^2)*1000/(1.73*$H$17) -> 115.46149 | AA29: 2.078 | AB29: 0.5 | AC29: =SQRT(AD29^2+AE29^2)*1000/(1.73*$H$17) -> 118.68692 | AD29: 2.137 | AE29: 0.51 | AF29: =SQRT(AG29^2+AH29^2)*1000/(1.73*$H$17) -> 117.88226 | AG29: 2.125 | AH29: 0.496 | AI29: =SQRT(AJ29^2+AK29^2)*1000/(1.73*$H$17) -> 115.72373 | AJ29: 2.087 | AK29: 0.483 | AL29: =SQRT(AM29^2+AN29^2)*1000/(1.73*$H$17) -> 115.26235 | AM29: 2.078 | AN29: 0.484 | AO29: =SQRT(AP29^2+AQ29^2)*1000/(1.73*$H$17) -> 111.14836 | AP29: 2.004 | AQ29: 0.466
A30: яч. №20 | B30: ф."Завод-2" | H30: =SQRT(I30^2+J30^2)*1000/(1.73*$H$17) -> 0.75630706 | I30: 0.014 | J30: 0 | K30: =SQRT(L30^2+M30^2)*1000/(1.73*$H$17) -> 0.86435093 | L30: 0.016 | M30: 0 | N30: =SQRT(O30^2+P30^2)*1000/(1.73*$H$17) -> 0.75630706 | O30: 0.014 | P30: 0 | Q30: =SQRT(R30^2+S30^2)*1000/(1.73*$H$17) -> 0.86435093 | R30: 0.016 | S30: 0 | T30: =SQRT(U30^2+V30^2)*1000/(1.73*$H$17) -> 0.75630706 | U30: 0.014 | V30: 0 | W30: =SQRT(X30^2+Y30^2)*1000/(1.73*$H$17) -> 0.75630706 | X30: 0.014 | Y30: 0 | Z30: =SQRT(AA30^2+AB30^2)*1000/(1.73*$H$17) -> 0.75630706 | AA30: 0.014 | AB30: 0 | AC30: =SQRT(AD30^2+AE30^2)*1000/(1.73*$H$17) -> 1.0264167 | AD30: 0.019 | AE30: 0 | AF30: =SQRT(AG30^2+AH30^2)*1000/(1.73*$H$17) -> 1.1344606 | AG30: 0.021 | AH30: 0 | AI30: =SQRT(AJ30^2+AK30^2)*1000/(1.73*$H$17) -> 1.1344606 | AJ30: 0.021 | AK30: 0 | AL30: =SQRT(AM30^2+AN30^2)*1000/(1.73*$H$17) -> 1.0264167 | AM30: 0.019 | AN30: 0 | AO30: =SQRT(AP30^2+AQ30^2)*1000/(1.73*$H$17) -> 1.0264167 | AP30: 0.019 | AQ30: 0
B31: ТСН-1 | I31: 0.006 | J31: 0 | L31: 0.006 | O31: 0 | R31: 0.006 | U31: 0.006 | X31: 0.006 | AA31: 0 | AD31: 0.006 | AG31: 0.006 | AJ31: 0.006 | AP31: 0.006
B32: ТСН-2 | I32: 0 | L32: 0 | O32: 0.006 | R32: 0 | X32: 0 | AA32: 0 | AG32: 0 | AJ32: 0 | AP32: 0
A33: Итого по отх.ВЛ от 1С-10 кВ | H33: =H26+H27 -> 51.754852 | I33: =I26+I27 -> 0.913 | J33: =J26+J27 -> 0.259 | K33: =K26+K27 -> 52.079127 | L33: =L26+L27 -> 0.918 | M33: =M26+M27 -> 0.263 | N33: =N26+N27 -> 50.947367 | O33: =O26+O27 -> 0.901 | ... AQ33: =AQ26+AQ27 -> 0.378
A34: Итого по отх.ВЛ от 2С-10 кВ | H34: =H30+H29+H28 -> 129.50269 | I34: =I30+I29+I28 -> 2.302 | J34: =J30+J29+J28 -> 0.648 | K34: =K30+K29+K28 -> 129.07982 | L34: =L30+L29+L28 -> 2.295 | M34: =M30+M29+M28 -> 0.644 | N34: =N30+N29+N28 -> 127.57896 | O34: =O30+O29+O28 -> 2.272 | ... AQ34: =AQ30+AQ29+AQ28 -> 0.863
A35: Итого по ВЛ-10 кВ | H35: =H33+H34 -> 181.25754 | I35: =I33+I34 -> 3.215 | J35: =J33+J34 -> 0.907 | K35: =K33+K34 -> 181.15894 | L35: =L33+L34 -> 3.213 | M35: =M33+M34 -> 0.907 | N35: =N33+N34 -> 178.52633 | O35: =O33+O34 -> 3.173 | ... AQ35: =AQ33+AQ34 -> 1.241
A37: РАСЧЕТ ПОТЕРЬ В ТРАНСФОРМАТОРАХ
A38: 1Т | B38: Потери пост. | D38: Px.x+j Qx.x. | H38: =$C$40/1000 -> 0.027 | I38: +j | J38: =$G$40/1000 -> 0.173 | K38: =$C$40/1000 -> 0.027 | L38: +j | M38: =$G$40/1000 -> 0.173 | N38: =$C$40/1000 -> 0.027 | O38: +j | P38: =$G$40/1000 -> 0.173 | Q38: =$C$40/1000 -> 0.027 | R38: +j | S38: =$G$40/1000 -> 0.173 | T38: =$C$40/1000 -> 0.027 | U38: +j | V38: =$G$40/1000 -> 0.173 | W38: =$C$40/1000 -> 0.027 | X38: +j | Y38: =$G$40/1000 -> 0.173 | Z38: =$C$40/1000 -> 0.027 | AA38: +j | AB38: =$G$40/1000 -> 0.173 | AC38: =$C$40/1000 -> 0.027 | AD38: +j | AE38: =$G$40/1000 -> 0.173 | AF38: =$C$40/1000 -> 0.027 | AG38: +j | AH38: =$G$40/1000 -> 0.173 | AI38: =$C$40/1000 -> 0.027 | AJ38: +j | AK38: =$G$40/1000 -> 0.173 | AL38: =$C$40/1000 -> 0.027 | AM38: +j | AN38: =$G$40/1000 -> 0.173 | AO38: =$C$40/1000 -> 0.027 | AP38: +j | AQ38: =$G$40/1000 -> 0.173
B39: Потери перем. | D39: Рпер+j Qпер. | H39: =((I8^2+J8^2)*$G$41/1000)/($C$7*$C$7) -> 0.00017503526 | I39: +j | J39: =((I8^2+J8^2)*$J$41)/(100*$C$7) -> 0.0038288964 | K39: =((L8^2+M8^2)*$G$41/1000)/($C$7*$C$7) -> 0.00017720544 | L39: +j | M39: =((L8^2+M8^2)*$J$41)/(100*$C$7) -> 0.003876369 | N39: =((O8^2+P8^2)*$G$41/1000)/($C$7*$C$7) -> 0.00016757952 | O39: +j | P39: =((O8^2+P8^2)*$J$41)/(100*$C$7) -> 0.003665802 | Q39: =((R8^2+S8^2)*$G$41/1000)/($C$7*$C$7) -> 0.00016846272 | R39: +j | S39: =((R8^2+S8^2)*$J$41)/(100*$C$7) -> 0.003685122 | T39: =((U8^2+V8^2)*$G$41/1000)/($C$7*$C$7) -> 0.00017290752 | U39: +j | V39: =((U8^2+V8^2)*$J$41)/(100*$C$7) -> 0.003782352 | W39: =((X8^2+Y8^2)*$G$41/1000)/($C$7*$C$7) -> 0.00017692512 | X39: +j | Y39: =((X8^2+Y8^2)*$J$41)/(100*$C$7) -> 0.003870237 | Z39: =((AA8^2+AB8^2)*$G$41/1000)/($C$7*$C$7) -> 0.00019445338 | AA39: +j | AB39: =((AA8^2+AB8^2)*$J$41)/(100*$C$7) -> 0.0042536676 | AC39: =((AD8^2+AE8^2)*$G$41/1000)/($C$7*$C$7) -> 0.00022941869 | AD39: +j | AE39: =((AD8^2+AE8^2)*$J$41)/(100*$C$7) -> 0.0050185338 | AF39: =((AG8^2+AH8^2)*$G$41/1000)/($C$7*$C$7) -> 0.00026699462 | AG39: +j | AH39: =((AG8^2+AH8^2)*$J$41)/(100*$C$7) -> 0.0058405074 | AI39: =((AJ8^2+AK8^2)*$G$41/1000)/($C$7*$C$7) -> 0.00027803174 | AJ39: +j | AK39: =((AJ8^2+AK8^2)*$J$41)/(100*$C$7) -> 0.0060819444 | AL39: =((AM8^2+AN8^2)*$G$41/1000)/($C$7*$C$7) -> 0.00025194278 | AM39: +j | AN39: =((AM8^2+AN8^2)*$J$41)/(100*$C$7) -> 0.0055112484 | AO39: =((AP8^2+AQ8^2)*$G$41/1000)/($C$7*$C$7) -> 0.00026187053 | AP39: +j | AQ39: =((AP8^2+AQ8^2)*$J$41)/(100*$C$7) -> 0.0057284178
B40: Рхх= | C40: 27 | E40: Qхх= | G40: 173
F41: Ркз(10)= | G41: 120 | H41: Uкз%(10)= | J41: 10.5
B42: Полная нагрузка с потерями | H42: =I8+H38+H39 -> 0.94617504 | I42: +j | J42: =J8+J38+J39 -> 0.4358289 | K42: =L8+K38+K39 -> 0.95117721 | L42: +j | M42: =M8+M38+M39 -> 0.43987637 | N42: =O8+N38+N39 -> 0.92816758 | O42: +j | P42: =P8+P38+P39 -> 0.4236658 | Q42: =R8+Q38+Q39 -> 0.93016846 | R42: +j | S42: =S8+S38+S39 -> 0.42568512 | T42: =U8+T38+T39 -> 0.94317291 | U42: +j | V42: =V8+V38+V39 -> 0.42478235 | W42: =X8+W38+W39 -> 0.95317693 | X42: +j | Y42: =Y8+Y38+Y39 -> 0.42987024 | Z42: =AA8+Z38+Z39 -> 1.0001945 | AA42: +j | AB42: =AB8+AB38+AB39 -> 0.43425367 | AC42: =AD8+AC38+AC39 -> 1.0872294 | AD42: +j | AE42: =AE8+AE38+AE39 -> 0.44501853 | AF42: =AG8+AF38+AF39 -> 1.148267 | AG42: +j | AH42: =AH8+AH38+AH39 -> 0.54484051 | AI42: =AJ8+AI38+AI39 -> 1.158278 | AJ42: +j | AK42: =AK8+AK38+AK39 -> 0.59008194 | AL42: =AM8+AL38+AL39 -> 1.1082519 | AM42: +j | AN42: =AN8+AN38+AN39 -> 0.55751125 | AO42: =AP8+AO38+AO39 -> 1.1322619 | AP42: +j | AQ42: =AQ8+AQ38+AQ39 -> 0.55672842
A43: 2Т | B43: Потери пост. | D43: Px.x+j Qx.x. | H43: =$C$45/1000 -> 0.027 | I43: +j | J43: =$G$45/1000 -> 0.173 | K43: =$C$45/1000 -> 0.027 | L43: +j | M43: =$G$45/1000 -> 0.173 | N43: =$C$45/1000 -> 0.027 | O43: +j | P43: =$G$45/1000 -> 0.173 | Q43: =$C$45/1000 -> 0.027 | R43: +j | S43: =$G$45/1000 -> 0.173 | T43: =$C$45/1000 -> 0.027 | U43: +j | V43: =$G$45/1000 -> 0.173 | W43: =$C$45/1000 -> 0.027 | X43: +j | Y43: =$G$45/1000 -> 0.173 | Z43: =$C$45/1000 -> 0.027 | AA43: +j | AB43: =$G$45/1000 -> 0.173 | AC43: =$C$45/1000 -> 0.027 | AD43: +j | AE43: =$G$45/1000 -> 0.173 | AF43: =$C$45/1000 -> 0.027 | AG43: +j | AH43: =$G$45/1000 -> 0.173 | AI43: =$C$45/1000 -> 0.027 | AJ43: +j | AK43: =$G$45/1000 -> 0.173 | AL43: =$C$45/1000 -> 0.027 | AM43: +j | AN43: =$G$45/1000 -> 0.173 | AO43: =$C$45/1000 -> 0.027 | AP43: +j | AQ43: =$G$45/1000 -> 0.173
B44: Потери перем. | D44: Рпер+j Qпер. | H44: =((I14^2+J14^2)*$G$46/1000)/($C$13*$C$7) -> 0.0010980687 | I44: +j | J44: =((I14^2+J14^2)*$J$46)/(100*$C$13) -> 0.024020254 | K44: =((L14^2+M14^2)*$G$46/1000)/($C$13*$C$7) -> 0.0010908981 | L44: +j | M44: =((L14^2+M14^2)*$J$46)/(100*$C$13) -> 0.023863396 | N44: =((O14^2+P14^2)*$G$46/1000)/($C$13*$C$7) -> 0.0010715827 | O44: +j | P44: =((O14^2+P14^2)*$J$46)/(100*$C$13) -> 0.023440872 | Q44: =((R14^2+S14^2)*$G$46/1000)/($C$13*$C$7) -> 0.001099291 | R44: +j | S44: =((R14^2+S14^2)*$J$46)/(100*$C$13) -> 0.024046991 | T44: =((U14^2+V14^2)*$G$46/1000)/($C$13*$C$7) -> 0.001058808 | U44: +j | V44: =((U14^2+V14^2)*$J$46)/(100*$C$13) -> 0.023161425 | W44: =((X14^2+Y14^2)*$G$46/1000)/($C$13*$C$7) -> 0.001186199 | X44: +j | Y44: =((X14^2+Y14^2)*$J$46)/(100*$C$13) -> 0.025948104 | Z44: =((AA14^2+AB14^2)*$G$46/1000)/($C$13*$C$7) -> 0.0012660396 | AA44: +j | AB44: =((AA14^2+AB14^2)*$J$46)/(100*$C$13) -> 0.027694615 | AC44: =((AD14^2+AE14^2)*$G$46/1000)/($C$13*$C$7) -> 0.0013079171 | AD44: +j | AE44: =((AD14^2+AE14^2)*$J$46)/(100*$C$13) -> 0.028610686 | AF44: =((AG14^2+AH14^2)*$G$46/1000)/($C$13*$C$7) -> 0.0015076986 | AG44: +j | AH44: =((AG14^2+AH14^2)*$J$46)/(100*$C$13) -> 0.032980907 | AI44: =((AJ14^2+AK14^2)*$G$46/1000)/($C$13*$C$7) -> 0.001446043 | AJ44: +j | AK44: =((AJ14^2+AK14^2)*$J$46)/(100*$C$13) -> 0.031632191 | AL44: =((AM14^2+AN14^2)*$G$46/1000)/($C$13*$C$7) -> 0.0013311293 | AM44: +j | AN44: =((AM14^2+AN14^2)*$J$46)/(100*$C$13) -> 0.029118453 | AO44: =((AP14^2+AQ14^2)*$G$46/1000)/($C$13*$C$7) -> 0.0013401174 | AP44: +j | AQ44: =((AP14^2+AQ14^2)*$J$46)/(100*$C$13) -> 0.029315068
B45: Рхх= | C45: 27 | E45: Qхх= | G45: 173
F46: Ркз(10)= | G46: 120 | H46: Uкз%(10)= | J46: 10.5
B47: Полная нагрузка с потерями | H47: =I14+H43+H44 -> 2.3300981 | I47: +j | J47: =J14+J43+J44 -> 0.84502025 | K47: =L14+K43+K44 -> 2.3230909 | L47: +j | M47: =M14+M43+M44 -> 0.8408634 | N47: =O14+N43+N44 -> 2.3060716 | O47: +j | P47: =P14+P43+P44 -> 0.82244087 | Q47: =R14+Q43+Q44 -> 2.3350993 | R47: +j | S47: =S14+S43+S44 -> 0.83204699 | T47: =U14+T43+T44 -> 2.2930588 | U47: +j | V47: =V14+V43+V44 -> 0.81616142 | W47: =X14+W43+W44 -> 2.4261862 | X47: +j | Y47: =Y14+Y43+Y44 -> 0.8529481 | Z47: =AA14+Z43+Z44 -> 2.508266 | AA47: +j | AB47: =AB14+AB43+AB44 -> 0.86669462 | AC47: =AD14+AC43+AC44 -> 2.5503079 | AD47: +j | AE47: =AE14+AE43+AE44 -> 0.87361069 | AF47: =AG14+AF43+AF44 -> 2.6775077 | AG47: +j | AH47: =AH14+AH43+AH44 -> 1.1199809 | AI47: =AJ14+AI43+AI44 -> 2.623446 | AJ47: +j | AK47: =AK14+AK43+AK44 -> 1.0976322 | AL47: =AM14+AL43+AL44 -> 2.5413311 | AM47: +j | AN47: =AN14+AN43+AN44 -> 0.98811845 | AO47: =AP14+AO43+AO44 -> 2.5253401 | AP47: +j | AQ47: =AQ14+AQ43+AQ44 -> 1.0653151
A48: Суммарная нагрузка
A49: ПС с потерями | F49: S p | H49: =SUM(H42,H47) -> 3.2762731 | I49: +j | J49: =SUM(J42,J47) -> 1.2808491 | K49: =SUM(K42,K47) -> 3.2742681 | L49: +j | M49: =SUM(M42,M47) -> 1.2807398 | N49: =SUM(N42,N47) -> 3.2342392 | O49: +j | P49: =SUM(P42,P47) -> 1.2461067 | Q49: =SUM(Q42,Q47) -> 3.2652678 | R49: +j | S49: =SUM(S42,S47) -> 1.2577321 | T49: =SUM(T42,T47) -> 3.2362317 | U49: +j | V49: =SUM(V42,V47) -> 1.2409438 | W49: =SUM(W42,W47) -> 3.3793631 | X49: +j | Y49: =SUM(Y42,Y47) -> 1.2828183 | Z49: =SUM(Z42,Z47) -> 3.5084605 | AA49: +j | AB49: =SUM(AB42,AB47) -> 1.3009483 | AC49: =SUM(AC42,AC47) -> 3.6375373 | AD49: +j | AE49: =SUM(AE42,AE47) -> 1.3186292 | AF49: =SUM(AF42,AF47) -> 3.8257747 | AG49: +j | AH49: =SUM(AH42,AH47) -> 1.6648214 | AI49: =SUM(AI42,AI47) -> 3.7817241 | AJ49: +j | AK49: =SUM(AK42,AK47) -> 1.6877141 | AL49: =SUM(AL42,AL47) -> 3.6495831 | AM49: +j | AN49: =SUM(AN42,AN47) -> 1.5456297 | AO49: =SUM(AO42,AO47) -> 3.657602 | AP49: +j | AQ49: =SUM(AQ42,AQ47) -> 1.6220435
A50: средневзв тангенс | I50: =J49/H49 -> 0.390947 | L50: =M49/K49 -> 0.39115299 | O50: =P49/N49 -> 0.38528588 | R50: =S49/Q49 -> 0.38518499 | U50: =V49/T49 -> 0.38345331 | X50: =Y49/W49 -> 0.37960358 | AA50: =AB49/Z49 -> 0.37080317 | AD50: =AE49/AC49 -> 0.36250603 | AG50: =AH49/AF49 -> 0.43515929 | AJ50: =AK49/AI49 -> 0.44628167 | AM50: =AN49/AL49 -> 0.42350857 | AP50: =AQ49/AO49 -> 0.44347184
A51: время уральское
A53: Замер по трансформаторам | H53: 13 час. | K53: 14 час. | N53: 15 час. | Q53: 16 час. | T53: 17 час. | W53: 18 час. | Z53: 19 час. | AC53: 20 час. | AF53: 21 час. | AI53: 22 час. | AL53: 23 час. | AO53: 24 час.
A54: Диспет. наимен. | C54: S ном, МВА | H54: Ток | I54: Pнагр. | J54: Qнагр. | K54: Ток | L54: Pнагр. | M54: Qнагр. | N54: Ток | O54: Pнагр. | P54: Qнагр. | Q54: Ток | R54: Pнагр. | S54: Qнагр. | T54: Ток | U54: Pнагр. | V54: Qнагр. | W54: Ток | X54: Pнагр. | Y54: Qнагр. | Z54: Ток | AA54: Pнагр. | AB54: Qнагр. | AC54: Ток | AD54: Pнагр. | AE54: Qнагр. | AF54: Ток | AG54: Pнагр. | AH54: Qнагр. | AI54: Ток | AJ54: Pнагр. | AK54: Qнагр. | AL54: Ток | AM54: Pнагр. | AN54: Qнагр. | AO54: Ток | AP54: Pнагр. | AQ54: Qнагр. | BP54: 0
H55: А | I55: МВт | J55: Мвар | K55: А | L55: МВт | M55: Мвар | N55: А | O55: МВт | P55: Мвар | Q55: А | R55: МВт | S55: Мвар | T55: А | U55: МВт | V55: Мвар | W55: А | X55: МВт | Y55: Мвар | Z55: А | AA55: МВт | AB55: Мвар | AC55: А | AD55: МВт | AE55: Мвар | AF55: А | AG55: МВт | AH55: Мвар | AI55: А | AJ55: МВт | AK55: Мвар | AL55: А | AM55: МВт | AN55: Мвар | AO55: А | AP55: МВт | AQ55: Мвар | BP55: 0
A56: 1Т | C56: 25 | D56: Нагрузка | F56: 110 кВ | H56: =SQRT(I56^2+J56^2)*1000/(1.73*H59) -> 0 | I56: 0 | J56: 0 | K56: =SQRT(L56^2+M56^2)*1000/(1.73*K59) -> 0 | L56: 0 | M56: 0 | N56: =SQRT(O56^2+P56^2)*1000/(1.73*N59) -> 0 | O56: 0 | P56: 0 | Q56: =SQRT(R56^2+S56^2)*1000/(1.73*Q59) -> 0 | R56: 0 | S56: 0 | T56: =SQRT(U56^2+V56^2)*1000/(1.73*T59) -> 0 | U56: 0 | V56: 0 | W56: =SQRT(X56^2+Y56^2)*1000/(1.73*W59) -> 0 | X56: 0 | Y56: 0 | Z56: =SQRT(AA56^2+AB56^2)*1000/(1.73*Z59) -> 0 | AA56: 0 | AB56: 0 | AC56: =SQRT(AD56^2+AE56^2)*1000/(1.73*AC59) -> 0 | AD56: 0 | AE56: 0 | AF56: =SQRT(AG56^2+AH56^2)*1000/(1.73*AF59) -> 0 | AG56: 0 | AH56: 0 | AI56: =SQRT(AJ56^2+AK56^2)*1000/(1.73*AI59) -> 0 | AJ56: 0 | AK56: 0 | AL56: =SQRT(AM56^2+AN56^2)*1000/(1.73*AL59) -> 0 | AM56: 0 | AN56: 0 | AO56: =SQRT(AP56^2+AQ56^2)*1000/(1.73*AO59) -> 0 | AP56: 0 | AQ56: 0 | BP56: 0
F57: 10 кВ | H57: =SQRT(I57^2+J57^2)*1000/(1.73*H60) -> 56.588613 | I57: =I82+I80 -> 1.016 | J57: =J82+J80 -> 0.255 | K57: =SQRT(L57^2+M57^2)*1000/(1.73*K60) -> 63.014425 | L57: =L82+L80 -> 1.095 | M57: =M82+M80 -> 0.402 | N57: =SQRT(O57^2+P57^2)*1000/(1.73*N60) -> 60.850954 | O57: =O82+O80 -> 1.07 | P57: =P82+P80 -> 0.352 | Q57: =SQRT(R57^2+S57^2)*1000/(1.73*Q60) -> 64.136617 | R57: =R82+R80 -> 1.121 | S57: =S82+S80 -> 0.391 | T57: =SQRT(U57^2+V57^2)*1000/(1.73*T60) -> 65.638494 | U57: =U82+U80 -> 1.148 | V57: =V82+V80 -> 0.398 | W57: =SQRT(X57^2+Y57^2)*1000/(1.73*W60) -> 66.384252 | X57: =X82+X80 -> 1.157 | Y57: =Y82+Y80 -> 0.414 | Z57: =SQRT(AA57^2+AB57^2)*1000/(1.73*Z60) -> 67.198703 | AA57: =AA82+AA80 -> 1.173 | AB57: =AB82+AB80 -> 0.414 | AC57: =SQRT(AD57^2+AE57^2)*1000/(1.73*AC60) -> 62.272739 | AD57: =AD82+AD80 -> 1.108 | AE57: =AE82+AE80 -> 0.318 | AF57: =SQRT(AG57^2+AH57^2)*1000/(1.73*AF60) -> 60.720388 | AG57: =AG82+AG80 -> 1.087 | AH57: =AH82+AH80 -> 0.286 | AI57: =SQRT(AJ57^2+AK57^2)*1000/(1.73*AI60) -> 59.52386 | AJ57: =AJ82+AJ80 -> 1.068 | AK57: =AK82+AK80 -> 0.271 | AL57: =SQRT(AM57^2+AN57^2)*1000/(1.73*AL60) -> 58.534703 | AM57: =AM82+AM80 -> 1.047 | AN57: =AN82+AN80 -> 0.279 | AO57: =SQRT(AP57^2+AQ57^2)*1000/(1.73*AO60) -> 55.163457 | AP57: =AP82+AP80 -> 0.988 | AQ57: =AQ82+AQ80 -> 0.258 | BP57: 0
D58: РПН | K58: 7 | N58: 7 | Q58: 7 | T58: 7 | W58: 7 | Z58: 7 | AC58: 7 | AF58: 7 | AI58: 7 | AL58: 7 | AO58: 7 | BP58: 0
D59: Напряж. | F59: 110 кВ | H59: 125 | K59: 125 | N59: 125 | Q59: 125 | T59: 125 | W59: 125 | Z59: 125 | AC59: 125 | AF59: 125 | AI59: 125 | AL59: 125 | AO59: 125 | BP59: 0
F60: 10 кВ | H60: 10.7 | K60: 10.7 | N60: 10.7 | Q60: 10.7 | T60: 10.7 | W60: 10.7 | Z60: 10.7 | AC60: 10.7 | AF60: 10.7 | AI60: 10.7 | AL60: 10.7 | AO60: 10.7 | AZ60: 0 | BP60: 0
D61: ПБВ | H61: - | K61: - | N61: - | Q61: - | T61: - | W61: - | Z61: - | AC61: - | AF61: - | AI61: - | AL61: - | AO61: - | AZ61: 0 | BP61: 0
A62: 2Т | C62: 25 | D62: Нагрузка | F62: 110 кВ | H62: =SQRT(I62^2+J62^2)*1000/(1.73*H65) -> 0 | I62: 0 | J62: 0 | K62: =SQRT(L62^2+M62^2)*1000/(1.73*K65) -> 0 | L62: 0 | M62: 0 | N62: =SQRT(O62^2+P62^2)*1000/(1.73*N65) -> 0 | O62: 0 | P62: 0 | Q62: =SQRT(R62^2+S62^2)*1000/(1.73*Q65) -> 0 | R62: 0 | S62: 0 | T62: =SQRT(U62^2+V62^2)*1000/(1.73*T65) -> 0 | U62: 0 | V62: 0 | W62: =SQRT(X62^2+Y62^2)*1000/(1.73*W65) -> 0 | X62: 0 | Y62: 0 | Z62: =SQRT(AA62^2+AB62^2)*1000/(1.73*Z65) -> 0 | AA62: 0 | AB62: 0 | AC62: =SQRT(AD62^2+AE62^2)*1000/(1.73*AC65) -> 0 | AD62: 0 | AE62: 0 | AF62: =SQRT(AG62^2+AH62^2)*1000/(1.73*AF65) -> 0 | AG62: 0 | AH62: 0 | AI62: =SQRT(AJ62^2+AK62^2)*1000/(1.73*AI65) -> 0 | AJ62: 0 | AK62: 0 | AL62: =SQRT(AM62^2+AN62^2)*1000/(1.73*AL65) -> 0 | AM62: 0 | AN62: 0 | AO62: =SQRT(AP62^2+AQ62^2)*1000/(1.73*AO65) -> 0 | AP62: 0 | AQ62: 0 | AZ62: 0
F63: 10 кВ | H63: =SQRT(I63^2+J63^2)*1000/(1.73*H66) -> 130.06436 | I63: =I83+I81 -> 2.321 | J63: =J83+J81 -> 0.64 | K63: =SQRT(L63^2+M63^2)*1000/(1.73*K66) -> 140.81156 | L63: =L83+L81 -> 2.451 | M63: =M83+M81 -> 0.887 | N63: =SQRT(O63^2+P63^2)*1000/(1.73*N66) -> 137.79827 | O63: =O83+O81 -> 2.413 | P63: =P83+P81 -> 0.827 | Q63: =SQRT(R63^2+S63^2)*1000/(1.73*Q66) -> 139.53618 | R63: =R83+R81 -> 2.463 | S63: =S83+S81 -> 0.778 | T63: =SQRT(U63^2+V63^2)*1000/(1.73*T66) -> 151.45108 | U63: =U83+U81 -> 2.643 | V63: =V83+V81 -> 0.935 | W63: =SQRT(X63^2+Y63^2)*1000/(1.73*W66) -> 139.08508 | X63: =X83+X81 -> 2.484 | Y63: =Y83+Y81 -> 0.677 | Z63: =SQRT(AA63^2+AB63^2)*1000/(1.73*Z66) -> 137.96708 | AA63: =AA83+AA81 -> 2.465 | AB63: =AB83+AB81 -> 0.668 | AC63: =SQRT(AD63^2+AE63^2)*1000/(1.73*AC66) -> 141.92352 | AD63: =AD83+AD81 -> 2.533 | AE63: =AE83+AE81 -> 0.697 | AF63: =SQRT(AG63^2+AH63^2)*1000/(1.73*AF66) -> 139.19045 | AG63: =AG83+AG81 -> 2.483 | AH63: =AH83+AH81 -> 0.688 | AI63: =SQRT(AJ63^2+AK63^2)*1000/(1.73*AI66) -> 136.51847 | AJ63: =AJ83+AJ81 -> 2.435 | AK63: =AK83+AK81 -> 0.676 | AL63: =SQRT(AM63^2+AN63^2)*1000/(1.73*AL66) -> 134.63092 | AM63: =AM83+AM81 -> 2.399 | AN63: =AN83+AN81 -> 0.675 | AO63: =SQRT(AP63^2+AQ63^2)*1000/(1.73*AO66) -> 135.72142 | AP63: =AP83+AP81 -> 2.418 | AQ63: =AQ83+AQ81 -> 0.682 | AZ63: 0
D64: РПН | H64: 7 | K64: 7 | N64: 7 | Q64: 7 | T64: 7 | W64: 7 | Z64: 7 | AC64: 7 | AF64: 7 | AI64: 7 | AL64: 7 | AO64: 7 | AZ64: 0
D65: Напряж. | F65: 110 кВ | H65: 124 | K65: 124 | N65: 124 | Q65: 124 | T65: 124 | W65: 124 | Z65: 124 | AC65: 124 | AF65: 124 | AI65: 124 | AL65: 124 | AO65: 124 | AZ65: 0
F66: 10 кВ | H66: 10.7 | K66: 10.7 | N66: 10.7 | Q66: 10.7 | T66: 10.7 | W66: 10.7 | Z66: 10.7 | AC66: 10.7 | AF66: 10.7 | AI66: 10.7 | AL66: 10.7 | AO66: 10.7 | AZ66: 0
D67: ПБВ | H67: - | K67: - | N67: - | Q67: - | T67: - | W67: - | Z67: - | AC67: - | AF67: - | AI67: - | AL67: - | AO67: - | AZ67: 0
A68: Всего | F68: 110 кВ | H68: =H56+H62 -> 0 | I68: =I56+I62 -> 0 | J68: =J56+J62 -> 0 | K68: =K56+K62 -> 0 | L68: =L56+L62 -> 0 | M68: =M56+M62 -> 0 | N68: =N56+N62 -> 0 | O68: =O56+O62 -> 0 | ... AQ68: =AQ56+AQ62 -> 0
F69: 10 кВ | H69: =H57+H63 -> 186.65298 | I69: =I57+I63 -> 3.337 | J69: =J57+J63 -> 0.895 | K69: =K57+K63 -> 203.82599 | L69: =L57+L63 -> 3.546 | M69: =M57+M63 -> 1.289 | N69: =N57+N63 -> 198.64922 | O69: =O57+O63 -> 3.483 | ... AQ69: =AQ57+AQ63 -> 0.94
A73: Замер по | D73: Уст.ЧАПВ | F73: Уст.АЧР | H73: 13 час. | K73: 14 час. | N73: 15 час. | Q73: 16 час. | T73: 17 час. | W73: 18 час. | Z73: 19 час. | AC73: 20 час. | AF73: 21 час. | AI73: 22 час. | AL73: 23 час. | AO73: 24 час.
A74: ВЛ- 10 кВ | D74: герц | E74: сек | F74: герц | G74: сек
A75: яч. №15 | B75: ф."Мортка-1" | H75: =SQRT(I75^2+J75^2)*1000/(1.73*$H$11) -> 49.054932 | I75: 0.872 | J75: 0.221 | K75: =SQRT(L75^2+M75^2)*1000/(1.73*$H$11) -> 50.840567 | L75: 0.899 | M75: 0.247 | N75: =SQRT(O75^2+P75^2)*1000/(1.73*$H$11) -> 50.505777 | O75: 0.894 | P75: 0.242 | Q75: =SQRT(R75^2+S75^2)*1000/(1.73*$H$11) -> 52.767998 | R75: 0.934 | S75: 0.253 | T75: =SQRT(U75^2+V75^2)*1000/(1.73*$H$11) -> 55.078941 | U75: 0.976 | V75: 0.26 | W75: =SQRT(X75^2+Y75^2)*1000/(1.73*$H$11) -> 55.539437 | X75: 0.985 | Y75: 0.259 | Z75: =SQRT(AA75^2+AB75^2)*1000/(1.73*$H$11) -> 56.993869 | AA75: 1.011 | AB75: 0.265 | AC75: =SQRT(AD75^2+AE75^2)*1000/(1.73*$H$11) -> 56.221101 | AD75: 0.995 | AE75: 0.27 | AF75: =SQRT(AG75^2+AH75^2)*1000/(1.73*$H$11) -> 55.433967 | AG75: 0.983 | AH75: 0.259 | AI75: =SQRT(AJ75^2+AK75^2)*1000/(1.73*$H$11) -> 54.226215 | AJ75: 0.964 | AK75: 0.244 | AL75: =SQRT(AM75^2+AN75^2)*1000/(1.73*$H$11) -> 53.241865 | AM75: 0.943 | AN75: 0.253 | AO75: =SQRT(AP75^2+AQ75^2)*1000/(1.73*$H$11) -> 49.824583 | AP75: 0.884 | AQ75: 0.231 | AU75: =AS75+AS26 -> 0
A76: яч. №19 | B76: ф."Завод-1" | H76: =SQRT(I76^2+J76^2)*1000/(1.73*$H$11) -> 7.7503928 | I76: 0.138 | J76: 0.034 | K76: =SQRT(L76^2+M76^2)*1000/(1.73*$H$11) -> 13.37136 | L76: 0.19 | M76: 0.155 | N76: =SQRT(O76^2+P76^2)*1000/(1.73*$H$11) -> 11.041802 | O76: 0.17 | P76: 0.11 | Q76: =SQRT(R76^2+S76^2)*1000/(1.73*$H$11) -> 12.673518 | R76: 0.187 | S76: 0.138 | T76: =SQRT(U76^2+V76^2)*1000/(1.73*$H$11) -> 11.771749 | U76: 0.166 | V76: 0.138 | W76: =SQRT(X76^2+Y76^2)*1000/(1.73*$H$11) -> 12.384912 | X76: 0.166 | Y76: 0.155 | Z76: =SQRT(AA76^2+AB76^2)*1000/(1.73*$H$11) -> 12.002522 | AA76: 0.162 | AB76: 0.149 | AC76: =SQRT(AD76^2+AE76^2)*1000/(1.73*$H$11) -> 6.3950914 | AD76: 0.107 | AE76: 0.048 | AF76: =SQRT(AG76^2+AH76^2)*1000/(1.73*$H$11) -> 5.5432089 | AG76: 0.098 | AH76: 0.027 | AI76: =SQRT(AJ76^2+AK76^2)*1000/(1.73*$H$11) -> 5.5432089 | AJ76: 0.098 | AK76: 0.027 | AL76: =SQRT(AM76^2+AN76^2)*1000/(1.73*$H$11) -> 5.5289745 | AM76: 0.098 | AN76: 0.026 | AO76: =SQRT(AP76^2+AQ76^2)*1000/(1.73*$H$11) -> 5.5432089 | AP76: 0.098 | AQ76: 0.027 | AU76: =AS76+AS27 -> 0
A77: яч. №4 | B77: ф."Микрорайон" | H77: =SQRT(I77^2+J77^2)*1000/(1.73*$H$17) -> 20.63956 | I77: 0.337 | J77: 0.18 | K77: =SQRT(L77^2+M77^2)*1000/(1.73*$H$17) -> 35.127552 | L77: 0.486 | M77: 0.432 | N77: =SQRT(O77^2+P77^2)*1000/(1.73*$H$17) -> 31.388742 | O77: 0.448 | P77: 0.37 | Q77: =SQRT(R77^2+S77^2)*1000/(1.73*$H$17) -> 28.191634 | R77: 0.422 | S77: 0.307 | T77: =SQRT(U77^2+V77^2)*1000/(1.73*$H$17) -> 38.319071 | U77: 0.545 | V77: 0.454 | W77: =SQRT(X77^2+Y77^2)*1000/(1.73*$H$17) -> 22.035917 | X77: 0.362 | Y77: 0.188 | Z77: =SQRT(AA77^2+AB77^2)*1000/(1.73*$H$17) -> 21.477778 | AA77: 0.355 | AB77: 0.179 | AC77: =SQRT(AD77^2+AE77^2)*1000/(1.73*$H$17) -> 24.111218 | AD77: 0.4 | AE77: 0.198 | AF77: =SQRT(AG77^2+AH77^2)*1000/(1.73*$H$17) -> 24.836756 | AG77: 0.413 | AH77: 0.202 | AI77: =SQRT(AJ77^2+AK77^2)*1000/(1.73*$H$17) -> 22.709782 | AJ77: 0.376 | AK77: 0.188 | AL77: =SQRT(AM77^2+AN77^2)*1000/(1.73*$H$17) -> 23.966506 | AM77: 0.398 | AN77: 0.196 | AO77: =SQRT(AP77^2+AQ77^2)*1000/(1.73*$H$17) -> 25.103231 | AP77: 0.418 | AQ77: 0.203 | AU77: =AS77+AS28 -> 0
A78: яч. №16 | B78: ф."Мортка-2" | H78: =SQRT(I78^2+J78^2)*1000/(1.73*$H$17) -> 108.91777 | I78: 1.963 | J78: 0.46 | K78: =SQRT(L78^2+M78^2)*1000/(1.73*$H$17) -> 107.96201 | L78: 1.946 | M78: 0.455 | N78: =SQRT(O78^2+P78^2)*1000/(1.73*$H$17) -> 107.82889 | O78: 1.943 | P78: 0.457 | Q78: =SQRT(R78^2+S78^2)*1000/(1.73*$H$17) -> 112.05145 | R78: 2.02 | S78: 0.471 | T78: =SQRT(U78^2+V78^2)*1000/(1.73*$H$17) -> 115.12043 | U78: 2.076 | V78: 0.481 | W78: =SQRT(X78^2+Y78^2)*1000/(1.73*$H$17) -> 116.48112 | X78: 2.1 | Y78: 0.489 | Z78: =SQRT(AA78^2+AB78^2)*1000/(1.73*$H$17) -> 115.90244 | AA78: 2.089 | AB78: 0.489 | AC78: =SQRT(AD78^2+AE78^2)*1000/(1.73*$H$17) -> 117.39335 | AD78: 2.115 | AE78: 0.499 | AF78: =SQRT(AG78^2+AH78^2)*1000/(1.73*$H$17) -> 114.12997 | AG78: 2.056 | AH78: 0.486 | AI78: =SQRT(AJ78^2+AK78^2)*1000/(1.73*$H$17) -> 113.47169 | AJ78: 2.043 | AK78: 0.488 | AL78: =SQRT(AM78^2+AN78^2)*1000/(1.73*$H$17) -> 110.41652 | AM78: 1.987 | AN78: 0.479 | AO78: =SQRT(AP78^2+AQ78^2)*1000/(1.73*$H$17) -> 110.36401 | AP78: 1.986 | AQ78: 0.479 | AU78: =AS78+AS29 -> 0
A79: яч. №20 | B79: ф."Завод-2" | H79: =SQRT(I79^2+J79^2)*1000/(1.73*$H$17) -> 1.1344606 | I79: 0.021 | K79: =SQRT(L79^2+M79^2)*1000/(1.73*$H$17) -> 1.0264167 | L79: 0.019 | M79: 0 | N79: =SQRT(O79^2+P79^2)*1000/(1.73*$H$17) -> 1.1884825 | O79: 0.022 | P79: 0 | Q79: =SQRT(R79^2+S79^2)*1000/(1.73*$H$17) -> 1.1344606 | R79: 0.021 | S79: 0 | T79: =SQRT(U79^2+V79^2)*1000/(1.73*$H$17) -> 1.1884825 | U79: 0.022 | V79: 0 | W79: =SQRT(X79^2+Y79^2)*1000/(1.73*$H$17) -> 1.1884825 | X79: 0.022 | Y79: 0 | Z79: =SQRT(AA79^2+AB79^2)*1000/(1.73*$H$17) -> 1.1344606 | AA79: 0.021 | AB79: 0 | AC79: =SQRT(AD79^2+AE79^2)*1000/(1.73*$H$17) -> 0.97239479 | AD79: 0.018 | AE79: 0 | AF79: =SQRT(AG79^2+AH79^2)*1000/(1.73*$H$17) -> 0.75630706 | AG79: 0.014 | AH79: 0 | AI79: =SQRT(AJ79^2+AK79^2)*1000/(1.73*$H$17) -> 0.86435093 | AJ79: 0.016 | AK79: 0 | AL79: =SQRT(AM79^2+AN79^2)*1000/(1.73*$H$17) -> 0.75630706 | AM79: 0.014 | AN79: 0 | AO79: =SQRT(AP79^2+AQ79^2)*1000/(1.73*$H$17) -> 0.75630706 | AP79: 0.014 | AQ79: 0 | AU79: =AS79+AS30 -> 0
B80: ТСН-1 | I80: 0.006 | L80: 0.006 | O80: 0.006 | R80: 0 | U80: 0.006 | X80: 0.006 | AD80: 0.006 | AG80: 0.006 | AJ80: 0.006 | AM80: 0.006 | AP80: 0.006 | AU80: =AU79+AU78+AU77+AU76+AU75 -> 0
B81: ТСН-2 | I81: 0 | L81: 0 | R81: 0 | U81: 0 | AA81: 0 | AD81: 0 | AJ81: 0 | AM81: 0
A82: Итого по отх.ВЛ от 1С-10 кВ | H82: =H75+H76 -> 56.805325 | I82: =I75+I76 -> 1.01 | J82: =J75+J76 -> 0.255 | K82: =K75+K76 -> 64.211927 | L82: =L75+L76 -> 1.089 | M82: =M75+M76 -> 0.402 | N82: =N75+N76 -> 61.547579 | O82: =O75+O76 -> 1.064 | ... AQ82: =AQ75+AQ76 -> 0.258
A83: Итого по отх.ВЛ от 2С-10 кВ | H83: =H79+H78+H77 -> 130.69179 | I83: =I79+I78+I77 -> 2.321 | J83: =J79+J78+J77 -> 0.64 | K83: =K79+K78+K77 -> 144.11597 | L83: =L79+L78+L77 -> 2.451 | M83: =M79+M78+M77 -> 0.887 | N83: =N79+N78+N77 -> 140.40611 | O83: =O79+O78+O77 -> 2.413 | ... AQ83: =AQ79+AQ78+AQ77 -> 0.682
A84: Итого по ВЛ-10 кВ | H84: =H82+H83 -> 187.49711 | I84: =I82+I83 -> 3.331 | J84: =J82+J83 -> 0.895 | K84: =K82+K83 -> 208.3279 | L84: =L82+L83 -> 3.54 | M84: =M82+M83 -> 1.289 | N84: =N82+N83 -> 201.95369 | O84: =O82+O83 -> 3.477 | ... AQ84: =AQ82+AQ83 -> 0.94
A86: РАСЧЕТ ПОТЕРЬ В ТРАНСФОРМАТОРАХ
A87: 1Т | B87: Потери пост. | D87: Px.x+j Qx.x. | H87: =$C$40/1000 -> 0.027 | I87: +j | J87: =$G$40/1000 -> 0.173 | K87: =$C$40/1000 -> 0.027 | L87: +j | M87: =$G$40/1000 -> 0.173 | N87: =$C$40/1000 -> 0.027 | O87: +j | P87: =$G$40/1000 -> 0.173 | Q87: =$C$40/1000 -> 0.027 | R87: +j | S87: =$G$40/1000 -> 0.173 | T87: =$C$40/1000 -> 0.027 | U87: +j | V87: =$G$40/1000 -> 0.173 | W87: =$C$40/1000 -> 0.027 | X87: +j | Y87: =$G$40/1000 -> 0.173 | Z87: =$C$40/1000 -> 0.027 | AA87: +j | AB87: =$G$40/1000 -> 0.173 | AC87: =$C$40/1000 -> 0.027 | AD87: +j | AE87: =$G$40/1000 -> 0.173 | AF87: =$C$40/1000 -> 0.027 | AG87: +j | AH87: =$G$40/1000 -> 0.173 | AI87: =$C$40/1000 -> 0.027 | AJ87: +j | AK87: =$G$40/1000 -> 0.173 | AL87: =$C$40/1000 -> 0.027 | AM87: +j | AN87: =$G$40/1000 -> 0.173 | AO87: =$C$40/1000 -> 0.027 | AP87: +j | AQ87: =$G$40/1000 -> 0.173
B88: Потери перем. | D88: Рпер+j Qпер. | H88: =((I57^2+J57^2)*$G$41/1000)/($C$7*$C$7) -> 0.00021067795 | I88: +j | J88: =((I57^2+J57^2)*$J$41)/(100*$C$7) -> 0.0046085802 | K88: =((L57^2+M57^2)*$G$41/1000)/($C$7*$C$7) -> 0.00026124077 | L88: +j | M88: =((L57^2+M57^2)*$J$41)/(100*$C$7) -> 0.0057146418 | N88: =((O57^2+P57^2)*$G$41/1000)/($C$7*$C$7) -> 0.00024361037 | O88: +j | P88: =((O57^2+P57^2)*$J$41)/(100*$C$7) -> 0.0053289768 | Q88: =((R57^2+S57^2)*$G$41/1000)/($C$7*$C$7) -> 0.00027062822 | R88: +j | S88: =((R57^2+S57^2)*$J$41)/(100*$C$7) -> 0.0059199924 | T88: =((U57^2+V57^2)*$G$41/1000)/($C$7*$C$7) -> 0.00028345114 | U88: +j | V88: =((U57^2+V57^2)*$J$41)/(100*$C$7) -> 0.0062004936 | W88: =((X57^2+Y57^2)*$G$41/1000)/($C$7*$C$7) -> 0.00028992864 | X88: +j | Y88: =((X57^2+Y57^2)*$J$41)/(100*$C$7) -> 0.006342189 | Z88: =((AA57^2+AB57^2)*$G$41/1000)/($C$7*$C$7) -> 0.0002970864 | AA88: +j | AB88: =((AA57^2+AB57^2)*$J$41)/(100*$C$7) -> 0.006498765 | AC88: =((AD57^2+AE57^2)*$G$41/1000)/($C$7*$C$7) -> 0.0002551273 | AD88: +j | AE88: =((AD57^2+AE57^2)*$J$41)/(100*$C$7) -> 0.0055809096 | AF88: =((AG57^2+AH57^2)*$G$41/1000)/($C$7*$C$7) -> 0.00024256608 | AG88: +j | AH88: =((AG57^2+AH57^2)*$J$41)/(100*$C$7) -> 0.005306133 | AI88: =((AJ57^2+AK57^2)*$G$41/1000)/($C$7*$C$7) -> 0.00023310048 | AJ88: +j | AK88: =((AJ57^2+AK57^2)*$J$41)/(100*$C$7) -> 0.005099073 | AL88: =((AM57^2+AN57^2)*$G$41/1000)/($C$7*$C$7) -> 0.0002254176 | AM88: +j | AN88: =((AM57^2+AN57^2)*$J$41)/(100*$C$7) -> 0.00493101 | AO88: =((AP57^2+AQ57^2)*$G$41/1000)/($C$7*$C$7) -> 0.00020019994 | AP88: +j | AQ88: =((AP57^2+AQ57^2)*$J$41)/(100*$C$7) -> 0.0043793736
B89: Рхх= | C89: 27 | E89: Qхх= | G89: 173
F90: Ркз(10)= | G90: 120 | H90: Uкз%(10)= | J90: 10.5
B91: Полная нагрузка с потерями | H91: =I57+H87+H88 -> 1.0432107 | I91: +j | J91: =J57+J87+J88 -> 0.43260858 | K91: =L57+K87+K88 -> 1.1222612 | L91: +j | M91: =M57+M87+M88 -> 0.58071464 | N91: =O57+N87+N88 -> 1.0972436 | O91: +j | P91: =P57+P87+P88 -> 0.53032898 | Q91: =R57+Q87+Q88 -> 1.1482706 | R91: +j | S91: =S57+S87+S88 -> 0.56991999 | T91: =U57+T87+T88 -> 1.1752835 | U91: +j | V91: =V57+V87+V88 -> 0.57720049 | W91: =X57+W87+W88 -> 1.1842899 | X91: +j | Y91: =Y57+Y87+Y88 -> 0.59334219 | Z91: =AA57+Z87+Z88 -> 1.2002971 | AA91: +j | AB91: =AB57+AB87+AB88 -> 0.59349876 | AC91: =AD57+AC87+AC88 -> 1.1352551 | AD91: +j | AE91: =AE57+AE87+AE88 -> 0.49658091 | AF91: =AG57+AF87+AF88 -> 1.1142426 | AG91: +j | AH91: =AH57+AH87+AH88 -> 0.46430613 | AI91: =AJ57+AI87+AI88 -> 1.0952331 | AJ91: +j | AK91: =AK57+AK87+AK88 -> 0.44909907 | AL91: =AM57+AL87+AL88 -> 1.0742254 | AM91: +j | AN91: =AN57+AN87+AN88 -> 0.45693101 | AO91: =AP57+AO87+AO88 -> 1.0152002 | AP91: +j | AQ91: =AQ57+AQ87+AQ88 -> 0.43537937
A92: 2Т | B92: Потери пост. | D92: Px.x+j Qx.x. | H92: =$C$45/1000 -> 0.027 | I92: +j | J92: =$G$45/1000 -> 0.173 | K92: =$C$45/1000 -> 0.027 | L92: +j | M92: =$G$45/1000 -> 0.173 | N92: =$C$45/1000 -> 0.027 | O92: +j | P92: =$G$45/1000 -> 0.173 | Q92: =$C$45/1000 -> 0.027 | R92: +j | S92: =$G$45/1000 -> 0.173 | T92: =$C$45/1000 -> 0.027 | U92: +j | V92: =$G$45/1000 -> 0.173 | W92: =$C$45/1000 -> 0.027 | X92: +j | Y92: =$G$45/1000 -> 0.173 | Z92: =$C$45/1000 -> 0.027 | AA92: +j | AB92: =$G$45/1000 -> 0.173 | AC92: =$C$45/1000 -> 0.027 | AD92: +j | AE92: =$G$45/1000 -> 0.173 | AF92: =$C$45/1000 -> 0.027 | AG92: +j | AH92: =$G$45/1000 -> 0.173 | AI92: =$C$45/1000 -> 0.027 | AJ92: +j | AK92: =$G$45/1000 -> 0.173 | AL92: =$C$45/1000 -> 0.027 | AM92: +j | AN92: =$G$45/1000 -> 0.173 | AO92: =$C$45/1000 -> 0.027 | AP92: +j | AQ92: =$G$45/1000 -> 0.173
B93: Потери перем. | D93: Рпер+j Qпер. | H93: =((I63^2+J63^2)*$G$46/1000)/($C$13*$C$7) -> 0.0011129551 | I93: +j | J93: =((I63^2+J63^2)*$J$46)/(100*$C$13) -> 0.024345892 | K93: =((L63^2+M63^2)*$G$46/1000)/($C$13*$C$7) -> 0.0013044806 | L93: +j | M93: =((L63^2+M63^2)*$J$46)/(100*$C$13) -> 0.028535514 | N93: =((O63^2+P63^2)*$G$46/1000)/($C$13*$C$7) -> 0.0012492476 | O93: +j | P93: =((O63^2+P63^2)*$J$46)/(100*$C$13) -> 0.027327292 | Q93: =((R63^2+S63^2)*$G$46/1000)/($C$13*$C$7) -> 0.0012809574 | R93: +j | S93: =((R63^2+S63^2)*$J$46)/(100*$C$13) -> 0.028020943 | T93: =((U63^2+V63^2)*$G$46/1000)/($C$13*$C$7) -> 0.0015090574 | U93: +j | V93: =((U63^2+V63^2)*$J$46)/(100*$C$13) -> 0.033010631 | W93: =((X63^2+Y63^2)*$G$46/1000)/($C$13*$C$7) -> 0.0012726883 | X93: +j | Y93: =((X63^2+Y63^2)*$J$46)/(100*$C$13) -> 0.027840057 | Z93: =((AA63^2+AB63^2)*$G$46/1000)/($C$13*$C$7) -> 0.0012523102 | AA93: +j | AB93: =((AA63^2+AB63^2)*$J$46)/(100*$C$13) -> 0.027394286 | AC93: =((AD63^2+AE63^2)*$G$46/1000)/($C$13*$C$7) -> 0.0013251644 | AD93: +j | AE93: =((AD63^2+AE63^2)*$J$46)/(100*$C$13) -> 0.028987972 | AF93: =((AG63^2+AH63^2)*$G$46/1000)/($C$13*$C$7) -> 0.0012746175 | AG93: +j | AH93: =((AG63^2+AH63^2)*$J$46)/(100*$C$13) -> 0.027882259 | AI93: =((AJ63^2+AK63^2)*$G$46/1000)/($C$13*$C$7) -> 0.0012261506 | AJ93: +j | AK93: =((AJ63^2+AK63^2)*$J$46)/(100*$C$13) -> 0.026822044 | AL93: =((AM63^2+AN63^2)*$G$46/1000)/($C$13*$C$7) -> 0.0011924786 | AM93: +j | AN93: =((AM63^2+AN63^2)*$J$46)/(100*$C$13) -> 0.026085469 | AO93: =((AP63^2+AQ63^2)*$G$46/1000)/($C$13*$C$7) -> 0.0012118748 | AP93: +j | AQ93: =((AP63^2+AQ63^2)*$J$46)/(100*$C$13) -> 0.026509762
B94: Рхх= | C94: 27 | E94: Qхх= | G94: 173
F95: Ркз(10)= | G95: 120 | H95: Uкз%(10)= | J95: 10.5
B96: Полная нагрузка с потерями | H96: =I63+H92+H93 -> 2.349113 | I96: +j | J96: =J63+J92+J93 -> 0.83734589 | K96: =L63+K92+K93 -> 2.4793045 | L96: +j | M96: =M63+M92+M93 -> 1.0885355 | N96: =O63+N92+N93 -> 2.4412492 | O96: +j | P96: =P63+P92+P93 -> 1.0273273 | Q96: =R63+Q92+Q93 -> 2.491281 | R96: +j | S96: =S63+S92+S93 -> 0.97902094 | T96: =U63+T92+T93 -> 2.6715091 | U96: +j | V96: =V63+V92+V93 -> 1.1410106 | W96: =X63+W92+W93 -> 2.5122727 | X96: +j | Y96: =Y63+Y92+Y93 -> 0.87784006 | Z96: =AA63+Z92+Z93 -> 2.4932523 | AA96: +j | AB96: =AB63+AB92+AB93 -> 0.86839429 | AC96: =AD63+AC92+AC93 -> 2.5613252 | AD96: +j | AE96: =AE63+AE92+AE93 -> 0.89898797 | AF96: =AG63+AF92+AF93 -> 2.5112746 | AG96: +j | AH96: =AH63+AH92+AH93 -> 0.88888226 | AI96: =AJ63+AI92+AI93 -> 2.4632262 | AJ96: +j | AK96: =AK63+AK92+AK93 -> 0.87582204 | AL96: =AM63+AL92+AL93 -> 2.4271925 | AM96: +j | AN96: =AN63+AN92+AN93 -> 0.87408547 | AO96: =AP63+AO92+AO93 -> 2.4462119 | AP96: +j | AQ96: =AQ63+AQ92+AQ93 -> 0.88150976
A97: Суммарная нагрузка
A98: ПС с потерями | F98: S p | H98: =SUM(H91,H96) -> 3.3923236 | I98: +j | J98: =SUM(J91,J96) -> 1.2699545 | K98: =SUM(K91,K96) -> 3.6015657 | L98: +j | M98: =SUM(M91,M96) -> 1.6692502 | N98: =SUM(N91,N96) -> 3.5384929 | O98: +j | P98: =SUM(P91,P96) -> 1.5576563 | Q98: =SUM(Q91,Q96) -> 3.6395516 | R98: +j | S98: =SUM(S91,S96) -> 1.5489409 | T98: =SUM(T91,T96) -> 3.8467925 | U98: +j | V98: =SUM(V91,V96) -> 1.7182111 | W98: =SUM(W91,W96) -> 3.6965626 | X98: +j | Y98: =SUM(Y91,Y96) -> 1.4711822 | Z98: =SUM(Z91,Z96) -> 3.6935494 | AA98: +j | AB98: =SUM(AB91,AB96) -> 1.4618931 | AC98: =SUM(AC91,AC96) -> 3.6965803 | AD98: +j | AE98: =SUM(AE91,AE96) -> 1.3955689 | AF98: =SUM(AF91,AF96) -> 3.6255172 | AG98: +j | AH98: =SUM(AH91,AH96) -> 1.3531884 | AI98: =SUM(AI91,AI96) -> 3.5584593 | AJ98: +j | AK98: =SUM(AK91,AK96) -> 1.3249211 | AL98: =SUM(AL91,AL96) -> 3.5014179 | AM98: +j | AN98: =SUM(AN91,AN96) -> 1.3310165 | AO98: =SUM(AO91,AO96) -> 3.4614121 | AP98: +j | AQ98: =SUM(AQ91,AQ96) -> 1.3168891
A99: средневзв тангенс | I99: =J98/H98 -> 0.37436124 | L99: =M98/K98 -> 0.46347902 | O99: =P98/N98 -> 0.44020331 | R99: =S98/Q98 -> 0.42558565 | U99: =V98/T98 -> 0.44666072 | X99: =Y98/W98 -> 0.39798656 | AA99: =AB98/Z98 -> 0.39579626 | AD99: =AE98/AC98 -> 0.37752971 | AG99: =AH98/AF98 -> 0.3732401 | AJ99: =AK98/AI98 -> 0.37233 | AM99: =AN98/AL98 -> 0.38013642 | AP99: =AQ98/AO98 -> 0.38044853
A100: время уральское

Sheet ПС 110-10 ЮМАС
A1: Ведомость контрольного замера по ПС: 110/35/10 кВ «ЮМАС»
AM2: Дата: | AN2: 45644
A4: Замер по трансформаторам | H4: 1 час. | K4: 2 час. | N4: 3 час. | Q4: 4 час. | T4: 5 час. | W4: 6 час. | Z4: 7 час. | AC4: 8 час. | AF4: 9 час. | AI4: 10 час. | AL4: 11 час. | AO4: 12 час.
A5: Диспет. наимен. | C5: S ном, МВА | H5: Ток | I5: Pнагр. | J5: Qнагр. | K5: Ток | L5: Pнагр. | M5: Qнагр. | N5: Ток | O5: Pнагр. | P5: Qнагр. | Q5: Ток | R5: Pнагр. | S5: Qнагр. | T5: Ток | U5: Pнагр. | V5: Qнагр. | W5: Ток | X5: Pнагр. | Y5: Qнагр. | Z5: Ток | AA5: Pнагр. | AB5: Qнагр. | AC5: Ток | AD5: Pнагр. | AE5: Qнагр. | AF5: Ток | AG5: Pнагр. | AH5: Qнагр. | AI5: Ток | AJ5: Pнагр. | AK5: Qнагр. | AL5: Ток | AM5: Pнагр. | AN5: Qнагр. | AO5: Ток | AP5: Pнагр. | AQ5: Qнагр.
H6: А | I6: МВт | J6: Мвар | K6: А | L6: МВт | M6: Мвар | N6: А | O6: МВт | P6: Мвар | Q6: А | R6: МВт | S6: Мвар | T6: А | U6: МВт | V6: Мвар | W6: А | X6: МВт | Y6: Мвар | Z6: А | AA6: МВт | AB6: Мвар | AC6: А | AD6: МВт | AE6: Мвар | AF6: А | AG6: МВт | AH6: Мвар | AI6: А | AJ6: МВт | AK6: Мвар | AL6: А | AM6: МВт | AN6: Мвар | AO6: А | AP6: МВт | AQ6: Мвар
A7: 1Т | C7: 16 | D7: Нагрузка | F7: 110 кВ | H7: =SQRT(I7^2+J7^2)*1000/(1.73*H11) -> 47.104286 | I7: 9.6448 | J7: 2.0504 | K7: =SQRT(L7^2+M7^2)*1000/(1.73*K11) -> 46.610964 | L7: 9.5392 | M7: 2.0504 | N7: =SQRT(O7^2+P7^2)*1000/(1.73*N11) -> 46.173473 | O7: 9.4512 | P7: 2.024 | Q7: =SQRT(R7^2+S7^2)*1000/(1.73*Q11) -> 45.621489 | R7: 9.3368 | S7: 2.0064 | T7: =SQRT(U7^2+V7^2)*1000/(1.73*T11) -> 46.073698 | U7: 9.4336 | V7: 2.0064 | W7: =SQRT(X7^2+Y7^2)*1000/(1.73*W11) -> 46.649527 | X7: 9.5568 | Y7: 2.0064 | Z7: =SQRT(AA7^2+AB7^2)*1000/(1.73*Z11) -> 49.065792 | AA7: 10.0496 | AB7: 2.1208 | AC7: =SQRT(AD7^2+AE7^2)*1000/(1.73*AC11) -> 51.497241 | AD7: 10.5512 | AE7: 2.2088 | AF7: =SQRT(AG7^2+AH7^2)*1000/(1.73*AF11) -> 51.908782 | AG7: 10.6392 | AH7: 2.2088 | AI7: =SQRT(AJ7^2+AK7^2)*1000/(1.73*AI11) -> 51.249006 | AJ7: 10.5336 | AK7: 2.0328 | AL7: =SQRT(AM7^2+AN7^2)*1000/(1.73*AL11) -> 50.125532 | AM7: 10.3224 | AN7: 1.8832 | AO7: =SQRT(AP7^2+AQ7^2)*1000/(1.73*AO11) -> 49.62934 | AP7: 10.2168 | AQ7: 1.8832
F8: 35 кВ | H8: =SQRT(I8^2+J8^2)*1000/(1.73*H12) -> 12.437281 | I8: =I32 -> 0.756 | J8: =J32 -> 0.1687 | K8: =SQRT(L8^2+M8^2)*1000/(1.73*K12) -> 13.046913 | L8: =L32 -> 0.79135 | M8: =M32 -> 0.18445 | N8: =SQRT(O8^2+P8^2)*1000/(1.73*N12) -> 13.08409 | O8: =O32 -> 0.79485 | P8: =P32 -> 0.17955 | Q8: =SQRT(R8^2+S8^2)*1000/(1.73*Q12) -> 12.595169 | R8: =R32 -> 0.76545 | S8: =S32 -> 0.1715 | T8: =SQRT(U8^2+V8^2)*1000/(1.73*T12) -> 13.115217 | U8: =U32 -> 0.7966 | V8: =V32 -> 0.1806 | W8: =SQRT(X8^2+Y8^2)*1000/(1.73*W12) -> 12.10268 | X8: =X32 -> 0.73535 | Y8: =Y32 -> 0.16555 | Z8: =SQRT(AA8^2+AB8^2)*1000/(1.73*Z12) -> 13.732005 | AA8: =AA32 -> 0.8344 | AB8: =AB32 -> 0.1876 | AC8: =SQRT(AD8^2+AE8^2)*1000/(1.73*AC12) -> 13.59158 | AD8: =AD32 -> 0.82775 | AE8: =AE32 -> 0.1771 | AF8: =SQRT(AG8^2+AH8^2)*1000/(1.73*AF12) -> 13.946066 | AG8: =AG32 -> 0.8498 | AH8: =AH32 -> 0.17955 | AI8: =SQRT(AJ8^2+AK8^2)*1000/(1.73*AI12) -> 12.85496 | AJ8: =AJ32 -> 0.7896 | AK8: =AK32 -> 0.1323 | AL8: =SQRT(AM8^2+AN8^2)*1000/(1.73*AL12) -> 11.954788 | AM8: =AM32 -> 0.73675 | AN8: =AN32 -> 0.10745 | AO8: =SQRT(AP8^2+AQ8^2)*1000/(1.73*AO12) -> 12.99492 | AP8: =AP32 -> 0.7994 | AQ8: =AQ32 -> 0.12635
F9: 10 кВ | H9: =SQRT(I9^2+J9^2)*1000/(1.73*H13) -> 511.467 | I9: =I54+I52 -> 8.925692 | J9: =J54+J52 -> 1.3375 | K9: =SQRT(L9^2+M9^2)*1000/(1.73*K13) -> 503.84528 | L9: =L54+L52 -> 8.788744 | M9: =M54+M52 -> 1.3436 | N9: =SQRT(O9^2+P9^2)*1000/(1.73*N13) -> 498.38023 | O9: =O54+O52 -> 8.693144 | P9: =P54+P52 -> 1.3308 | Q9: =SQRT(R9^2+S9^2)*1000/(1.73*Q13) -> 493.82681 | R9: =R54+R52 -> 8.612112 | S9: =S54+S52 -> 1.3291 | T9: =SQRT(U9^2+V9^2)*1000/(1.73*T13) -> 497.47791 | U9: =U54+U52 -> 8.679868 | V9: =V54+V52 -> 1.3122 | W9: =SQRT(X9^2+Y9^2)*1000/(1.73*W13) -> 507.71702 | X9: =X54+X52 -> 8.862336 | Y9: =Y54+Y52 -> 1.3137 | Z9: =SQRT(AA9^2+AB9^2)*1000/(1.73*Z13) -> 529.96341 | AA9: =AA54+AA52 -> 9.25584 | AB9: =AB54+AB52 -> 1.3358 | AC9: =SQRT(AD9^2+AE9^2)*1000/(1.73*AC13) -> 559.29847 | AD9: =AD54+AD52 -> 9.775172 | AE9: =AE54+AE52 -> 1.3604 | AF9: =SQRT(AG9^2+AH9^2)*1000/(1.73*AF13) -> 562.42337 | AG9: =AG54+AG52 -> 9.834256 | AH9: =AH54+AH52 -> 1.3355 | AI9: =SQRT(AJ9^2+AK9^2)*1000/(1.73*AI13) -> 558.84944 | AJ9: =AJ54+AJ52 -> 9.785788 | AK9: =AK54+AK52 -> 1.2193 | AL9: =SQRT(AM9^2+AN9^2)*1000/(1.73*AL13) -> 549.99523 | AM9: =AM54+AM52 -> 9.639932 | AN9: =AN54+AN52 -> 1.1238 | AO9: =SQRT(AP9^2+AQ9^2)*1000/(1.73*AO13) -> 540.19425 | AP9: =AP54+AP52 -> 9.465708 | AQ9: =AQ54+AQ52 -> 1.1245
D10: РПН | H10: 4 | K10: 4 | N10: 4 | Q10: 4 | T10: 4 | W10: 4 | Z10: 4 | AC10: 4 | AF10: 4 | AI10: 4 | AL10: 4 | AO10: 4
D11: Напряж. | F11: 110 кВ | H11: 121 | K11: 121 | N11: 121 | Q11: 121 | T11: 121 | W11: 121 | Z11: 121 | AC11: 121 | AF11: 121 | AI11: 121 | AL11: 121 | AO11: 121
F12: 35 кВ | H12: 36 | K12: 36 | N12: 36 | Q12: 36 | T12: 36 | W12: 36 | Z12: 36 | AC12: 36 | AF12: 36 | AI12: 36 | AL12: 36 | AO12: 36
F13: 10 кВ | H13: 10.2 | K13: 10.2 | N13: 10.2 | Q13: 10.2 | T13: 10.2 | W13: 10.2 | Z13: 10.2 | AC13: 10.2 | AF13: 10.2 | AI13: 10.2 | AL13: 10.2 | AO13: 10.2
D14: ПБВ | H14: 4 | K14: 4 | N14: 4 | Q14: 4 | T14: 4 | W14: 4 | Z14: 4 | AC14: 4 | AF14: 4 | AI14: 4 | AL14: 4 | AO14: 4
A15: 2Т | C15: 16 | D15: Нагрузка | F15: 110 кВ | H15: =SQRT(I15^2+J15^2)*1000/(1.73*H19) -> 51.158492 | I15: 10.516 | J15: 2.024 | K15: =SQRT(L15^2+M15^2)*1000/(1.73*K19) -> 50.078813 | L15: 10.296 | M15: 1.9712 | N15: =SQRT(O15^2+P15^2)*1000/(1.73*N19) -> 49.650113 | O15: 10.208 | P15: 1.9536 | Q15: =SQRT(R15^2+S15^2)*1000/(1.73*Q19) -> 49.675681 | R15: 10.2168 | S15: 1.936 | T15: =SQRT(U15^2+V15^2)*1000/(1.73*T19) -> 49.923527 | U15: 10.2696 | V15: 1.936 | W15: =SQRT(X15^2+Y15^2)*1000/(1.73*W19) -> 51.307853 | X15: 10.5512 | Y15: 2.0064 | Z15: =SQRT(AA15^2+AB15^2)*1000/(1.73*Z19) -> 53.730712 | AA15: 11.044 | AB15: 2.1296 | AC15: =SQRT(AD15^2+AE15^2)*1000/(1.73*AC19) -> 55.801297 | AD15: 11.4752 | AE15: 2.1824 | AF15: =SQRT(AG15^2+AH15^2)*1000/(1.73*AF19) -> 54.54869 | AG15: 11.22 | AH15: 2.1208 | AI15: =SQRT(AJ15^2+AK15^2)*1000/(1.73*AI19) -> 53.047228 | AJ15: 10.9296 | AK15: 1.9624 | AL15: =SQRT(AM15^2+AN15^2)*1000/(1.73*AL19) -> 52.464968 | AM15: 10.8152 | AN15: 1.9096 | AO15: =SQRT(AP15^2+AQ15^2)*1000/(1.73*AO19) -> 52.479652 | AP15: 10.8152 | AQ15: 1.9272
F16: 35 кВ | H16: =SQRT(I16^2+J16^2)*1000/(1.73*H20) -> 26.736441 | I16: =I33 -> 1.64815 | J16: =J33 -> 0.2373 | K16: =SQRT(L16^2+M16^2)*1000/(1.73*K20) -> 26.549678 | L16: =L33 -> 1.6366 | M16: =M33 -> 0.2359 | N16: =SQRT(O16^2+P16^2)*1000/(1.73*N20) -> 26.374838 | O16: =O33 -> 1.62645 | P16: =P33 -> 0.22995 | Q16: =SQRT(R16^2+S16^2)*1000/(1.73*Q20) -> 26.351885 | R16: =R33 -> 1.6254 | S16: =S33 -> 0.22715 | T16: =SQRT(U16^2+V16^2)*1000/(1.73*T20) -> 26.763631 | U16: =U33 -> 1.65095 | V16: =V33 -> 0.2296 | W16: =SQRT(X16^2+Y16^2)*1000/(1.73*W20) -> 27.401761 | X16: =X33 -> 1.69015 | Y16: =Y33 -> 0.23625 | Z16: =SQRT(AA16^2+AB16^2)*1000/(1.73*Z20) -> 27.359102 | AA16: =AA33 -> 1.68805 | AB16: =AB33 -> 0.23205 | AC16: =SQRT(AD16^2+AE16^2)*1000/(1.73*AC20) -> 28.630062 | AD16: =AD33 -> 1.7675 | AE16: =AE33 -> 0.2352 | AF16: =SQRT(AG16^2+AH16^2)*1000/(1.73*AF20) -> 28.119483 | AG16: =AG33 -> 1.73635 | AH16: =AH33 -> 0.2282 | AI16: =SQRT(AJ16^2+AK16^2)*1000/(1.73*AI20) -> 27.875463 | AJ16: =AJ33 -> 1.7206 | AK16: =AK33 -> 0.23135 | AL16: =SQRT(AM16^2+AN16^2)*1000/(1.73*AL20) -> 27.36467 | AM16: =AM33 -> 1.6884 | AN16: =AN33 -> 0.23205 | AO16: =SQRT(AP16^2+AQ16^2)*1000/(1.73*AO20) -> 27.018755 | AP16: =AP33 -> 1.6667 | AQ16: =AQ33 -> 0.2317
F17: 10 кВ | H17: =SQRT(I17^2+J17^2)*1000/(1.73*H21) -> 510.36953 | I17: =I55+I53 -> 8.920928 | J17: =J55+J53 -> 1.2348 | K17: =SQRT(L17^2+M17^2)*1000/(1.73*K21) -> 498.97825 | L17: =L55+L53 -> 8.720208 | M17: =M55+M53 -> 1.2188 | N17: =SQRT(O17^2+P17^2)*1000/(1.73*N21) -> 494.2846 | O17: =O55+O53 -> 8.636712 | P17: =P55+P53 -> 1.2178 | Q17: =SQRT(R17^2+S17^2)*1000/(1.73*Q21) -> 495.27919 | R17: =R55+R53 -> 8.656088 | S17: =S55+S53 -> 1.206 | T17: =SQRT(U17^2+V17^2)*1000/(1.73*T21) -> 496.27942 | U17: =U55+U53 -> 8.676008 | V17: =V55+V53 -> 1.1908 | W17: =SQRT(X17^2+Y17^2)*1000/(1.73*W21) -> 510.34994 | X17: =X55+X53 -> 8.92204 | Y17: =Y55+Y53 -> 1.2242 | Z17: =SQRT(AA17^2+AB17^2)*1000/(1.73*Z21) -> 538.75705 | AA17: =AA55+AA53 -> 9.421832 | AB17: =AB55+AB53 -> 1.269 | AC17: =SQRT(AD17^2+AE17^2)*1000/(1.73*AC21) -> 558.27357 | AD17: =AD55+AD53 -> 9.770488 | AE17: =AE55+AE53 -> 1.2592 | AF17: =SQRT(AG17^2+AH17^2)*1000/(1.73*AF21) -> 545.64932 | AG17: =AG55+AG53 -> 9.547984 | AH17: =AH55+AH53 -> 1.2428 | AI17: =SQRT(AJ17^2+AK17^2)*1000/(1.73*AI21) -> 529.07473 | AJ17: =AJ55+AJ53 -> 9.269472 | AK17: =AK55+AK53 -> 1.113 | AL17: =SQRT(AM17^2+AN17^2)*1000/(1.73*AL21) -> 524.61577 | AM17: =AM55+AM53 -> 9.193496 | AN17: =AN55+AN53 -> 1.0856 | AO17: =SQRT(AP17^2+AQ17^2)*1000/(1.73*AO21) -> 526.11138 | AP17: =AP55+AP53 -> 9.219504 | AQ17: =AQ55+AQ53 -> 1.0904
D18: РПН | H18: 4 | K18: 5 | N18: 5 | Q18: 5 | T18: 5 | W18: 5 | Z18: 5 | AC18: 5 | AF18: 5 | AI18: 5 | AL18: 5 | AO18: 5
D19: Напряж. | F19: 110 кВ | H19: 121 | K19: 121 | N19: 121 | Q19: 121 | T19: 121 | W19: 121 | Z19: 121 | AC19: 121 | AF19: 121 | AI19: 121 | AL19: 121 | AO19: 121
F20: 35 кВ | H20: 36 | K20: 36 | N20: 36 | Q20: 36 | T20: 36 | W20: 36 | Z20: 36 | AC20: 36 | AF20: 36 | AI20: 36 | AL20: 36 | AO20: 36
F21: 10 кВ | H21: 10.2 | K21: 10.2 | N21: 10.2 | Q21: 10.2 | T21: 10.2 | W21: 10.2 | Z21: 10.2 | AC21: 10.2 | AF21: 10.2 | AI21: 10.2 | AL21: 10.2 | AO21: 10.2
D22: ПБВ | H22: - | K22: - | Q22: - | T22: - | W22: - | Z22: - | AC22: - | AF22: - | AL22: - | AO22: -
A23: Всего | F23: 110 кВ | H23: =H15+H7 -> 98.262777 | I23: =I15+I7 -> 20.1608 | J23: =J15+J7 -> 4.0744 | K23: =K15+K7 -> 96.689777 | L23: =L15+L7 -> 19.8352 | M23: =M15+M7 -> 4.0216 | N23: =N15+N7 -> 95.823587 | O23: =O15+O7 -> 19.6592 | ... AQ23: =AQ15+AQ7 -> 3.8104
F24: 35 кВ | H24: =H16+H8 -> 39.173723 | I24: =I16+I8 -> 2.40415 | J24: =J16+J8 -> 0.406 | K24: =K16+K8 -> 39.596591 | L24: =L16+L8 -> 2.42795 | M24: =M16+M8 -> 0.42035 | N24: =N16+N8 -> 39.458928 | O24: =O16+O8 -> 2.4213 | ... AQ24: =AQ16+AQ8 -> 0.35805
F25: 10 кВ | H25: =H17+H9 -> 1021.8365 | I25: =I17+I9 -> 17.84662 | J25: =J17+J9 -> 2.5723 | K25: =K17+K9 -> 1002.8235 | L25: =L17+L9 -> 17.508952 | M25: =M17+M9 -> 2.5624 | N25: =N17+N9 -> 992.66483 | O25: =O17+O9 -> 17.329856 | ... AQ25: =AQ17+AQ9 -> 2.2149
A26: cosФ(110)= | B26: 0 | D26: tgФ(110)= | E26: 0
A27: cosФ(35)= | B27: =(I24+L24+O24+R24+U24+X24+AA24+AD24+AG24+AJ24+AM24+AP24+I94+L94+O94+R94+U94+X94+AA94+AD94+AG94+AJ94+AM94+AP94)/SQRT((I24+L24+O24+R24+U24+X24+AA24+AD24+AG24+AJ24+AM24+AP24+I94+L94+O94+R94+U94+X94+AA94+AD94+AG94+AJ94+AM94+AP94)^2+(J24+M24+P24+S24+V24+Y24+AB24+AE24+AH24+AK24+AN24+J94+M94+P94+S94+V94+Y94+AB94+AE94+AH94+AK94+AN94+AQ94+AQ24)^2) -> 0.98744206 | D27: tgФ(35)= | E27: =(J24+M24+P24+S24+V24+Y24+AB24+AE24+AH24+AK24+AN24+J94+M94+P94+S94+V94+Y94+AB94+AE94+AH94+AK94+AN94+AQ94+AQ24)/(I24+L24+O24+R24+U24+X24+AA24+AD24+AG24+AJ24+AM24+AP24+I94+L94+O94+R94+U94+X94+AA94+AD94+AG94+AJ94+AM94+AP94) -> 0.15999071
A28: cosФ(10)= | B28: =(I25+L25+O25+R25+U25+X25+AA25+AD25+AG25+AJ25+AM25+AP25+I95+L95+O95+R95+U95+X95+AA95+AD95+AG95+AJ95+AM95+AP95)/SQRT((I25+L25+O25+R25+U25+X25+AA25+AD25+AG25+AJ25+AM25+AP25+I95+L95+O95+R95+U95+X95+AA95+AD95+AG95+AJ95+AM95+AP95)^2+(J25+M25+P25+S25+V25+Y25+AB25+AE25+AH25+AK25+AN25+J95+M95+P95+S95+V95+Y95+AB95+AE95+AH95+AK95+AN95+AQ95+AQ25)^2) -> 0.99128872 | D28: tgФ(10)= | E28: =(J25+M25+P25+S25+V25+Y25+AB25+AE25+AH25+AK25+AN25+J95+M95+P95+S95+V95+Y95+AB95+AE95+AH95+AK95+AN95+AQ95+AQ25)/(I25+L25+O25+R25+U25+X25+AA25+AD25+AG25+AJ25+AM25+AP25+I95+L95+O95+R95+U95+X95+AA95+AD95+AG95+AJ95+AM95+AP95) -> 0.13286418
A30: Замер по | D30: Уст.ЧАПВ | F30: Уст.АЧР | H30: 1 час. | K30: 2 час. | N30: 3 час. | Q30: 4 час. | T30: 5 час. | W30: 6 час. | Z30: 7 час. | AC30: 8 час. | AF30: 9 час. | AI30: 10 час. | AL30: 11 час. | AO30: 12 час.
A31: ВЛ- 35 кВ | D31: герц | E31: сек | F31: герц | G31: сек
A32: ВЛ-35 кВ | B32: ф."ВЛ Ямки" | H32: =SQRT(I32^2+J32^2)*1000/(1.73*H20) -> 12.437281 | I32: 0.756 | J32: 0.1687 | K32: =SQRT(L32^2+M32^2)*1000/(1.73*K20) -> 13.046913 | L32: 0.79135 | M32: 0.18445 | N32: =SQRT(O32^2+P32^2)*1000/(1.73*N20) -> 13.08409 | O32: 0.79485 | P32: 0.17955 | Q32: =SQRT(R32^2+S32^2)*1000/(1.73*Q20) -> 12.595169 | R32: 0.76545 | S32: 0.1715 | T32: =SQRT(U32^2+V32^2)*1000/(1.73*T20) -> 13.115217 | U32: 0.7966 | V32: 0.1806 | W32: =SQRT(X32^2+Y32^2)*1000/(1.73*W20) -> 12.10268 | X32: 0.73535 | Y32: 0.16555 | Z32: =SQRT(AA32^2+AB32^2)*1000/(1.73*Z20) -> 13.732005 | AA32: 0.8344 | AB32: 0.1876 | AC32: =SQRT(AD32^2+AE32^2)*1000/(1.73*AC20) -> 13.59158 | AD32: 0.82775 | AE32: 0.1771 | AF32: =SQRT(AG32^2+AH32^2)*1000/(1.73*AF20) -> 13.946066 | AG32: 0.8498 | AH32: 0.17955 | AI32: =SQRT(AJ32^2+AK32^2)*1000/(1.73*AI20) -> 12.85496 | AJ32: 0.7896 | AK32: 0.1323 | AL32: =SQRT(AM32^2+AN32^2)*1000/(1.73*AL20) -> 11.954788 | AM32: 0.73675 | AN32: 0.10745 | AO32: =SQRT(AP32^2+AQ32^2)*1000/(1.73*AO20) -> 12.99492 | AP32: 0.7994 | AQ32: 0.12635
A33: ВЛ-35 кВ | B33: ф."ВЛ ЛПК" | H33: =SQRT(I33^2+J33^2)*1000/(1.73*H20) -> 26.736441 | I33: 1.64815 | J33: 0.2373 | K33: =SQRT(L33^2+M33^2)*1000/(1.73*K20) -> 26.549678 | L33: 1.6366 | M33: 0.2359 | N33: =SQRT(O33^2+P33^2)*1000/(1.73*N20) -> 26.374838 | O33: 1.62645 | P33: 0.22995 | Q33: =SQRT(R33^2+S33^2)*1000/(1.73*Q20) -> 26.351885 | R33: 1.6254 | S33: 0.22715 | T33: =SQRT(U33^2+V33^2)*1000/(1.73*T20) -> 26.763631 | U33: 1.65095 | V33: 0.2296 | W33: =SQRT(X33^2+Y33^2)*1000/(1.73*W20) -> 27.401761 | X33: 1.69015 | Y33: 0.23625 | Z33: =SQRT(AA33^2+AB33^2)*1000/(1.73*Z20) -> 27.359102 | AA33: 1.68805 | AB33: 0.23205 | AC33: =SQRT(AD33^2+AE33^2)*1000/(1.73*AC20) -> 28.630062 | AD33: 1.7675 | AE33: 0.2352 | AF33: =SQRT(AG33^2+AH33^2)*1000/(1.73*AF20) -> 28.119483 | AG33: 1.73635 | AH33: 0.2282 | AI33: =SQRT(AJ33^2+AK33^2)*1000/(1.73*AI20) -> 27.875463 | AJ33: 1.7206 | AK33: 0.23135 | AL33: =SQRT(AM33^2+AN33^2)*1000/(1.73*AL20) -> 27.36467 | AM33: 1.6884 | AN33: 0.23205 | AO33: =SQRT(AP33^2+AQ33^2)*1000/(1.73*AO20) -> 27.018755 | AP33: 1.6667 | AQ33: 0.2317
A34: Итого по отх.ВЛ от 1С-35 кВ | H34: =H32 -> 12.437281 | I34: =I32 -> 0.756 | J34: =J32 -> 0.1687 | K34: =K32 -> 13.046913 | L34: =L32 -> 0.79135 | M34: =M32 -> 0.18445 | N34: =N32 -> 13.08409 | O34: =O32 -> 0.79485 | ... AQ34: =AQ32 -> 0.12635
A35: Итого по отх.ВЛ от 2С-35 кВ | H35: =H33 -> 26.736441 | I35: =I33 -> 1.64815 | J35: =J33 -> 0.2373 | K35: =K33 -> 26.549678 | L35: =L33 -> 1.6366 | M35: =M33 -> 0.2359 | N35: =N33 -> 26.374838 | O35: =O33 -> 1.62645 | ... AQ35: =AQ33 -> 0.2317
A36: Итого по ВЛ-35 кВ | H36: =H34+H35 -> 39.173723 | I36: =I34+I35 -> 2.40415 | J36: =J34+J35 -> 0.406 | K36: =K34+K35 -> 39.596591 | L36: =L34+L35 -> 2.42795 | M36: =M34+M35 -> 0.42035 | N36: =N34+N35 -> 39.458928 | O36: =O34+O35 -> 2.4213 | ... AQ36: =AQ34+AQ35 -> 0.35805
A38: Замер по | D38: Уст.ЧАПВ | F38: Уст.АЧР | H38: 1 час. | K38: 2 час. | N38: 3 час. | Q38: 4 час. | T38: 5 час. | W38: 6 час. | Z38: 7 час. | AC38: 8 час. | AF38: 9 час. | AI38: 10 час. | AL38: 11 час. | AO38: 12 час.
A39: ВЛ- 10 кВ | D39: герц | E39: сек | F39: герц | G39: сек
A40: яч.5 | B40: ф."Нефтяник-1" | H40: =SQRT(I40^2+J40^2)*1000/(1.73*H21) -> 127.53209 | I40: 2.2264 | J40: 0.328 | K40: =SQRT(L40^2+M40^2)*1000/(1.73*K21) -> 124.29479 | L40: 2.1696 | M40: 0.3216 | N40: =SQRT(O40^2+P40^2)*1000/(1.73*N21) -> 121.5328 | O40: 2.1208 | P40: 0.3184 | Q40: =SQRT(R40^2+S40^2)*1000/(1.73*Q21) -> 121.21495 | R40: 2.1144 | S40: 0.3232 | T40: =SQRT(U40^2+V40^2)*1000/(1.73*T21) -> 121.03291 | U40: 2.112 | V40: 0.3176 | W40: =SQRT(X40^2+Y40^2)*1000/(1.73*W21) -> 126.36463 | X40: 2.2064 | Y40: 0.3224 | Z40: =SQRT(AA40^2+AB40^2)*1000/(1.73*Z21) -> 133.66669 | AA40: 2.3352 | AB40: 0.332 | AC40: =SQRT(AD40^2+AE40^2)*1000/(1.73*AC21) -> 141.21744 | AD40: 2.4696 | AE40: 0.3328 | AF40: =SQRT(AG40^2+AH40^2)*1000/(1.73*AF21) -> 148.13883 | AG40: 2.5936 | AH40: 0.3264 | AI40: =SQRT(AJ40^2+AK40^2)*1000/(1.73*AI21) -> 147.6811 | AJ40: 2.588 | AK40: 0.3056 | AL40: =SQRT(AM40^2+AN40^2)*1000/(1.73*AL21) -> 145.56486 | AM40: 2.5528 | AN40: 0.2848 | AO40: =SQRT(AP40^2+AQ40^2)*1000/(1.73*AO21) -> 144.71388 | AP40: 2.5376 | AQ40: 0.2856
A41: яч.7 | B41: ф."Луговой" | H41: =SQRT(I41^2+J41^2)*1000/(1.73*H21) -> 126.73538 | I41: 2.2224 | J41: 0.2496 | K41: =SQRT(L41^2+M41^2)*1000/(1.73*K21) -> 123.33497 | L41: 2.1618 | M41: 0.2514 | N41: =SQRT(O41^2+P41^2)*1000/(1.73*N21) -> 123.23952 | O41: 2.1612 | P41: 0.2418 | Q41: =SQRT(R41^2+S41^2)*1000/(1.73*Q21) -> 121.77897 | R41: 2.1354 | S41: 0.2406 | T41: =SQRT(U41^2+V41^2)*1000/(1.73*T21) -> 122.01549 | U41: 2.1396 | V41: 0.2406 | W41: =SQRT(X41^2+Y41^2)*1000/(1.73*W21) -> 122.97679 | X41: 2.1564 | Y41: 0.243 | Z41: =SQRT(AA41^2+AB41^2)*1000/(1.73*Z21) -> 127.02117 | AA41: 2.2284 | AB41: 0.2412 | AC41: =SQRT(AD41^2+AE41^2)*1000/(1.73*AC21) -> 130.38988 | AD41: 2.2878 | AE41: 0.2448 | AF41: =SQRT(AG41^2+AH41^2)*1000/(1.73*AF21) -> 126.20733 | AG41: 2.2146 | AH41: 0.2352 | AI41: =SQRT(AJ41^2+AK41^2)*1000/(1.73*AI21) -> 122.98827 | AJ41: 2.1612 | AK41: 0.198 | AL41: =SQRT(AM41^2+AN41^2)*1000/(1.73*AL21) -> 121.17253 | AM41: 2.13 | AN41: 0.1872 | AO41: =SQRT(AP41^2+AQ41^2)*1000/(1.73*AO21) -> 121.21838 | AP41: 2.1306 | AQ41: 0.1896
A42: яч.9 | B42: ф."Вокзал" | H42: =SQRT(I42^2+J42^2)*1000/(1.73*H21) -> 1.1345625 | I42: 0.0161 | J42: 0.0119 | K42: =SQRT(L42^2+M42^2)*1000/(1.73*K21) -> 1.117536 | L42: 0.0158 | M42: 0.0118 | N42: =SQRT(O42^2+P42^2)*1000/(1.73*N21) -> 1.1505559 | O42: 0.0168 | P42: 0.0114 | Q42: =SQRT(R42^2+S42^2)*1000/(1.73*Q21) -> 1.1324517 | R42: 0.0162 | S42: 0.0117 | T42: =SQRT(U42^2+V42^2)*1000/(1.73*T21) -> 1.1245403 | U42: 0.0161 | V42: 0.0116 | W42: =SQRT(X42^2+Y42^2)*1000/(1.73*W21) -> 1.1166304 | X42: 0.016 | Y42: 0.0115 | Z42: =SQRT(AA42^2+AB42^2)*1000/(1.73*Z21) -> 1.499606 | AA42: 0.0218 | AB42: 0.015 | AC42: =SQRT(AD42^2+AE42^2)*1000/(1.73*AC21) -> 2.9152054 | AD42: 0.0455 | AE42: 0.024 | AF42: =SQRT(AG42^2+AH42^2)*1000/(1.73*AF21) -> 3.0590133 | AG42: 0.0484 | AH42: 0.0239 | AI42: =SQRT(AJ42^2+AK42^2)*1000/(1.73*AI21) -> 1.8939167 | AJ42: 0.0303 | AK42: 0.0141 | AL42: =SQRT(AM42^2+AN42^2)*1000/(1.73*AL21) -> 1.8476615 | AM42: 0.0299 | AN42: 0.013 | AO42: =SQRT(AP42^2+AQ42^2)*1000/(1.73*AO21) -> 1.6804371 | AP42: 0.0267 | AQ42: 0.0129
A43: яч.11 | B43: ф."Лиственничный" | H43: =SQRT(I43^2+J43^2)*1000/(1.73*H21) -> 76.294857 | I43: 1.3316 | J43: 0.1984 | K43: =SQRT(L43^2+M43^2)*1000/(1.73*K21) -> 76.608759 | L43: 1.3372 | M43: 0.1984 | N43: =SQRT(O43^2+P43^2)*1000/(1.73*N21) -> 76.089732 | O43: 1.328 | P43: 0.198 | Q43: =SQRT(R43^2+S43^2)*1000/(1.73*Q21) -> 76.015057 | R43: 1.3272 | S43: 0.1944 | T43: =SQRT(U43^2+V43^2)*1000/(1.73*T21) -> 76.259123 | U43: 1.3312 | V43: 0.1968 | W43: =SQRT(X43^2+Y43^2)*1000/(1.73*W21) -> 78.659323 | X43: 1.374 | Y43: 0.1968 | Z43: =SQRT(AA43^2+AB43^2)*1000/(1.73*Z21) -> 80.050611 | AA43: 1.3984 | AB43: 0.1996 | AC43: =SQRT(AD43^2+AE43^2)*1000/(1.73*AC21) -> 82.217745 | AD43: 1.436 | AE43: 0.2068 | AF43: =SQRT(AG43^2+AH43^2)*1000/(1.73*AF21) -> 82.312175 | AG43: 1.4356 | AH43: 0.2208 | AI43: =SQRT(AJ43^2+AK43^2)*1000/(1.73*AI21) -> 80.958781 | AJ43: 1.4152 | AK43: 0.1952 | AL43: =SQRT(AM43^2+AN43^2)*1000/(1.73*AL21) -> 79.430331 | AM43: 1.392 | AN43: 0.164 | AO43: =SQRT(AP43^2+AQ43^2)*1000/(1.73*AO21) -> 75.166534 | AP43: 1.3168 | AQ43: 0.1592
A44: яч.15 | B44: ф."Поселковый-1" | H44: =SQRT(I44^2+J44^2)*1000/(1.73*H21) -> 110.59061 | I44: 1.9248 | J44: 0.3216 | K44: =SQRT(L44^2+M44^2)*1000/(1.73*K21) -> 109.03854 | L44: 1.896 | M44: 0.3276 | N44: =SQRT(O44^2+P44^2)*1000/(1.73*N21) -> 107.97048 | O44: 1.8756 | P44: 0.3348 | Q44: =SQRT(R44^2+S44^2)*1000/(1.73*Q21) -> 107.46607 | R44: 1.8672 | S44: 0.3312 | T44: =SQRT(U44^2+V44^2)*1000/(1.73*T21) -> 110.25525 | U44: 1.9188 | V44: 0.3216 | W44: =SQRT(X44^2+Y44^2)*1000/(1.73*W21) -> 110.5241 | X44: 1.9248 | Y44: 0.3144 | Z44: =SQRT(AA44^2+AB44^2)*1000/(1.73*Z21) -> 115.28848 | AA44: 2.0088 | AB44: 0.3216 | AC44: =SQRT(AD44^2+AE44^2)*1000/(1.73*AC21) -> 126.4478 | AD44: 2.208 | AE44: 0.3216 | AF44: =SQRT(AG44^2+AH44^2)*1000/(1.73*AF21) -> 130.91126 | AG44: 2.2884 | AH44: 0.3156 | AI44: =SQRT(AJ44^2+AK44^2)*1000/(1.73*AI21) -> 133.35911 | AJ44: 2.3328 | AK44: 0.3096 | AL44: =SQRT(AM44^2+AN44^2)*1000/(1.73*AL21) -> 129.95608 | AM44: 2.2752 | AN44: 0.2868 | AO44: =SQRT(AP44^2+AQ44^2)*1000/(1.73*AO21) -> 127.88214 | AP44: 2.238 | AQ44: 0.2892
A45: яч.17 | B45: ф."РП№3-1" | H45: =SQRT(I45^2+J45^2)*1000/(1.73*H21) -> 68.285579 | I45: 1.1832 | J45: 0.228 | K45: =SQRT(L45^2+M45^2)*1000/(1.73*K21) -> 68.560001 | L45: 1.1872 | M45: 0.2328 | N45: =SQRT(O45^2+P45^2)*1000/(1.73*N21) -> 67.511656 | O45: 1.1696 | P45: 0.2264 | Q45: =SQRT(R45^2+S45^2)*1000/(1.73*Q21) -> 65.349904 | R45: 1.1304 | S45: 0.228 | T45: =SQRT(U45^2+V45^2)*1000/(1.73*T21) -> 65.79472 | U45: 1.1392 | V45: 0.224 | W45: =SQRT(X45^2+Y45^2)*1000/(1.73*W21) -> 67.057954 | X45: 1.1616 | Y45: 0.2256 | Z45: =SQRT(AA45^2+AB45^2)*1000/(1.73*Z21) -> 71.477145 | AA45: 1.2408 | AB45: 0.2264 | AC45: =SQRT(AD45^2+AE45^2)*1000/(1.73*AC21) -> 75.22097 | AD45: 1.3072 | AE45: 0.2304 | AF45: =SQRT(AG45^2+AH45^2)*1000/(1.73*AF21) -> 70.903761 | AG45: 1.2328 | AH45: 0.2136 | AI45: =SQRT(AJ45^2+AK45^2)*1000/(1.73*AI21) -> 71.016073 | AJ45: 1.2376 | AK45: 0.1968 | AL45: =SQRT(AM45^2+AN45^2)*1000/(1.73*AL21) -> 71.029111 | AM45: 1.2392 | AN45: 0.188 | AO45: =SQRT(AP45^2+AQ45^2)*1000/(1.73*AO21) -> 68.564857 | AP45: 1.1952 | AQ45: 0.188
A46: яч.4 | B46: ф."Станция" | H46: =SQRT(I46^2+J46^2)*1000/(1.73*H21) -> 47.246015 | I46: 0.8244 | J46: 0.1242 | K46: =SQRT(L46^2+M46^2)*1000/(1.73*K21) -> 45.816547 | L46: 0.7986 | M46: 0.126 | N46: =SQRT(O46^2+P46^2)*1000/(1.73*N21) -> 44.978736 | O46: 0.7842 | P46: 0.1224 | Q46: =SQRT(R46^2+S46^2)*1000/(1.73*Q21) -> 45.774943 | R46: 0.7986 | S46: 0.1212 | T46: =SQRT(U46^2+V46^2)*1000/(1.73*T21) -> 46.178388 | U46: 0.8058 | V46: 0.1212 | W46: =SQRT(X46^2+Y46^2)*1000/(1.73*W21) -> 46.328126 | X46: 0.8082 | Y46: 0.123 | Z46: =SQRT(AA46^2+AB46^2)*1000/(1.73*Z21) -> 47.485222 | AA46: 0.8292 | AB46: 0.1206 | AC46: =SQRT(AD46^2+AE46^2)*1000/(1.73*AC21) -> 47.158084 | AD46: 0.8238 | AE46: 0.1176 | AF46: =SQRT(AG46^2+AH46^2)*1000/(1.73*AF21) -> 45.004844 | AG46: 0.7854 | AH46: 0.1176 | AI46: =SQRT(AJ46^2+AK46^2)*1000/(1.73*AI21) -> 44.244546 | AJ46: 0.7734 | AK46: 0.1068 | AL46: =SQRT(AM46^2+AN46^2)*1000/(1.73*AL21) -> 42.365641 | AM46: 0.741 | AN46: 0.099 | AO46: =SQRT(AP46^2+AQ46^2)*1000/(1.73*AO21) -> 43.653376 | AP46: 0.7632 | AQ46: 0.1044
A47: яч.6 | B47: ф."Леуши" | H47: =SQRT(I47^2+J47^2)*1000/(1.73*H21) -> 76.123986 | I47: 1.3304 | J47: 0.1856 | K47: =SQRT(L47^2+M47^2)*1000/(1.73*K21) -> 75.251683 | L47: 1.3148 | M47: 0.186 | N47: =SQRT(O47^2+P47^2)*1000/(1.73*N21) -> 74.373412 | O47: 1.2996 | P47: 0.1828 | Q47: =SQRT(R47^2+S47^2)*1000/(1.73*Q21) -> 73.712979 | R47: 1.288 | S47: 0.1816 | T47: =SQRT(U47^2+V47^2)*1000/(1.73*T21) -> 73.620031 | U47: 1.2864 | V47: 0.1812 | W47: =SQRT(X47^2+Y47^2)*1000/(1.73*W21) -> 75.158662 | X47: 1.3128 | Y47: 0.1884 | Z47: =SQRT(AA47^2+AB47^2)*1000/(1.73*Z21) -> 76.921887 | AA47: 1.344 | AB47: 0.19 | AC47: =SQRT(AD47^2+AE47^2)*1000/(1.73*AC21) -> 78.48338 | AD47: 1.3716 | AE47: 0.1916 | AF47: =SQRT(AG47^2+AH47^2)*1000/(1.73*AF21) -> 76.845055 | AG47: 1.3428 | AH47: 0.1888 | AI47: =SQRT(AJ47^2+AK47^2)*1000/(1.73*AI21) -> 74.142306 | AJ47: 1.2968 | AK47: 0.1732 | AL47: =SQRT(AM47^2+AN47^2)*1000/(1.73*AL21) -> 72.650499 | AM47: 1.2704 | AN47: 0.172 | AO47: =SQRT(AP47^2+AQ47^2)*1000/(1.73*AO21) -> 72.018519 | AP47: 1.2592 | AQ47: 0.1716
A48: яч.8 | B48: ф."Промплощадка" | H48: =SQRT(I48^2+J48^2)*1000/(1.73*H21) -> 12.125435 | I48: 0.2106 | J48: 0.0378 | K48: =SQRT(L48^2+M48^2)*1000/(1.73*K21) -> 12.088861 | L48: 0.2112 | M48: 0.03 | N48: =SQRT(O48^2+P48^2)*1000/(1.73*N21) -> 12.096414 | O48: 0.2094 | P48: 0.0414 | Q48: =SQRT(R48^2+S48^2)*1000/(1.73*Q21) -> 11.940285 | R48: 0.2076 | S48: 0.036 | T48: =SQRT(U48^2+V48^2)*1000/(1.73*T21) -> 12.064976 | U48: 0.2106 | V48: 0.0312 | W48: =SQRT(X48^2+Y48^2)*1000/(1.73*W21) -> 11.861791 | X48: 0.2064 | Y48: 0.0348 | Z48: =SQRT(AA48^2+AB48^2)*1000/(1.73*Z21) -> 12.588518 | AA48: 0.219 | AB48: 0.0372 | AC48: =SQRT(AD48^2+AE48^2)*1000/(1.73*AC21) -> 14.272435 | AD48: 0.2496 | AE48: 0.0336 | AF48: =SQRT(AG48^2+AH48^2)*1000/(1.73*AF21) -> 14.704772 | AG48: 0.2568 | AH48: 0.0372 | AI48: =SQRT(AJ48^2+AK48^2)*1000/(1.73*AI21) -> 14.445466 | AJ48: 0.2526 | AK48: 0.0342 | AL48: =SQRT(AM48^2+AN48^2)*1000/(1.73*AL21) -> 14.598957 | AM48: 0.255 | AN48: 0.0366 | AO48: =SQRT(AP48^2+AQ48^2)*1000/(1.73*AO21) -> 13.941707 | AP48: 0.243 | AQ48: 0.0384
A49: яч.16 | B49: ф."Поселковый-2" | H49: =SQRT(I49^2+J49^2)*1000/(1.73*H21) -> 148.31303 | I49: 2.5836 | J49: 0.4176 | K49: =SQRT(L49^2+M49^2)*1000/(1.73*K21) -> 144.73396 | L49: 2.52 | M49: 0.4152 | N49: =SQRT(O49^2+P49^2)*1000/(1.73*N21) -> 145.18092 | O49: 2.5272 | P49: 0.42 | Q49: =SQRT(R49^2+S49^2)*1000/(1.73*Q21) -> 146.34459 | R49: 2.5488 | S49: 0.4152 | T49: =SQRT(U49^2+V49^2)*1000/(1.73*T21) -> 146.96179 | U49: 2.5608 | V49: 0.4092 | W49: =SQRT(X49^2+Y49^2)*1000/(1.73*W21) -> 150.89995 | X49: 2.6304 | Y49: 0.414 | Z49: =SQRT(AA49^2+AB49^2)*1000/(1.73*Z21) -> 159.46645 | AA49: 2.7804 | AB49: 0.4332 | AC49: =SQRT(AD49^2+AE49^2)*1000/(1.73*AC21) -> 167.51449 | AD49: 2.9244 | AE49: 0.4308 | AF49: =SQRT(AG49^2+AH49^2)*1000/(1.73*AF21) -> 165.22501 | AG49: 2.8848 | AH49: 0.4224 | AI49: =SQRT(AJ49^2+AK49^2)*1000/(1.73*AI21) -> 160.88933 | AJ49: 2.8128 | AK49: 0.3852 | AL49: =SQRT(AM49^2+AN49^2)*1000/(1.73*AL21) -> 161.34263 | AM49: 2.8212 | AN49: 0.3828 | AO49: =SQRT(AP49^2+AQ49^2)*1000/(1.73*AO21) -> 162.48514 | AP49: 2.8404 | AQ49: 0.3912
A50: яч.18 | B50: ф."РП№3-2" | H50: =SQRT(I50^2+J50^2)*1000/(1.73*H21) -> 70.836361 | I50: 1.2408 | J50: 0.1512 | K50: =SQRT(L50^2+M50^2)*1000/(1.73*K21) -> 68.794858 | L50: 1.2048 | M50: 0.1488 | N50: =SQRT(O50^2+P50^2)*1000/(1.73*N21) -> 68.969311 | O50: 1.208 | P50: 0.148 | Q50: =SQRT(R50^2+S50^2)*1000/(1.73*Q21) -> 68.474342 | R50: 1.1992 | S50: 0.148 | T50: =SQRT(U50^2+V50^2)*1000/(1.73*T21) -> 68.407358 | U50: 1.1984 | V50: 0.1448 | W50: =SQRT(X50^2+Y50^2)*1000/(1.73*W21) -> 69.54889 | X50: 1.2184 | Y50: 0.1472 | Z50: =SQRT(AA50^2+AB50^2)*1000/(1.73*Z21) -> 74.382483 | AA50: 1.304 | AB50: 0.1496 | AC50: =SQRT(AD50^2+AE50^2)*1000/(1.73*AC21) -> 77.060943 | AD50: 1.352 | AE50: 0.1456 | AF50: =SQRT(AG50^2+AH50^2)*1000/(1.73*AF21) -> 80.209985 | AG50: 1.4072 | AH50: 0.152 | AI50: =SQRT(AJ50^2+AK50^2)*1000/(1.73*AI21) -> 79.089639 | AJ50: 1.388 | AK50: 0.1456 | AL50: =SQRT(AM50^2+AN50^2)*1000/(1.73*AL21) -> 78.696311 | AM50: 1.3816 | AN50: 0.14 | AO50: =SQRT(AP50^2+AQ50^2)*1000/(1.73*AO21) -> 77.457029 | AP50: 1.3608 | AQ50: 0.128
A51: яч.20 | B51: ф."Нефтяник-2" | H51: =SQRT(I51^2+J51^2)*1000/(1.73*H21) -> 155.15005 | I51: 2.7192 | J51: 0.3184 | K51: =SQRT(L51^2+M51^2)*1000/(1.73*K21) -> 151.69101 | L51: 2.6584 | M51: 0.3128 | N51: =SQRT(O51^2+P51^2)*1000/(1.73*N21) -> 148.1155 | O51: 2.596 | P51: 0.3032 | Q51: =SQRT(R51^2+S51^2)*1000/(1.73*Q21) -> 148.43597 | R51: 2.6016 | S51: 0.304 | T51: =SQRT(U51^2+V51^2)*1000/(1.73*T21) -> 148.43072 | U51: 2.6016 | V51: 0.3032 | W51: =SQRT(X51^2+Y51^2)*1000/(1.73*W21) -> 155.95013 | X51: 2.7336 | Y51: 0.3168 | Z51: =SQRT(AA51^2+AB51^2)*1000/(1.73*Z21) -> 167.30469 | AA51: 2.9328 | AB51: 0.3384 | AC51: =SQRT(AD51^2+AE51^2)*1000/(1.73*AC21) -> 173.17091 | AD51: 3.0368 | AE51: 0.34 | AF51: =SQRT(AG51^2+AH51^2)*1000/(1.73*AF21) -> 163.07317 | AG51: 2.8592 | AH51: 0.3248 | AI51: =SQRT(AJ51^2+AK51^2)*1000/(1.73*AI21) -> 155.70112 | AJ51: 2.7344 | AK51: 0.268 | AL51: =SQRT(AM51^2+AN51^2)*1000/(1.73*AL21) -> 154.41331 | AM51: 2.7128 | AN51: 0.2552 | AO51: =SQRT(AP51^2+AQ51^2)*1000/(1.73*AO21) -> 156.04674 | AP51: 2.7416 | AQ51: 0.2568
B52: ТСН-1 | I52: 0.021192 | L52: 0.021144 | O52: 0.021144 | R52: 0.021312 | U52: 0.022968 | X52: 0.023136 | AA52: 0.02244 | AD52: 0.021072 | AG52: 0.020856 | AJ52: 0.020688 | AM52: 0.020832 | AP52: 0.020808
B53: ТСН-2 | I53: 0.011928 | L53: 0.012408 | O53: 0.012312 | R53: 0.012288 | U53: 0.012408 | X53: 0.01224 | AA53: 0.012432 | AD53: 0.012288 | AG53: 0.011784 | AJ53: 0.011472 | AM53: 0.011496 | AP53: 0.011304
A54: Итого по отх.ВЛ от 1С-10 кВ | H54: =H40+H41+H42+H43+H44+H45 -> 510.57308 | I54: =I40+I41+I42+I43+I44+I45 -> 8.9045 | J54: =J40+J41+J42+J43+J44+J45 -> 1.3375 | K54: =K40+K41+K42+K43+K44+K45 -> 502.95459 | L54: =L40+L41+L42+L43+L44+L45 -> 8.7676 | M54: =M40+M41+M42+M43+M44+M45 -> 1.3436 | N54: =N40+N41+N42+N43+N44+N45 -> 497.49474 | O54: =O40+O41+O42+O43+O44+O45 -> 8.672 | ... AQ54: =AQ40+AQ41+AQ42+AQ43+AQ44+AQ45 -> 1.1245
A55: Итого по отх.ВЛ от 2С-10 кВ | H55: =H50+H49+H48+H47+H46+H51 -> 509.79488 | I55: =I50+I49+I48+I47+I46+I51 -> 8.909 | J55: =J50+J49+J48+J47+J46+J51 -> 1.2348 | K55: =K50+K49+K48+K47+K46+K51 -> 498.37692 | L55: =L50+L49+L48+L47+L46+L51 -> 8.7078 | M55: =M50+M49+M48+M47+M46+M51 -> 1.2188 | N55: =N50+N49+N48+N47+N46+N51 -> 493.7143 | O55: =O50+O49+O48+O47+O46+O51 -> 8.6244 | ... AQ55: =AQ50+AQ49+AQ48+AQ47+AQ46+AQ51 -> 1.0904
A56: Итого по ВЛ-10 кВ | H56: =H54+H55 -> 1020.368 | I56: =I54+I55 -> 17.8135 | J56: =J54+J55 -> 2.5723 | K56: =K54+K55 -> 1001.3315 | L56: =L54+L55 -> 17.4754 | M56: =M54+M55 -> 2.5624 | N56: =N54+N55 -> 991.20904 | O56: =O54+O55 -> 17.2964 | ... AQ56: =AQ54+AQ55 -> 2.2149
A58: РАСЧЕТ ПОТЕРЬ В ТРАНСФОРМАТОРАХ
A59: 1Т | B59: Потери пост. | D59: Px.x+j Qx.x. | H59: =$C$61/1000 -> 0.023 | I59: +j | J59: =$G$61/1000 -> 0.158 | K59: =$C$61/1000 -> 0.023 | L59: +j | M59: =$G$61/1000 -> 0.158 | N59: =$C$61/1000 -> 0.023 | O59: +j | P59: =$G$61/1000 -> 0.158 | Q59: =$C$61/1000 -> 0.023 | R59: +j | S59: =$G$61/1000 -> 0.158 | T59: =$C$61/1000 -> 0.023 | U59: +j | V59: =$G$61/1000 -> 0.158 | W59: =$C$61/1000 -> 0.023 | X59: +j | Y59: =$G$61/1000 -> 0.158 | Z59: =$C$61/1000 -> 0.023 | AA59: +j | AB59: =$G$61/1000 -> 0.158 | AC59: =$C$61/1000 -> 0.023 | AD59: +j | AE59: =$G$61/1000 -> 0.158 | AF59: =$C$61/1000 -> 0.023 | AG59: +j | AH59: =$G$61/1000 -> 0.158 | AI59: =$C$61/1000 -> 0.023 | AJ59: +j | AK59: =$G$61/1000 -> 0.158 | AL59: =$C$61/1000 -> 0.023 | AM59: +j | AN59: =$G$61/1000 -> 0.158 | AO59: =$C$61/1000 -> 0.023 | AP59: +j | AQ59: =$G$61/1000 -> 0.158
B60: Потери перем. | D60: Рпер+j Qпер. | H60: =(((I7^2+J7^2)*$C$62/1000)+((I8^2+J8^2)*$G$62/1000)+((I9^2+J9^2)*$J$62/1000))/($C$7*$C$7) -> 0.066835343 | I60: +j | J60: =(((I7^2+J7^2)*$M$62)+((I8^2+J8^2)*$P$62)+((I9^2+J9^2)*S62))/(100*$C$7) -> 0.94988591 | K60: =(((L7^2+M7^2)*$C$62/1000)+((L8^2+M8^2)*$G$62/1000)+((L9^2+M9^2)*$J$62/1000))/($C$7*$C$7) -> 0.065039566 | L60: +j | M60: =(((L7^2+M7^2)*$M$62)+((L8^2+M8^2)*$P$62)+((L9^2+M9^2)*V62))/(100*$C$7) -> 0.63176836 | N60: =(((O7^2+P7^2)*$C$62/1000)+((O8^2+P8^2)*$G$62/1000)+((O9^2+P9^2)*$J$62/1000))/($C$7*$C$7) -> 0.063693579 | O60: +j | P60: =(((O7^2+P7^2)*$M$62)+((O8^2+P8^2)*$P$62)+((O9^2+P9^2)*Y62))/(100*$C$7) -> 0.62013555 | Q60: =(((R7^2+S7^2)*$C$62/1000)+((R8^2+S8^2)*$G$62/1000)+((R9^2+S9^2)*$J$62/1000))/($C$7*$C$7) -> 0.062426121 | R60: +j | S60: =(((R7^2+S7^2)*$M$62)+((R8^2+S8^2)*$P$62)+((R9^2+S9^2)*AB62))/(100*$C$7) -> 0.60504752 | T60: =(((U7^2+V7^2)*$C$62/1000)+((U8^2+V8^2)*$G$62/1000)+((U9^2+V9^2)*$J$62/1000))/($C$7*$C$7) -> 0.063451478 | U60: +j | V60: =(((U7^2+V7^2)*$M$62)+((U8^2+V8^2)*$P$62)+((U9^2+V9^2)*AE62))/(100*$C$7) -> 0.61752245 | W60: =(((X7^2+Y7^2)*$C$62/1000)+((X8^2+Y8^2)*$G$62/1000)+((X9^2+Y9^2)*$J$62/1000))/($C$7*$C$7) -> 0.065766921 | X60: +j | Y60: =(((X7^2+Y7^2)*$M$62)+((X8^2+Y8^2)*$P$62)+((X9^2+Y9^2)*AH62))/(100*$C$7) -> 0.63182387 | Z60: =(((AA7^2+AB7^2)*$C$62/1000)+((AA8^2+AB8^2)*$G$62/1000)+((AA9^2+AB9^2)*$J$62/1000))/($C$7*$C$7) -> 0.071989937 | AA60: +j | AB60: =(((AA7^2+AB7^2)*$M$62)+((AA8^2+AB8^2)*$P$62)+((AA9^2+AB9^2)*AK62))/(100*$C$7) -> 0.70006422 | AC60: =(((AD7^2+AE7^2)*$C$62/1000)+((AD8^2+AE8^2)*$G$62/1000)+((AD9^2+AE9^2)*$J$62/1000))/($C$7*$C$7) -> 0.079909606 | AD60: +j | AE60: =(((AD7^2+AE7^2)*$M$62)+((AD8^2+AE8^2)*$P$62)+((AD9^2+AE9^2)*AN62))/(100*$C$7) -> 0.77021912 | AF60: =(((AG7^2+AH7^2)*$C$62/1000)+((AG8^2+AH8^2)*$G$62/1000)+((AG9^2+AH9^2)*$J$62/1000))/($C$7*$C$7) -> 0.080920747 | AG60: +j | AH60: =(((AG7^2+AH7^2)*$M$62)+((AG8^2+AH8^2)*$P$62)+((AG9^2+AH9^2)*AQ62))/(100*$C$7) -> 0.78285887 | AI60: =(((AJ7^2+AK7^2)*$C$62/1000)+((AJ8^2+AK8^2)*$G$62/1000)+((AJ9^2+AK9^2)*$J$62/1000))/($C$7*$C$7) -> 0.07958496 | AJ60: +j | AK60: =(((AJ7^2+AK7^2)*$M$62)+((AJ8^2+AK8^2)*$P$62)+((AJ9^2+AK9^2)*AT62))/(100*$C$7) -> 0.76208192 | AL60: =(((AM7^2+AN7^2)*$C$62/1000)+((AM8^2+AN8^2)*$G$62/1000)+((AM9^2+AN9^2)*$J$62/1000))/($C$7*$C$7) -> 0.076802027 | AM60: +j | AN60: =(((AM7^2+AN7^2)*$M$62)+((AM8^2+AN8^2)*$P$62)+((AM9^2+AN9^2)*AW62))/(100*$C$7) -> 0.72841057 | AO60: =(((AP7^2+AQ7^2)*$C$62/1000)+((AP8^2+AQ8^2)*$G$62/1000)+((AP9^2+AQ9^2)*$J$62/1000))/($C$7*$C$7) -> 0.0744486 | AP60: +j | AQ60: =(((AP7^2+AQ7^2)*$M$62)+((AP8^2+AQ8^2)*$P$62)+((AP9^2+AQ9^2)*AZ62))/(100*$C$7) -> 0.7152464
B61: Рхх= | C61: 23 | E61: Qхх= | G61: 158
B62: Ркз(110)= | C62: 50 | F62: Ркз(35)= | G62: 50 | H62: Ркз(10)= | J62: 150 | K62: Uкз%(110)= | M62: 10.5 | N62: Uкз%(35)= | P62: 17 | Q62: Uкз%(10)= | S62: 6
B63: Полная нагрузка с потерями | H63: =H59+H60+I8+I9 -> 9.7715273 | I63: +j | J63: =J59+J60+J8+J9 -> 2.6140859 | K63: =K59+K60+L8+L9 -> 9.6681336 | L63: +j | M63: =M59+M60+M8+M9 -> 2.3178184 | N63: =N59+N60+O8+O9 -> 9.5746876 | O63: +j | P63: =P59+P60+P8+P9 -> 2.2884855 | Q63: =Q59+Q60+R8+R9 -> 9.4629881 | R63: +j | S63: =S59+S60+S8+S9 -> 2.2636475 | T63: =T59+T60+U8+U9 -> 9.5629195 | U63: +j | V63: =V59+V60+V8+V9 -> 2.2683224 | W63: =W59+W60+X8+X9 -> 9.6864529 | X63: +j | Y63: =Y59+Y60+Y8+Y9 -> 2.2690739 | Z63: =Z59+Z60+AA8+AA9 -> 10.18523 | AA63: +j | AB63: =AB59+AB60+AB8+AB9 -> 2.3814642 | AC63: =AC59+AC60+AD8+AD9 -> 10.705832 | AD63: +j | AE63: =AE59+AE60+AE8+AE9 -> 2.4657191 | AF63: =AF59+AF60+AG8+AG9 -> 10.787977 | AG63: +j | AH63: =AH59+AH60+AH8+AH9 -> 2.4559089 | AI63: =AI59+AI60+AJ8+AJ9 -> 10.677973 | AJ63: +j | AK63: =AK59+AK60+AK8+AK9 -> 2.2716819 | AL63: =AL59+AL60+AM8+AM9 -> 10.476484 | AM63: +j | AN63: =AN59+AN60+AN8+AN9 -> 2.1176606 | AO63: =AO59+AO60+AP8+AP9 -> 10.362557 | AP63: +j | AQ63: =AQ59+AQ60+AQ8+AQ9 -> 2.1240964
A64: 2Т | B64: Потери пост. | D64: Px.x+j Qx.x. | H64: =$C$66/1000 -> 0.023 | I64: +j | J64: =$G$66/1000 -> 0.158 | K64: =$C$66/1000 -> 0.023 | L64: +j | M64: =$G$66/1000 -> 0.158 | N64: =$C$66/1000 -> 0.023 | O64: +j | P64: =$G$66/1000 -> 0.158 | Q64: =$C$66/1000 -> 0.023 | R64: +j | S64: =$G$66/1000 -> 0.158 | T64: =$C$66/1000 -> 0.023 | U64: +j | V64: =$G$66/1000 -> 0.158 | W64: =$C$66/1000 -> 0.023 | X64: +j | Y64: =$G$66/1000 -> 0.158 | Z64: =$C$66/1000 -> 0.023 | AA64: +j | AB64: =$G$66/1000 -> 0.158 | AC64: =$C$66/1000 -> 0.023 | AD64: +j | AE64: =$G$66/1000 -> 0.158 | AF64: =$C$66/1000 -> 0.023 | AG64: +j | AH64: =$G$66/1000 -> 0.158 | AI64: =$C$66/1000 -> 0.023 | AJ64: +j | AK64: =$G$66/1000 -> 0.158 | AL64: =$C$66/1000 -> 0.023 | AM64: +j | AN64: =$G$66/1000 -> 0.158 | AO64: =$C$66/1000 -> 0.023 | AP64: +j | AQ64: =$G$66/1000 -> 0.158
B65: Потери перем. | D65: Рпер+j Qпер. | H65: =(((I15^2+J15^2)*$C$67/1000)+((I16^2+J16^2)*$G$67/1000)+((I17^2+J17^2)*$J$67/1000))/($C$15*$C$15) -> 0.070464571 | I65: +j | J65: =(((I15^2+J15^2)*$M$67)+((I16^2+J16^2)*$P$67)+((I17^2+J17^2)*S67))/(100*$C$7) -> 1.08622 | K65: =(((L15^2+M15^2)*$C$67/1000)+((L16^2+M16^2)*$G$67/1000)+((L17^2+M17^2)*$J$67/1000))/($C$15*$C$15) -> 0.0674238 | L65: +j | M65: =(((L15^2+M15^2)*$M$67)+((L16^2+M16^2)*$P$67)+((L17^2+M17^2)*V67))/(100*$C$7) -> 0.75022432 | N65: =(((O15^2+P15^2)*$C$67/1000)+((O16^2+P16^2)*$G$67/1000)+((O17^2+P17^2)*$J$67/1000))/($C$15*$C$15) -> 0.066200298 | O65: +j | P65: =(((O15^2+P15^2)*$M$67)+((O16^2+P16^2)*$P$67)+((O17^2+P17^2)*Y67))/(100*$C$7) -> 0.7375486 | Q65: =(((R15^2+S15^2)*$C$67/1000)+((R16^2+S16^2)*$G$67/1000)+((R17^2+S17^2)*$J$67/1000))/($C$15*$C$15) -> 0.066400685 | R65: +j | S65: =(((R15^2+S15^2)*$M$67)+((R16^2+S16^2)*$P$67)+((R17^2+S17^2)*AB67))/(100*$C$7) -> 0.73822901 | T65: =(((U15^2+V15^2)*$C$67/1000)+((U16^2+V16^2)*$G$67/1000)+((U17^2+V17^2)*$J$67/1000))/($C$15*$C$15) -> 0.066809471 | U65: +j | V65: =(((U15^2+V15^2)*$M$67)+((U16^2+V16^2)*$P$67)+((U17^2+V17^2)*AE67))/(100*$C$7) -> 0.74622886 | W65: =(((X15^2+Y15^2)*$C$67/1000)+((X16^2+Y16^2)*$G$67/1000)+((X17^2+Y17^2)*$J$67/1000))/($C$15*$C$15) -> 0.070619194 | X65: +j | Y65: =(((X15^2+Y15^2)*$M$67)+((X16^2+Y16^2)*$P$67)+((X17^2+Y17^2)*AH67))/(100*$C$7) -> 0.78795157 | Z65: =(((AA15^2+AB15^2)*$C$67/1000)+((AA16^2+AB16^2)*$G$67/1000)+((AA17^2+AB17^2)*$J$67/1000))/($C$15*$C$15) -> 0.078232877 | AA65: +j | AB65: =(((AA15^2+AB15^2)*$M$67)+((AA16^2+AB16^2)*$P$67)+((AA17^2+AB17^2)*AK67))/(100*$C$7) -> 0.86103813 | AC65: =(((AD15^2+AE15^2)*$C$67/1000)+((AD16^2+AE16^2)*$G$67/1000)+((AD17^2+AE17^2)*$J$67/1000))/($C$15*$C$15) -> 0.084134086 | AD65: +j | AE65: =(((AD15^2+AE15^2)*$M$67)+((AD16^2+AE16^2)*$P$67)+((AD17^2+AE17^2)*AN67))/(100*$C$7) -> 0.92918861 | AF65: =(((AG15^2+AH15^2)*$C$67/1000)+((AG16^2+AH16^2)*$G$67/1000)+((AG17^2+AH17^2)*$J$67/1000))/($C$15*$C$15) -> 0.08038649 | AG65: +j | AH65: =(((AG15^2+AH15^2)*$M$67)+((AG16^2+AH16^2)*$P$67)+((AG17^2+AH17^2)*AQ67))/(100*$C$7) -> 0.88824612 | AI65: =(((AJ15^2+AK15^2)*$C$67/1000)+((AJ16^2+AK16^2)*$G$67/1000)+((AJ17^2+AK17^2)*$J$67/1000))/($C$15*$C$15) -> 0.075743515 | AJ65: +j | AK65: =(((AJ15^2+AK15^2)*$M$67)+((AJ16^2+AK16^2)*$P$67)+((AJ17^2+AK17^2)*AT67))/(100*$C$7) -> 0.84122692 | AL65: =(((AM15^2+AN15^2)*$C$67/1000)+((AM16^2+AN16^2)*$G$67/1000)+((AM17^2+AN17^2)*$J$67/1000))/($C$15*$C$15) -> 0.074339131 | AM65: +j | AN65: =(((AM15^2+AN15^2)*$M$67)+((AM16^2+AN16^2)*$P$67)+((AM17^2+AN17^2)*AW67))/(100*$C$7) -> 0.8223975 | AO65: =(((AP15^2+AQ15^2)*$C$67/1000)+((AP16^2+AQ16^2)*$G$67/1000)+((AP17^2+AQ17^2)*$J$67/1000))/($C$15*$C$15) -> 0.074624786 | AP65: +j | AQ65: =(((AP15^2+AQ15^2)*$M$67)+((AP16^2+AQ16^2)*$P$67)+((AP17^2+AQ17^2)*AZ67))/(100*$C$7) -> 0.82206537
B66: Рхх= | C66: 23 | E66: Qхх= | G66: 158
B67: Ркз(110)= | C67: 50 | F67: Ркз(35)= | G67: 50 | H67: Ркз(10)= | J67: 150 | K67: Uкз%(110)= | M67: 10.5 | N67: Uкз%(35)= | P67: 17 | Q67: Uкз%(10)= | S67: 6
B68: Полная нагрузка с потерями | H68: =H64+H65+I16+I17 -> 10.662543 | I68: +j | J68: =J64+J65+J16+J17 -> 2.71632 | K68: =K64+K65+L16+L17 -> 10.447232 | L68: +j | M68: =M64+M65+M16+M17 -> 2.3629243 | N68: =N64+N65+O16+O17 -> 10.352362 | O68: +j | P68: =P64+P65+P16+P17 -> 2.3432986 | Q68: =Q64+Q65+R16+R17 -> 10.370889 | R68: +j | S68: =S64+S65+S16+S17 -> 2.329379 | T68: =T64+T65+U16+U17 -> 10.416767 | U68: +j | V68: =V64+V65+V16+V17 -> 2.3246289 | W68: =W64+W65+X16+X17 -> 10.705809 | X68: +j | Y68: =Y64+Y65+Y16+Y17 -> 2.4064016 | Z68: =Z64+Z65+AA16+AA17 -> 11.211115 | AA68: +j | AB68: =AB64+AB65+AB16+AB17 -> 2.5200881 | AC68: =AC64+AC65+AD16+AD17 -> 11.645122 | AD68: +j | AE68: =AE64+AE65+AE16+AE17 -> 2.5815886 | AF68: =AF64+AF65+AG16+AG17 -> 11.38772 | AG68: +j | AH68: =AH64+AH65+AH16+AH17 -> 2.5172461 | AI68: =AI64+AI65+AJ16+AJ17 -> 11.088816 | AJ68: +j | AK68: =AK64+AK65+AK16+AK17 -> 2.3435769 | AL68: =AL64+AL65+AM16+AM17 -> 10.979235 | AM68: +j | AN68: =AN64+AN65+AN16+AN17 -> 2.2980475 | AO68: =AO64+AO65+AP16+AP17 -> 10.983829 | AP68: +j | AQ68: =AQ64+AQ65+AQ16+AQ17 -> 2.3021654
A69: Суммарная нагрузка
A70: ПС с потерями | F70: S p | H70: =SUM(H63,H68) -> 20.43407 | I70: +j | J70: =SUM(J63,J68) -> 5.3304059 | K70: =SUM(K63,K68) -> 20.115365 | L70: +j | M70: =SUM(M63,M68) -> 4.6807427 | N70: =SUM(N63,N68) -> 19.92705 | O70: +j | P70: =SUM(P63,P68) -> 4.6317841 | Q70: =SUM(Q63,Q68) -> 19.833877 | R70: +j | S70: =SUM(S63,S68) -> 4.5930265 | T70: =SUM(T63,T68) -> 19.979687 | U70: +j | V70: =SUM(V63,V68) -> 4.5929513 | W70: =SUM(W63,W68) -> 20.392262 | X70: +j | Y70: =SUM(Y63,Y68) -> 4.6754754 | Z70: =SUM(Z63,Z68) -> 21.396345 | AA70: +j | AB70: =SUM(AB63,AB68) -> 4.9015523 | AC70: =SUM(AC63,AC68) -> 22.350954 | AD70: +j | AE70: =SUM(AE63,AE68) -> 5.0473077 | AF70: =SUM(AF63,AF68) -> 22.175697 | AG70: +j | AH70: =SUM(AH63,AH68) -> 4.973155 | AI70: =SUM(AI63,AI68) -> 21.766788 | AJ70: +j | AK70: =SUM(AK63,AK68) -> 4.6152588 | AL70: =SUM(AL63,AL68) -> 21.455719 | AM70: +j | AN70: =SUM(AN63,AN68) -> 4.4157081 | AO70: =SUM(AO63,AO68) -> 21.346385 | AP70: +j | AQ70: =SUM(AQ63,AQ68) -> 4.4262618
A71: средневзв тангенс | I71: =J70/H70 -> 0.26085875 | L71: =M70/K70 -> 0.23269489 | O71: =P70/N70 -> 0.23243702 | R71: =S70/Q70 -> 0.23157482 | U71: =V70/T70 -> 0.22988104 | X71: =Y70/W70 -> 0.22927694 | AA71: =AB70/Z70 -> 0.22908363 | AD71: =AE70/AC70 -> 0.22582069 | AG71: =AH70/AF70 -> 0.22426149 | AJ71: =AK70/AI70 -> 0.21203214 | AM71: =AN70/AL70 -> 0.20580564 | AP71: =AQ70/AO70 -> 0.20735416
A72: время уральское
A74: Замер по трансформаторам | H74: 13 час. | K74: 14 час. | N74: 15 час. | Q74: 16 час. | T74: 17 час. | W74: 18 час. | Z74: 19 час. | AC74: 20 час. | AF74: 21 час. | AI74: 22 час. | AL74: 23 час. | AO74: 24 час.
A75: Диспет. наимен. | C75: S ном, МВА | H75: Ток | I75: Pнагр. | J75: Qнагр. | K75: Ток | L75: Pнагр. | M75: Qнагр. | N75: Ток | O75: Pнагр. | P75: Qнагр. | Q75: Ток | R75: Pнагр. | S75: Qнагр. | T75: Ток | U75: Pнагр. | V75: Qнагр. | W75: Ток | X75: Pнагр. | Y75: Qнагр. | Z75: Ток | AA75: Pнагр. | AB75: Qнагр. | AC75: Ток | AD75: Pнагр. | AE75: Qнагр. | AF75: Ток | AG75: Pнагр. | AH75: Qнагр. | AI75: Ток | AJ75: Pнагр. | AK75: Qнагр. | AL75: Ток | AM75: Pнагр. | AN75: Qнагр. | AO75: Ток | AP75: Pнагр. | AQ75: Qнагр.
H76: А | I76: МВт | J76: Мвар | K76: А | L76: МВт | M76: Мвар | N76: А | O76: МВт | P76: Мвар | Q76: А | R76: МВт | S76: Мвар | T76: А | U76: МВт | V76: Мвар | W76: А | X76: МВт | Y76: Мвар | Z76: А | AA76: МВт | AB76: Мвар | AC76: А | AD76: МВт | AE76: Мвар | AF76: А | AG76: МВт | AH76: Мвар | AI76: А | AJ76: МВт | AK76: Мвар | AL76: А | AM76: МВт | AN76: Мвар | AO76: А | AP76: МВт | AQ76: Мвар
A77: 1Т | C77: 16 | D77: Нагрузка | F77: 110 кВ | H77: =SQRT(I77^2+J77^2)*1000/(1.73*H81) -> 49.53146 | I77: 10.1992 | J77: 1.8656 | K77: =SQRT(L77^2+M77^2)*1000/(1.73*K81) -> 49.095264 | L77: 10.1112 | M77: 1.8392 | N77: =SQRT(O77^2+P77^2)*1000/(1.73*N81) -> 48.245497 | O77: 9.9352 | P77: 1.8128 | Q77: =SQRT(R77^2+S77^2)*1000/(1.73*Q81) -> 48.260659 | R77: 9.9352 | S77: 1.8304 | T77: =SQRT(U77^2+V77^2)*1000/(1.73*T81) -> 50.555986 | U77: 10.3664 | V77: 2.1296 | W77: =SQRT(X77^2+Y77^2)*1000/(1.73*W81) -> 50.704996 | X77: 10.3928 | Y77: 2.156 | Z77: =SQRT(AA77^2+AB77^2)*1000/(1.73*Z81) -> 50.845594 | AA77: 10.4192 | AB77: 2.1736 | AC77: =SQRT(AD77^2+AE77^2)*1000/(1.73*AC81) -> 50.531808 | AD77: 10.3576 | AE77: 2.1472 | AF77: =SQRT(AG77^2+AH77^2)*1000/(1.73*AF81) -> 50.293444 | AG77: 10.3048 | AH77: 2.156 | AI77: =SQRT(AJ77^2+AK77^2)*1000/(1.73*AI81) -> 50.293444 | AJ77: 10.3048 | AK77: 2.156 | AL77: =SQRT(AM77^2+AN77^2)*1000/(1.73*AL81) -> 48.998752 | AM77: 10.0408 | AN77: 2.0944 | AO77: =SQRT(AP77^2+AQ77^2)*1000/(1.73*AO81) -> 47.844703 | AP77: 9.8032 | AQ77: 2.0504
F78: 35 кВ | H78: =SQRT(I78^2+J78^2)*1000/(1.73*H82) -> 11.883106 | I78: =I102 -> 0.73045 | J78: =J102 -> 0.119 | K78: =SQRT(L78^2+M78^2)*1000/(1.73*K82) -> 12.472533 | L78: =L102 -> 0.7658 | M78: =M102 -> 0.1302 | N78: =SQRT(O78^2+P78^2)*1000/(1.73*N82) -> 11.639338 | O78: =O102 -> 0.71575 | P78: =P102 -> 0.1148 | Q78: =SQRT(R78^2+S78^2)*1000/(1.73*Q82) -> 11.984774 | R78: =R102 -> 0.7357 | S78: =S102 -> 0.126 | T78: =SQRT(U78^2+V78^2)*1000/(1.73*T82) -> 13.155581 | U78: =U102 -> 0.7987 | V78: =V102 -> 0.1827 | W78: =SQRT(X78^2+Y78^2)*1000/(1.73*W82) -> 12.770223 | X78: =X102 -> 0.7756 | Y78: =Y102 -> 0.17605 | Z78: =SQRT(AA78^2+AB78^2)*1000/(1.73*Z82) -> 13.31183 | AA78: =AA102 -> 0.8078 | AB78: =AB102 -> 0.18655 | AC78: =SQRT(AD78^2+AE78^2)*1000/(1.73*AC82) -> 12.167253 | AD78: =AD102 -> 0.73955 | AE78: =AE102 -> 0.1652 | AF78: =SQRT(AG78^2+AH78^2)*1000/(1.73*AF82) -> 12.726891 | AG78: =AG102 -> 0.77315 | AH78: =AH102 -> 0.17465 | AI78: =SQRT(AJ78^2+AK78^2)*1000/(1.73*AI82) -> 12.593942 | AJ78: =AJ102 -> 0.76545 | AK78: =AK102 -> 0.17115 | AL78: =SQRT(AM78^2+AN78^2)*1000/(1.73*AL82) -> 12.974901 | AM78: =AM102 -> 0.7889 | AN78: =AN102 -> 0.175 | AO78: =SQRT(AP78^2+AQ78^2)*1000/(1.73*AO82) -> 12.699384 | AP78: =AP102 -> 0.7721 | AQ78: =AQ102 -> 0.1715
F79: 10 кВ | H79: =SQRT(I79^2+J79^2)*1000/(1.73*H83) -> 543.16619 | I79: =I124+I122 -> 9.520056 | J79: =J124+J122 -> 1.1114 | K79: =SQRT(L79^2+M79^2)*1000/(1.73*K83) -> 535.75919 | L79: =L124+L122 -> 9.389736 | M79: =M124+M122 -> 1.1005 | N79: =SQRT(O79^2+P79^2)*1000/(1.73*N83) -> 529.27103 | O79: =O124+O122 -> 9.274808 | P79: =P124+P122 -> 1.0975 | Q79: =SQRT(R79^2+S79^2)*1000/(1.73*Q83) -> 527.79534 | R79: =R124+R122 -> 9.24642 | S79: =S124+S122 -> 1.1156 | T79: =SQRT(U79^2+V79^2)*1000/(1.73*T83) -> 549.24128 | U79: =U124+U122 -> 9.604384 | V79: =V124+V122 -> 1.2996 | W79: =SQRT(X79^2+Y79^2)*1000/(1.73*W83) -> 552.62688 | X79: =X124+X122 -> 9.662652 | Y79: =Y124+Y122 -> 1.3145 | Z79: =SQRT(AA79^2+AB79^2)*1000/(1.73*Z83) -> 552.59333 | AA79: =AA124+AA122 -> 9.659492 | AB79: =AB124+AB122 -> 1.3332 | AC79: =SQRT(AD79^2+AE79^2)*1000/(1.73*AC83) -> 552.5815 | AD79: =AD124+AD122 -> 9.660752 | AE79: =AE124+AE122 -> 1.3225 | AF79: =SQRT(AG79^2+AH79^2)*1000/(1.73*AF83) -> 547.82053 | AG79: =AG124+AG122 -> 9.57388 | AH79: =AH124+AH122 -> 1.3374 | AI79: =SQRT(AJ79^2+AK79^2)*1000/(1.73*AI83) -> 548.32988 | AJ79: =AJ124+AJ122 -> 9.582228 | AK79: =AK124+AK122 -> 1.3426 | AL79: =SQRT(AM79^2+AN79^2)*1000/(1.73*AL83) -> 532.17118 | AM79: =AM124+AM122 -> 9.298984 | AN79: =AN124+AN122 -> 1.3092 | AO79: =SQRT(AP79^2+AQ79^2)*1000/(1.73*AO83) -> 519.46107 | AP79: =AP124+AP122 -> 9.073528 | AQ79: =AQ124+AQ122 -> 1.3016
D80: РПН | H80: 4 | K80: 4 | N80: 4 | Q80: 4 | T80: 4 | W80: 4 | Z80: 4 | AC80: 4 | AF80: 4 | AI80: 4 | AL80: 4 | AO80: 4
D81: Напряж. | F81: 110 кВ | H81: 121 | K81: 121 | N81: 121 | Q81: 121 | T81: 121 | W81: 121 | Z81: 121 | AC81: 121 | AF81: 121 | AI81: 121 | AL81: 121 | AO81: 121
F82: 35 кВ | H82: 36 | K82: 36 | N82: 36 | Q82: 36 | T82: 36 | W82: 36 | Z82: 36 | AC82: 36 | AF82: 36 | AI82: 36 | AL82: 36 | AO82: 36
F83: 10 кВ | H83: 10.2 | K83: 10.2 | N83: 10.2 | Q83: 10.2 | T83: 10.2 | W83: 10.2 | Z83: 10.2 | AC83: 10.2 | AF83: 10.2 | AI83: 10.2 | AL83: 10.2 | AO83: 10.2
D84: ПБВ | H84: 4 | K84: 4 | N84: 4 | Q84: 4 | T84: 4 | W84: 4 | Z84: 4 | AC84: 4 | AF84: 4 | AI84: 4 | AL84: 4 | AO84: 4
A85: 2Т | C85: 16 | D85: Нагрузка | F85: 110 кВ | H85: =SQRT(I85^2+J85^2)*1000/(1.73*H89) -> 52.611191 | I85: 10.8416 | J85: 1.936 | K85: =SQRT(L85^2+M85^2)*1000/(1.73*K89) -> 51.588411 | L85: 10.6304 | M85: 1.9008 | N85: =SQRT(O85^2+P85^2)*1000/(1.73*N89) -> 51.498253 | O85: 10.6128 | P85: 1.892 | Q85: =SQRT(R85^2+S85^2)*1000/(1.73*Q89) -> 51.712563 | R85: 10.6568 | S85: 1.9008 | T85: =SQRT(U85^2+V85^2)*1000/(1.73*T89) -> 53.492628 | U85: 11 | V85: 2.0944 | W85: =SQRT(X85^2+Y85^2)*1000/(1.73*W89) -> 54.251732 | X85: 11.1584 | Y85: 2.112 | Z85: =SQRT(AA85^2+AB85^2)*1000/(1.73*Z89) -> 54.597816 | AA85: 11.2288 | AB85: 2.1296 | AC85: =SQRT(AD85^2+AE85^2)*1000/(1.73*AC89) -> 54.251732 | AD85: 11.1584 | AE85: 2.112 | AF85: =SQRT(AG85^2+AH85^2)*1000/(1.73*AF89) -> 54.308725 | AG85: 11.1672 | AH85: 2.1296 | AI85: =SQRT(AJ85^2+AK85^2)*1000/(1.73*AI89) -> 53.66568 | AJ85: 11.0352 | AK85: 2.1032 | AL85: =SQRT(AM85^2+AN85^2)*1000/(1.73*AL89) -> 53.14653 | AM85: 10.9296 | AN85: 2.0768 | AO85: =SQRT(AP85^2+AQ85^2)*1000/(1.73*AO89) -> 51.860448 | AP85: 10.6656 | AQ85: 2.024
F86: 35 кВ | H86: =SQRT(I86^2+J86^2)*1000/(1.73*H90) -> 27.215126 | I86: =I103 -> 1.67895 | J86: =J103 -> 0.2324 | K86: =SQRT(L86^2+M86^2)*1000/(1.73*K90) -> 26.527899 | L86: =L103 -> 1.63695 | M86: =M103 -> 0.22365 | N86: =SQRT(O86^2+P86^2)*1000/(1.73*N90) -> 26.439391 | O86: =O103 -> 1.631 | P86: =P103 -> 0.22645 | Q86: =SQRT(R86^2+S86^2)*1000/(1.73*Q90) -> 26.578291 | R86: =R103 -> 1.63835 | S86: =S103 -> 0.23625 | T86: =SQRT(U86^2+V86^2)*1000/(1.73*T90) -> 27.558026 | U86: =U103 -> 1.70065 | V86: =V103 -> 0.23135 | W86: =SQRT(X86^2+Y86^2)*1000/(1.73*W90) -> 27.635232 | X86: =X103 -> 1.70555 | Y86: =Y103 -> 0.231 | Z86: =SQRT(AA86^2+AB86^2)*1000/(1.73*Z90) -> 27.448947 | AA86: =AA103 -> 1.69365 | AB86: =AB103 -> 0.2324 | AC86: =SQRT(AD86^2+AE86^2)*1000/(1.73*AC90) -> 26.91719 | AD86: =AD103 -> 1.66075 | AE86: =AE103 -> 0.22855 | AF86: =SQRT(AG86^2+AH86^2)*1000/(1.73*AF90) -> 26.939159 | AG86: =AG103 -> 1.66145 | AH86: =AH103 -> 0.23345 | AI86: =SQRT(AJ86^2+AK86^2)*1000/(1.73*AI90) -> 26.870165 | AJ86: =AJ103 -> 1.6576 | AK86: =AK103 -> 0.22995 | AL86: =SQRT(AM86^2+AN86^2)*1000/(1.73*AL90) -> 26.850384 | AM86: =AM103 -> 1.65655 | AN86: =AN103 -> 0.22855 | AO86: =SQRT(AP86^2+AQ86^2)*1000/(1.73*AO90) -> 26.724837 | AP86: =AP103 -> 1.64885 | AQ86: =AQ103 -> 0.22715
F87: 10 кВ | H87: =SQRT(I87^2+J87^2)*1000/(1.73*H91) -> 526.41761 | I87: =I125+I123 -> 9.222848 | J87: =J125+J123 -> 1.108 | K87: =SQRT(L87^2+M87^2)*1000/(1.73*K91) -> 516.87153 | L87: =L125+L123 -> 9.054552 | M87: =M125+M123 -> 1.0966 | N87: =SQRT(O87^2+P87^2)*1000/(1.73*N91) -> 516.5981 | O87: =O125+O123 -> 9.048792 | P87: =P125+P123 -> 1.104 | Q87: =SQRT(R87^2+S87^2)*1000/(1.73*Q91) -> 518.26439 | R87: =R125+R123 -> 9.080392 | S87: =S125+S123 -> 1.0876 | T87: =SQRT(U87^2+V87^2)*1000/(1.73*T91) -> 535.2398 | U87: =U125+U123 -> 9.363512 | V87: =V125+V123 -> 1.2368 | W87: =SQRT(X87^2+Y87^2)*1000/(1.73*W91) -> 543.65864 | X87: =X125+X123 -> 9.513912 | Y87: =Y125+Y123 -> 1.2324 | Z87: =SQRT(AA87^2+AB87^2)*1000/(1.73*Z91) -> 548.62642 | AA87: =AA125+AA123 -> 9.601656 | AB87: =AB125+AB123 -> 1.2374 | AC87: =SQRT(AD87^2+AE87^2)*1000/(1.73*AC91) -> 545.94991 | AD87: =AD125+AD123 -> 9.554912 | AE87: =AE125+AE123 -> 1.2306 | AF87: =SQRT(AG87^2+AH87^2)*1000/(1.73*AF91) -> 546.92637 | AG87: =AG125+AG123 -> 9.570136 | AH87: =AH125+AH123 -> 1.2472 | AI87: =SQRT(AJ87^2+AK87^2)*1000/(1.73*AI91) -> 539.83886 | AJ87: =AJ125+AJ123 -> 9.444736 | AK87: =AK125+AK123 -> 1.2416 | AL87: =SQRT(AM87^2+AN87^2)*1000/(1.73*AL91) -> 533.41436 | AM87: =AM125+AM123 -> 9.33176 | AN87: =AN125+AN123 -> 1.2312 | AO87: =SQRT(AP87^2+AQ87^2)*1000/(1.73*AO91) -> 519.04173 | AP87: =AP125+AP123 -> 9.07672 | AQ87: =AQ125+AQ123 -> 1.225
D88: РПН | H88: 4 | K88: 4 | N88: 4 | Q88: 4 | T88: 4 | W88: 4 | Z88: 4 | AC88: 4 | AF88: 4 | AI88: 4 | AL88: 4 | AO88: 4
D89: Напряж. | F89: 110 кВ | H89: 121 | K89: 121 | N89: 121 | Q89: 121 | T89: 121 | W89: 121 | Z89: 121 | AC89: 121 | AF89: 121 | AI89: 121 | AL89: 121 | AO89: 121
F90: 35 кВ | H90: 36 | K90: 36 | N90: 36 | Q90: 36 | T90: 36 | W90: 36 | Z90: 36 | AC90: 36 | AF90: 36 | AI90: 36 | AL90: 36 | AO90: 36
F91: 10 кВ | H91: 10.2 | K91: 10.2 | N91: 10.2 | Q91: 10.2 | T91: 10.2 | W91: 10.2 | Z91: 10.2 | AC91: 10.2 | AF91: 10.2 | AI91: 10.2 | AL91: 10.2 | AO91: 10.2
D92: ПБВ | H92: - | K92: - | N92: - | Q92: - | T92: - | W92: - | Z92: - | AC92: - | AF92: - | AI92: - | AL92: - | AO92: -
A93: Всего | F93: 110 кВ | H93: =H85+H77 -> 102.14265 | I93: =I85+I77 -> 21.0408 | J93: =J85+J77 -> 3.8016 | K93: =K85+K77 -> 100.68367 | L93: =L85+L77 -> 20.7416 | M93: =M85+M77 -> 3.74 | N93: =N85+N77 -> 99.74375 | O93: =O85+O77 -> 20.548 | ... AQ93: =AQ85+AQ77 -> 4.0744
F94: 35 кВ | H94: =H86+H78 -> 39.098233 | I94: =I86+I78 -> 2.4094 | J94: =J86+J78 -> 0.3514 | K94: =K86+K78 -> 39.000432 | L94: =L86+L78 -> 2.40275 | M94: =M86+M78 -> 0.35385 | N94: =N86+N78 -> 38.078729 | O94: =O86+O78 -> 2.34675 | ... AQ94: =AQ86+AQ78 -> 0.39865
F95: 10 кВ | H95: =H87+H79 -> 1069.5838 | I95: =I87+I79 -> 18.742904 | J95: =J87+J79 -> 2.2194 | K95: =K87+K79 -> 1052.6307 | L95: =L87+L79 -> 18.444288 | M95: =M87+M79 -> 2.1971 | N95: =N87+N79 -> 1045.8691 | O95: =O87+O79 -> 18.3236 | ... AQ95: =AQ87+AQ79 -> 2.5266
A100: Замер по | D100: Уст.ЧАПВ | F100: Уст.АЧР | H100: 13 час. | K100: 14 час. | N100: 15 час. | Q100: 16 час. | T100: 17 час. | W100: 18 час. | Z100: 19 час. | AC100: 20 час. | AF100: 21 час. | AI100: 22 час. | AL100: 23 час. | AO100: 24 час.
A101: ВЛ- 35 кВ | D101: герц | E101: сек | F101: герц | G101: сек
A102: ВЛ-35 кВ | B102: ф."ВЛ Ямки" | H102: =SQRT(I102^2+J102^2)*1000/(1.73*H90) -> 11.883106 | I102: 0.73045 | J102: 0.119 | K102: =SQRT(L102^2+M102^2)*1000/(1.73*K90) -> 12.472533 | L102: 0.7658 | M102: 0.1302 | N102: =SQRT(O102^2+P102^2)*1000/(1.73*N90) -> 11.639338 | O102: 0.71575 | P102: 0.1148 | Q102: =SQRT(R102^2+S102^2)*1000/(1.73*Q90) -> 11.984774 | R102: 0.7357 | S102: 0.126 | T102: =SQRT(U102^2+V102^2)*1000/(1.73*T90) -> 13.155581 | U102: 0.7987 | V102: 0.1827 | W102: =SQRT(X102^2+Y102^2)*1000/(1.73*W90) -> 12.770223 | X102: 0.7756 | Y102: 0.17605 | Z102: =SQRT(AA102^2+AB102^2)*1000/(1.73*Z90) -> 13.31183 | AA102: 0.8078 | AB102: 0.18655 | AC102: =SQRT(AD102^2+AE102^2)*1000/(1.73*AC90) -> 12.167253 | AD102: 0.73955 | AE102: 0.1652 | AF102: =SQRT(AG102^2+AH102^2)*1000/(1.73*AF90) -> 12.726891 | AG102: 0.77315 | AH102: 0.17465 | AI102: =SQRT(AJ102^2+AK102^2)*1000/(1.73*AI90) -> 12.593942 | AJ102: 0.76545 | AK102: 0.17115 | AL102: =SQRT(AM102^2+AN102^2)*1000/(1.73*AL90) -> 12.974901 | AM102: 0.7889 | AN102: 0.175 | AO102: =SQRT(AP102^2+AQ102^2)*1000/(1.73*AO90) -> 12.699384 | AP102: 0.7721 | AQ102: 0.1715
A103: ВЛ-35 кВ | B103: ф."ВЛ ЛПК" | H103: =SQRT(I103^2+J103^2)*1000/(1.73*H90) -> 27.215126 | I103: 1.67895 | J103: 0.2324 | K103: =SQRT(L103^2+M103^2)*1000/(1.73*K90) -> 26.527899 | L103: 1.63695 | M103: 0.22365 | N103: =SQRT(O103^2+P103^2)*1000/(1.73*N90) -> 26.439391 | O103: 1.631 | P103: 0.22645 | Q103: =SQRT(R103^2+S103^2)*1000/(1.73*Q90) -> 26.578291 | R103: 1.63835 | S103: 0.23625 | T103: =SQRT(U103^2+V103^2)*1000/(1.73*T90) -> 27.558026 | U103: 1.70065 | V103: 0.23135 | W103: =SQRT(X103^2+Y103^2)*1000/(1.73*W90) -> 27.635232 | X103: 1.70555 | Y103: 0.231 | Z103: =SQRT(AA103^2+AB103^2)*1000/(1.73*Z90) -> 27.448947 | AA103: 1.69365 | AB103: 0.2324 | AC103: =SQRT(AD103^2+AE103^2)*1000/(1.73*AC90) -> 26.91719 | AD103: 1.66075 | AE103: 0.22855 | AF103: =SQRT(AG103^2+AH103^2)*1000/(1.73*AF90) -> 26.939159 | AG103: 1.66145 | AH103: 0.23345 | AI103: =SQRT(AJ103^2+AK103^2)*1000/(1.73*AI90) -> 26.870165 | AJ103: 1.6576 | AK103: 0.22995 | AL103: =SQRT(AM103^2+AN103^2)*1000/(1.73*AL90) -> 26.850384 | AM103: 1.65655 | AN103: 0.22855 | AO103: =SQRT(AP103^2+AQ103^2)*1000/(1.73*AO90) -> 26.724837 | AP103: 1.64885 | AQ103: 0.22715
A104: Итого по отх.ВЛ от 1С-35 кВ | H104: =H102 -> 11.883106 | I104: =I102 -> 0.73045 | J104: =J102 -> 0.119 | K104: =K102 -> 12.472533 | L104: =L102 -> 0.7658 | M104: =M102 -> 0.1302 | N104: =N102 -> 11.639338 | O104: =O102 -> 0.71575 | ... AQ104: =AQ102 -> 0.1715
A105: Итого по отх.ВЛ от 2С-35 кВ | H105: =H103 -> 27.215126 | I105: =I103 -> 1.67895 | J105: =J103 -> 0.2324 | K105: =K103 -> 26.527899 | L105: =L103 -> 1.63695 | M105: =M103 -> 0.22365 | N105: =N103 -> 26.439391 | O105: =O103 -> 1.631 | ... AQ105: =AQ103 -> 0.22715
A106: Итого по ВЛ-35 кВ | H106: =H104+H105 -> 39.098233 | I106: =I104+I105 -> 2.4094 | J106: =J104+J105 -> 0.3514 | K106: =K104+K105 -> 39.000432 | L106: =L104+L105 -> 2.40275 | M106: =M104+M105 -> 0.35385 | N106: =N104+N105 -> 38.078729 | O106: =O104+O105 -> 2.34675 | ... AQ106: =AQ104+AQ105 -> 0.39865
A108: Замер по | D108: Уст.ЧАПВ | F108: Уст.АЧР | H108: 13 час. | K108: 14 час. | N108: 15 час. | Q108: 16 час. | T108: 17 час. | W108: 18 час. | Z108: 19 час. | AC108: 20 час. | AF108: 21 час. | AI108: 22 час. | AL108: 23 час. | AO108: 24 час.
A109: ВЛ- 10 кВ | D109: герц | E109: сек | F109: герц | G109: сек
A110: яч.5 | B110: ф."Нефтяник-1" | H110: =SQRT(I110^2+J110^2)*1000/(1.73*H91) -> 148.05338 | I110: 2.596 | J110: 0.2936 | K110: =SQRT(L110^2+M110^2)*1000/(1.73*K91) -> 145.45647 | L110: 2.5496 | M110: 0.296 | N110: =SQRT(O110^2+P110^2)*1000/(1.73*N91) -> 139.42706 | O110: 2.4448 | P110: 0.276 | Q110: =SQRT(R110^2+S110^2)*1000/(1.73*Q91) -> 136.9496 | R110: 2.4008 | S110: 0.276 | T110: =SQRT(U110^2+V110^2)*1000/(1.73*T91) -> 139.52426 | U110: 2.4424 | V110: 0.3104 | W110: =SQRT(X110^2+Y110^2)*1000/(1.73*W91) -> 140.35095 | X110: 2.4568 | Y110: 0.3128 | Z110: =SQRT(AA110^2+AB110^2)*1000/(1.73*Z91) -> 141.84367 | AA110: 2.4816 | AB110: 0.3264 | AC110: =SQRT(AD110^2+AE110^2)*1000/(1.73*AC91) -> 142.91525 | AD110: 2.5016 | AE110: 0.3192 | AF110: =SQRT(AG110^2+AH110^2)*1000/(1.73*AF91) -> 141.69701 | AG110: 2.4792 | AH110: 0.3248 | AI110: =SQRT(AJ110^2+AK110^2)*1000/(1.73*AI91) -> 141.19934 | AJ110: 2.4696 | AK110: 0.3304 | AL110: =SQRT(AM110^2+AN110^2)*1000/(1.73*AL91) -> 133.92231 | AM110: 2.3424 | AN110: 0.3128 | AO110: =SQRT(AP110^2+AQ110^2)*1000/(1.73*AO91) -> 129.19184 | AP110: 2.2576 | AQ110: 0.3168
...

Sheet ПС 110-10 Лорба
A1: Ведомость контрольного замера по ПС: 110/10 кВ «Лорба»
A2: Дата: 18.12.2024
A4: Замер по трансформаторам | H4: 1 час | K4: 2 час | N4: 3 час | Q4: 4 час | T4: 5 час | W4: 6 час | Z4: 7 час | AC4: 8 час | AF4: 9 час | AI4: 10 час | AL4: 11 час | AO4: 12 час | AR4: 13 час | AU4: 14 час | AX4: 15 час | BA4: 16 час | BD4: 17 час | BG4: 18 час | BJ4: 19 час | BM4: 20 час | BP4: 21 час | BS4: 22 час | BV4: 23 час | BY4: 00 час
A5: Диспет. наимен. | C5: S ном, МВА | H5: Ток | I5: Pнагр. | J5: Qнагр. | K5: Ток | L5: Pнагр. | M5: Qнагр. | N5: Ток | O5: Pнагр. | P5: Qнагр. | Q5: Ток | R5: Pнагр. | S5: Qнагр. | T5: Ток | U5: Pнагр. | V5: Qнагр. | W5: Ток | X5: Pнагр. | Y5: Qнагр. | Z5: Ток | AA5: Pнагр. | AB5: Qнагр. | AC5: Ток | AD5: Pнагр. | AE5: Qнагр. | AF5: Ток | AG5: Pнагр. | AH5: Qнагр. | AI5: Ток | AJ5: Pнагр. | AK5: Qнагр. | AL5: Ток | AM5: Pнагр. | AN5: Qнагр. | AO5: Ток | AP5: Pнагр. | AQ5: Qнагр. | AR5: Ток | AS5: Pнагр. | AT5: Qнагр. | AU5: Ток | AV5: Pнагр. | AW5: Qнагр. | AX5: Ток | AY5: Pнагр. | AZ5: Qнагр. | BA5: Ток | BB5: Pнагр. | BC5: Qнагр. | BD5: Ток | BE5: Pнагр. | BF5: Qнагр. | BG5: Ток | BH5: Pнагр. | BI5: Qнагр. | BJ5: Ток | BK5: Pнагр. | BL5: Qнагр. | BM5: Ток | BN5: Pнагр. | BO5: Qнагр. | BP5: Ток | BQ5: Pнагр. | BR5: Qнагр. | BS5: Ток | BT5: Pнагр. | BU5: Qнагр. | BV5: Ток | BW5: Pнагр. | BX5: Qнагр. | BY5: Ток | BZ5: Pнагр. | CA5: Qнагр.
H6: А | I6: МВт | J6: Мвар | K6: А | L6: МВт | M6: Мвар | N6: А | O6: МВт | P6: Мвар | Q6: А | R6: МВт | S6: Мвар | T6: А | U6: МВт | V6: Мвар | W6: А | X6: МВт | Y6: Мвар | Z6: А | AA6: МВт | AB6: Мвар | AC6: А | AD6: МВт | AE6: Мвар | AF6: А | AG6: МВт | AH6: Мвар | AI6: А | AJ6: МВт | AK6: Мвар | AL6: А | AM6: МВт | AN6: Мвар | AO6: А | AP6: МВт | AQ6: Мвар | AR6: А | AS6: МВт | AT6: Мвар | AU6: А | AV6: МВт | AW6: Мвар | AX6: А | AY6: МВт | AZ6: Мвар | BA6: А | BB6: МВт | BC6: Мвар | BD6: А | BE6: МВт | BF6: Мвар | BG6: А | BH6: МВт | BI6: Мвар | BJ6: А | BK6: МВт | BL6: Мвар | BM6: А | BN6: МВт | BO6: Мвар | BP6: А | BQ6: МВт | BR6: Мвар | BS6: А | BT6: МВт | BU6: Мвар | BV6: А | BW6: МВт | BX6: Мвар | BY6: А | BZ6: МВт | CA6: Мвар
A7: 1Т (КРУН-6 яч. 1 + ТСН ПС 110/6 кВ Лорба) | C7: 2.5 | D7: Нагрузка | F7: 110 кВ | H7: =ROUND(SQRT(I7^2+J7^2)*1000/(SQRT(3)*I10),2) -> 0 | K7: =ROUND(SQRT(L7^2+M7^2)*1000/(SQRT(3)*L10),2) -> 0 | N7: =ROUND(SQRT(O7^2+P7^2)*1000/(SQRT(3)*O10),2) -> 0 | Q7: =ROUND(SQRT(R7^2+S7^2)*1000/(SQRT(3)*R10),2) -> 0 | T7: =ROUND(SQRT(U7^2+V7^2)*1000/(SQRT(3)*U10),2) -> 0 | W7: =ROUND(SQRT(X7^2+Y7^2)*1000/(SQRT(3)*X10),2) -> 0 | Z7: =ROUND(SQRT(AA7^2+AB7^2)*1000/(SQRT(3)*AA10),2) -> 0 | AC7: =ROUND(SQRT(AD7^2+AE7^2)*1000/(SQRT(3)*AD10),2) -> 0 | AF7: =ROUND(SQRT(AG7^2+AH7^2)*1000/(SQRT(3)*AG10),2) -> 0 | AI7: =ROUND(SQRT(AJ7^2+AK7^2)*1000/(SQRT(3)*AJ10),2) -> 0 | AL7: =ROUND(SQRT(AM7^2+AN7^2)*1000/(SQRT(3)*AM10),2) -> 0 | AO7: =ROUND(SQRT(AP7^2+AQ7^2)*1000/(SQRT(3)*AP10),2) -> 0 | AR7: =ROUND(SQRT(AS7^2+AT7^2)*1000/(SQRT(3)*AS10),2) -> 0 | AU7: =ROUND(SQRT(AV7^2+AW7^2)*1000/(SQRT(3)*AV10),2) -> 0 | AX7: =ROUND(SQRT(AY7^2+AZ7^2)*1000/(SQRT(3)*AY10),2) -> 0 | BA7: =ROUND(SQRT(BB7^2+BC7^2)*1000/(SQRT(3)*BB10),2) -> 0 | BD7: =ROUND(SQRT(BE7^2+BF7^2)*1000/(SQRT(3)*BE10),2) -> 0 | BG7: =ROUND(SQRT(BH7^2+BI7^2)*1000/(SQRT(3)*BH10),2) -> 0 | BJ7: =ROUND(SQRT(BK7^2+BL7^2)*1000/(SQRT(3)*BK10),2) -> 0 | BM7: =ROUND(SQRT(BN7^2+BO7^2)*1000/(SQRT(3)*BN10),2) -> 0 | BP7: =ROUND(SQRT(BQ7^2+BR7^2)*1000/(SQRT(3)*BQ10),2) -> 0 | BS7: =ROUND(SQRT(BT7^2+BU7^2)*1000/(SQRT(3)*BT10),2) -> 0 | BV7: =ROUND(SQRT(BW7^2+BX7^2)*1000/(SQRT(3)*BW10),2) -> 0 | BY7: =ROUND(SQRT(BZ7^2+CA7^2)*1000/(SQRT(3)*BZ10),2) -> 0
F8: 6 кВ | H8: =ROUND(SQRT(I8^2+J8^2)*1000/(SQRT(3)*I11),2) -> 3.29 | I8: =I20+I12 -> 0.032592 | J8: =J20+J12 -> 0.015096 | K8: =ROUND(SQRT(L8^2+M8^2)*1000/(SQRT(3)*L11),2) -> 3.26 | L8: =L20+L12 -> 0.03212 | M8: =M20+M12 -> 0.015344 | N8: =ROUND(SQRT(O8^2+P8^2)*1000/(SQRT(3)*O11),2) -> 3.27 | O8: =O20+O12 -> 0.03236 | P8: =P20+P12 -> 0.015112 | Q8: =ROUND(SQRT(R8^2+S8^2)*1000/(SQRT(3)*R11),2) -> 3.25 | R8: =R20+R12 -> 0.032112 | S8: =S20+S12 -> 0.015104 | T8: =ROUND(SQRT(U8^2+V8^2)*1000/(SQRT(3)*U11),2) -> 3.23 | U8: =U20+U12 -> 0.03188 | V8: =V20+V12 -> 0.015104 | W8: =ROUND(SQRT(X8^2+Y8^2)*1000/(SQRT(3)*X11),2) -> 3.3 | X8: =X20+X12 -> 0.032832 | Y8: =Y20+Y12 -> 0.014864 | Z8: =ROUND(SQRT(AA8^2+AB8^2)*1000/(SQRT(3)*AA11),2) -> 3.37 | AA8: =AA20+AA12 -> 0.03356 | AB8: =AB20+AB12 -> 0.015104 | AC8: =ROUND(SQRT(AD8^2+AE8^2)*1000/(SQRT(3)*AD11),2) -> 3.28 | AD8: =AD20+AD12 -> 0.032592 | AE8: =AE20+AE12 -> 0.014864 | AF8: =ROUND(SQRT(AG8^2+AH8^2)*1000/(SQRT(3)*AG11),2) -> 3.53 | AG8: =AG20+AG12 -> 0.03548 | AH8: =AH20+AH12 -> 0.014864 | AI8: =ROUND(SQRT(AJ8^2+AK8^2)*1000/(SQRT(3)*AJ11),2) -> 3.54 | AJ8: =AJ20+AJ12 -> 0.035712 | AK8: =AK20+AK12 -> 0.014624 | AL8: =ROUND(SQRT(AM8^2+AN8^2)*1000/(SQRT(3)*AM11),2) -> 3.52 | AM8: =AM20+AM12 -> 0.035472 | AN8: =AN20+AN12 -> 0.014624 | AO8: =ROUND(SQRT(AP8^2+AQ8^2)*1000/(SQRT(3)*AP11),2) -> 3.26 | AP8: =AP20+AP12 -> 0.032592 | AQ8: =AQ20+AQ12 -> 0.014376 | AR8: =ROUND(SQRT(AS8^2+AT8^2)*1000/(SQRT(3)*AS11),2) -> 3.38 | AS8: =AS20+AS12 -> 0.033792 | AT8: =AT20+AT12 -> 0.014856 | AU8: =ROUND(SQRT(AV8^2+AW8^2)*1000/(SQRT(3)*AV11),2) -> 3.47 | AV8: =AV20+AV12 -> 0.03476 | AW8: =AW20+AW12 -> 0.015104 | AX8: =ROUND(SQRT(AY8^2+AZ8^2)*1000/(SQRT(3)*AY11),2) -> 3.44 | AY8: =AY20+AY12 -> 0.03452 | AZ8: =AZ20+AZ12 -> 0.014624 | BA8: =ROUND(SQRT(BB8^2+BC8^2)*1000/(SQRT(3)*BB11),2) -> 3.09 | BB8: =BB20+BB12 -> 0.030432 | BC8: =BC20+BC12 -> 0.014624 | BD8: =ROUND(SQRT(BE8^2+BF8^2)*1000/(SQRT(3)*BE11),2) -> 3.27 | BE8: =BE20+BE12 -> 0.0326 | BF8: =BF20+BF12 -> 0.014632 | BG8: =ROUND(SQRT(BH8^2+BI8^2)*1000/(SQRT(3)*BH11),2) -> 3.41 | BH8: =BH20+BH12 -> 0.034032 | BI8: =BI20+BI12 -> 0.015104 | BJ8: =ROUND(SQRT(BK8^2+BL8^2)*1000/(SQRT(3)*BK11),2) -> 3.25 | BK8: =BK20+BK12 -> 0.03212 | BL8: =BL20+BL12 -> 0.015104 | BM8: =ROUND(SQRT(BN8^2+BO8^2)*1000/(SQRT(3)*BN11),2) -> 3.23 | BN8: =BN20+BN12 -> 0.03188 | BO8: =BO20+BO12 -> 0.015104 | BP8: =ROUND(SQRT(BQ8^2+BR8^2)*1000/(SQRT(3)*BQ11),2) -> 3.23 | BQ8: =BQ20+BQ12 -> 0.03188 | BR8: =BR20+BR12 -> 0.015112 | BS8: =ROUND(SQRT(BT8^2+BU8^2)*1000/(SQRT(3)*BT11),2) -> 3.22 | BT8: =BT20+BT12 -> 0.03188 | BU8: =BU20+BU12 -> 0.014864 | BV8: =ROUND(SQRT(BW8^2+BX8^2)*1000/(SQRT(3)*BW11),2) -> 3.14 | BW8: =BW20+BW12 -> 0.03092 | BX8: =BX20+BX12 -> 0.014864 | BY8: =ROUND(SQRT(BZ8^2+CA8^2)*1000/(SQRT(3)*BZ11),2) -> 3.16 | BZ8: =BZ20+BZ12 -> 0.03116 | CA8: =CA20+CA12 -> 0.014864 | CB8: =SUM(BZ8,BW8,BT8,BQ8,BN8,BK8,BH8,BE8,BB8,AY8,AV8,AS8,AP8,AM8,AJ8,AG8,AD8,AA8,X8,U8,R8,O8,L8,I8) -> 0.78928 | CC8: =SUM(CA8,BX8,BU8,BR8,BO8,BL8,BI8,BF8,BC8,AZ8,AW8,AT8,AQ8,AN8,AK8,AH8,AE8,AB8,Y8,V8,S8,P8,M8,J8) -> 0.357936
D9: РПН | I9: 7 | L9: 7 | O9: 7 | R9: 7 | U9: 7 | X9: 7 | AA9: 7 | AD9: 7 | AG9: 7 | AJ9: 7 | AM9: 7 | AP9: 7 | AS9: 7 | AV9: 7 | AY9: 7 | BB9: 7 | BE9: 7 | BH9: 7 | BK9: 7 | BN9: 7 | BQ9: 7 | BT9: 7 | BW9: 7 | BZ9: 7
D10: Напряж. | F10: 110 кВ | I10: 115 | L10: 115 | O10: 115 | R10: 115 | U10: 115 | X10: 115 | AA10: 115 | AD10: 115 | AG10: 115 | AJ10: 115 | AM10: 115 | AP10: 115 | AS10: 115 | AV10: 115 | AY10: 115 | BB10: 115 | BE10: 115 | BH10: 115 | BK10: 115 | BN10: 115 | BQ10: 115 | BT10: 115 | BW10: 115 | BZ10: 115
F11: 6 кВ | I11: 6.3 | L11: 6.3 | O11: 6.3 | R11: 6.3 | U11: 6.3 | X11: 6.3 | AA11: 6.3 | AD11: 6.3 | AG11: 6.3 | AJ11: 6.3 | AM11: 6.3 | AP11: 6.3 | AS11: 6.3 | AV11: 6.3 | AY11: 6.3 | BB11: 6.3 | BE11: 6.3 | BH11: 6.3 | BK11: 6.3 | BN11: 6.3 | BQ11: 6.3 | BT11: 6.3 | BW11: 6.3 | BZ11: 6.3
A12: ТСН-1 | D12: Нагрузка | H12: =ROUND(SQRT(I12^2+J12^2)*1000/(SQRT(3)*I13),2) -> 3.46 | I12: 0.002352 | J12: =-1*-0.000456 -> 0.000456 | K12: =ROUND(SQRT(L12^2+M12^2)*1000/(SQRT(3)*L13),2) -> 3.47 | L12: 0.00236 | M12: =-1*-0.000464 -> 0.000464 | N12: =ROUND(SQRT(O12^2+P12^2)*1000/(SQRT(3)*O13),2) -> 3.47 | O12: 0.00236 | P12: =-1*-0.000472 -> 0.000472 | Q12: =ROUND(SQRT(R12^2+S12^2)*1000/(SQRT(3)*R13),2) -> 3.46 | R12: 0.002352 | S12: =-1*-0.000464 -> 0.000464 | T12: =ROUND(SQRT(U12^2+V12^2)*1000/(SQRT(3)*U13),2) -> 3.47 | U12: 0.00236 | V12: =-1*-0.000464 -> 0.000464 | W12: =ROUND(SQRT(X12^2+Y12^2)*1000/(SQRT(3)*X13),2) -> 3.46 | X12: 0.002352 | Y12: =-1*-0.000464 -> 0.000464 | Z12: =ROUND(SQRT(AA12^2+AB12^2)*1000/(SQRT(3)*AA13),2) -> 3.47 | AA12: 0.00236 | AB12: =-1*-0.000464 -> 0.000464 | AC12: =ROUND(SQRT(AD12^2+AE12^2)*1000/(SQRT(3)*AD13),2) -> 3.46 | AD12: 0.002352 | AE12: =-1*-0.000464 -> 0.000464 | AF12: =ROUND(SQRT(AG12^2+AH12^2)*1000/(SQRT(3)*AG13),2) -> 3.47 | AG12: 0.00236 | AH12: =-1*-0.000464 -> 0.000464 | AI12: =ROUND(SQRT(AJ12^2+AK12^2)*1000/(SQRT(3)*AJ13),2) -> 3.46 | AJ12: 0.002352 | AK12: =-1*-0.000464 -> 0.000464 | AL12: =ROUND(SQRT(AM12^2+AN12^2)*1000/(SQRT(3)*AM13),2) -> 3.46 | AM12: 0.002352 | AN12: =-1*-0.000464 -> 0.000464 | AO12: =ROUND(SQRT(AP12^2+AQ12^2)*1000/(SQRT(3)*AP13),2) -> 3.46 | AP12: 0.002352 | AQ12: =-1*-0.000456 -> 0.000456 | AR12: =ROUND(SQRT(AS12^2+AT12^2)*1000/(SQRT(3)*AS13),2) -> 3.46 | AS12: 0.002352 | AT12: =-1*-0.000456 -> 0.000456 | AU12: =ROUND(SQRT(AV12^2+AW12^2)*1000/(SQRT(3)*AV13),2) -> 3.47 | AV12: 0.00236 | AW12: =-1*-0.000464 -> 0.000464 | AX12: =ROUND(SQRT(AY12^2+AZ12^2)*1000/(SQRT(3)*AY13),2) -> 3.47 | AY12: 0.00236 | AZ12: =-1*-0.000464 -> 0.000464 | BA12: =ROUND(SQRT(BB12^2+BC12^2)*1000/(SQRT(3)*BB13),2) -> 3.46 | BB12: 0.002352 | BC12: =-1*-0.000464 -> 0.000464 | BD12: =ROUND(SQRT(BE12^2+BF12^2)*1000/(SQRT(3)*BE13),2) -> 3.47 | BE12: 0.00236 | BF12: =-1*-0.000472 -> 0.000472 | BG12: =ROUND(SQRT(BH12^2+BI12^2)*1000/(SQRT(3)*BH13),2) -> 3.46 | BH12: 0.002352 | BI12: =-1*-0.000464 -> 0.000464 | BJ12: =ROUND(SQRT(BK12^2+BL12^2)*1000/(SQRT(3)*BK13),2) -> 3.47 | BK12: 0.00236 | BL12: =-1*-0.000464 -> 0.000464 | BM12: =ROUND(SQRT(BN12^2+BO12^2)*1000/(SQRT(3)*BN13),2) -> 3.47 | BN12: 0.00236 | BO12: =-1*-0.000464 -> 0.000464 | BP12: =ROUND(SQRT(BQ12^2+BR12^2)*1000/(SQRT(3)*BQ13),2) -> 3.47 | BQ12: 0.00236 | BR12: =-1*-0.000472 -> 0.000472 | BS12: =ROUND(SQRT(BT12^2+BU12^2)*1000/(SQRT(3)*BT13),2) -> 3.47 | BT12: 0.00236 | BU12: =-1*-0.000464 -> 0.000464 | BV12: =ROUND(SQRT(BW12^2+BX12^2)*1000/(SQRT(3)*BW13),2) -> 3.47 | BW12: 0.00236 | BX12: =-1*-0.000464 -> 0.000464 | BY12: =ROUND(SQRT(BZ12^2+CA12^2)*1000/(SQRT(3)*BZ13),2) -> 3.47 | BZ12: 0.00236 | CA12: =-1*-0.000464 -> 0.000464 | CB12: =SUM(BZ12,BW12,BT12,BQ12,BN12,BK12,BH12,BE12,BB12,AY12,AV12,AS12,AP12,AM12,AJ12,AG12,AD12,AA12,X12,U12,R12,O12,L12,I12) -> 0.05656 | CC12: =SUM(CA12,BX12,BU12,BR12,BO12,BL12,BI12,BF12,BC12,AZ12,AW12,AT12,AQ12,AN12,AK12,AH12,AE12,AB12,Y12,V12,S12,P12,M12,J12) -> 0.011136
D13: Напряж. | I13: 0.4 | L13: 0.4 | O13: 0.4 | R13: 0.4 | U13: 0.4 | X13: 0.4 | AA13: 0.4 | AD13: 0.4 | AG13: 0.4 | AJ13: 0.4 | AM13: 0.4 | AP13: 0.4 | AS13: 0.4 | AV13: 0.4 | AY13: 0.4 | BB13: 0.4 | BE13: 0.4 | BH13: 0.4 | BK13: 0.4 | BN13: 0.4 | BQ13: 0.4 | BT13: 0.4 | BW13: 0.4 | BZ13: 0.4
A14: Всего | F14: 110 кВ | H14: - | I14: - | J14: - | K14: - | L14: - | M14: - | N14: - | O14: - | P14: - | Q14: - | R14: - | S14: - | T14: - | U14: - | V14: - | W14: - | X14: - | Y14: - | Z14: - | AA14: - | AB14: - | AC14: - | AD14: - | AE14: - | AF14: - | AG14: - | AH14: - | AI14: - | AJ14: - | AK14: - | AL14: - | AM14: - | AN14: - | AO14: - | AP14: - | AQ14: - | AR14: - | AS14: - | AT14: - | AU14: - | AV14: - | AW14: - | AX14: - | AY14: - | AZ14: - | BA14: - | BB14: - | BC14: - | BD14: - | BE14: - | BF14: - | BG14: - | BH14: - | BI14: - | BJ14: - | BK14: - | BL14: - | BM14: - | BN14: - | BO14: - | BP14: - | BQ14: - | BR14: - | BS14: - | BT14: - | BU14: - | BV14: - | BW14: - | BX14: - | BY14: - | BZ14: - | CA14: -
F15: 6 кВ | H15: =H8 -> 3.29 | I15: =I8 -> 0.032592 | J15: =J8 -> 0.015096 | K15: - | L15: - | M15: - | N15: - | O15: - | P15: - | Q15: - | R15: - | S15: - | T15: - | U15: - | V15: - | W15: - | X15: - | Y15: - | Z15: - | AA15: - | AB15: - | AC15: - | AD15: - | AE15: - | AF15: - | AG15: - | AH15: - | AI15: - | AJ15: - | AK15: - | AL15: - | AM15: - | AN15: - | AO15: - | AP15: - | AQ15: - | AR15: - | AS15: - | AT15: - | AU15: - | AV15: - | AW15: - | AX15: - | AY15: - | AZ15: - | BA15: - | BB15: - | BC15: - | BD15: - | BE15: - | BF15: - | BG15: - | BH15: - | BI15: - | BJ15: - | BK15: - | BL15: - | BM15: - | BN15: - | BO15: - | BP15: - | BQ15: - | BR15: - | BS15: - | BT15: - | BU15: - | BV15: - | BW15: - | BX15: - | BY15: - | BZ15: - | CA15: -
A16: cosФ(6)= | B16: - | D16: tgФ(6)= | E16: -
A18: Замер по | D18: Уст.ЧАПВ | F18: Уст.АЧР | H18: Ток | I18: Pнагр. | J18: Qнагр. | K18: Ток | L18: Pнагр. | M18: Qнагр. | N18: Ток | O18: Pнагр. | P18: Qнагр. | Q18: Ток | R18: Pнагр. | S18: Qнагр. | T18: Ток | U18: Pнагр. | V18: Qнагр. | W18: Ток | X18: Pнагр. | Y18: Qнагр. | Z18: Ток | AA18: Pнагр. | AB18: Qнагр. | AC18: Ток | AD18: Pнагр. | AE18: Qнагр. | AF18: Ток | AG18: Pнагр. | AH18: Qнагр. | AI18: Ток | AJ18: Pнагр. | AK18: Qнагр. | AL18: Ток | AM18: Pнагр. | AN18: Qнагр. | AO18: Ток | AP18: Pнагр. | AQ18: Qнагр. | AR18: Ток | AS18: Pнагр. | AT18: Qнагр. | AU18: Ток | AV18: Pнагр. | AW18: Qнагр. | AX18: Ток | AY18: Pнагр. | AZ18: Qнагр. | BA18: Ток | BB18: Pнагр. | BC18: Qнагр. | BD18: Ток | BE18: Pнагр. | BF18: Qнагр. | BG18: Ток | BH18: Pнагр. | BI18: Qнагр. | BJ18: Ток | BK18: Pнагр. | BL18: Qнагр. | BM18: Ток | BN18: Pнагр. | BO18: Qнагр. | BP18: Ток | BQ18: Pнагр. | BR18: Qнагр. | BS18: Ток | BT18: Pнагр. | BU18: Qнагр. | BV18: Ток | BW18: Pнагр. | BX18: Qнагр. | BY18: Ток | BZ18: Pнагр. | CA18: Qнагр.
D19: герц | E19: сек | F19: герц | G19: сек | H19: А | I19: МВт | J19: Мвар | K19: А | L19: МВт | M19: Мвар | N19: А | O19: МВт | P19: Мвар | Q19: А | R19: МВт | S19: Мвар | T19: А | U19: МВт | V19: Мвар | W19: А | X19: МВт | Y19: Мвар | Z19: А | AA19: МВт | AB19: Мвар | AC19: А | AD19: МВт | AE19: Мвар | AF19: А | AG19: МВт | AH19: Мвар | AI19: А | AJ19: МВт | AK19: Мвар | AL19: А | AM19: МВт | AN19: Мвар | AO19: А | AP19: МВт | AQ19: Мвар | AR19: А | AS19: МВт | AT19: Мвар | AU19: А | AV19: МВт | AW19: Мвар | AX19: А | AY19: МВт | AZ19: Мвар | BA19: А | BB19: МВт | BC19: Мвар | BD19: А | BE19: МВт | BF19: Мвар | BG19: А | BH19: МВт | BI19: Мвар | BJ19: А | BK19: МВт | BL19: Мвар | BM19: А | BN19: МВт | BO19: Мвар | BP19: А | BQ19: МВт | BR19: Мвар | BS19: А | BT19: МВт | BU19: Мвар | BV19: А | BW19: МВт | BX19: Мвар | BY19: А | BZ19: МВт | CA19: Мвар
A20: яч. 4 ф. "Поселок" | H20: =ROUND(SQRT(I20^2+J20^2)*1000/(SQRT(3)*I11),2) -> 3.08 | I20: 0.03024 | J20: 0.01464 | K20: =ROUND(SQRT(L20^2+M20^2)*1000/(SQRT(3)*L11),2) -> 3.05 | L20: 0.02976 | M20: 0.01488 | N20: =ROUND(SQRT(O20^2+P20^2)*1000/(SQRT(3)*O11),2) -> 3.06 | O20: 0.03 | P20: 0.01464 | Q20: =ROUND(SQRT(R20^2+S20^2)*1000/(SQRT(3)*R11),2) -> 3.04 | R20: 0.02976 | S20: 0.01464 | T20: =ROUND(SQRT(U20^2+V20^2)*1000/(SQRT(3)*U11),2) -> 3.02 | U20: 0.02952 | V20: 0.01464 | W20: =ROUND(SQRT(X20^2+Y20^2)*1000/(SQRT(3)*X11),2) -> 3.09 | X20: 0.03048 | Y20: 0.0144 | Z20: =ROUND(SQRT(AA20^2+AB20^2)*1000/(SQRT(3)*AA11),2) -> 3.16 | AA20: 0.0312 | AB20: 0.01464 | AC20: =ROUND(SQRT(AD20^2+AE20^2)*1000/(SQRT(3)*AD11),2) -> 3.07 | AD20: 0.03024 | AE20: 0.0144 | AF20: =ROUND(SQRT(AG20^2+AH20^2)*1000/(SQRT(3)*AG11),2) -> 3.31 | AG20: 0.03312 | AH20: 0.0144 | AI20: =ROUND(SQRT(AJ20^2+AK20^2)*1000/(SQRT(3)*AJ11),2) -> 3.32 | AJ20: 0.03336 | AK20: 0.01416 | AL20: =ROUND(SQRT(AM20^2+AN20^2)*1000/(SQRT(3)*AM11),2) -> 3.3 | AM20: 0.03312 | AN20: 0.01416 | AO20: =ROUND(SQRT(AP20^2+AQ20^2)*1000/(SQRT(3)*AP11),2) -> 3.05 | AP20: 0.03024 | AQ20: 0.01392 | AR20: =ROUND(SQRT(AS20^2+AT20^2)*1000/(SQRT(3)*AS11),2) -> 3.17 | AS20: 0.03144 | AT20: 0.0144 | AU20: =ROUND(SQRT(AV20^2+AW20^2)*1000/(SQRT(3)*AV11),2) -> 3.26 | AV20: 0.0324 | AW20: 0.01464 | AX20: =ROUND(SQRT(AY20^2+AZ20^2)*1000/(SQRT(3)*AY11),2) -> 3.22 | AY20: 0.03216 | AZ20: 0.01416 | BA20: =ROUND(SQRT(BB20^2+BC20^2)*1000/(SQRT(3)*BB11),2) -> 2.88 | BB20: 0.02808 | BC20: 0.01416 | BD20: =ROUND(SQRT(BE20^2+BF20^2)*1000/(SQRT(3)*BE11),2) -> 3.06 | BE20: 0.03024 | BF20: 0.01416 | BG20: =ROUND(SQRT(BH20^2+BI20^2)*1000/(SQRT(3)*BH11),2) -> 3.2 | BH20: 0.03168 | BI20: 0.01464 | BJ20: =ROUND(SQRT(BK20^2+BL20^2)*1000/(SQRT(3)*BK11),2) -> 3.04 | BK20: 0.02976 | BL20: 0.01464 | BM20: =ROUND(SQRT(BN20^2+BO20^2)*1000/(SQRT(3)*BN11),2) -> 3.02 | BN20: 0.02952 | BO20: 0.01464 | BP20: =ROUND(SQRT(BQ20^2+BR20^2)*1000/(SQRT(3)*BQ11),2) -> 3.02 | BQ20: 0.02952 | BR20: 0.01464 | BS20: =ROUND(SQRT(BT20^2+BU20^2)*1000/(SQRT(3)*BT11),2) -> 3.01 | BT20: 0.02952 | BU20: 0.0144 | BV20: =ROUND(SQRT(BW20^2+BX20^2)*1000/(SQRT(3)*BW11),2) -> 2.93 | BW20: 0.02856 | BX20: 0.0144 | BY20: =ROUND(SQRT(BZ20^2+CA20^2)*1000/(SQRT(3)*BZ11),2) -> 2.95 | BZ20: 0.0288 | CA20: 0.0144 | CB20: =SUM(BZ20,BW20,BT20,BQ20,BN20,BK20,BH20,BE20,BB20,AY20,AV20,AS20,AP20,AM20,AJ20,AG20,AD20,AA20,X20,U20,R20,O20,L20,I20) -> 0.73272 | CC20: =SUM(CA20,BX20,BU20,BR20,BO20,BL20,BI20,BF20,BC20,AZ20,AW20,AT20,AQ20,AN20,AK20,AH20,AE20,AB20,Y20,V20,S20,P20,M20,J20) -> 0.3468
A23: РАСЧЕТ ПОТЕРЬ В ТРАНСФОРМАТОРАХ
A24: 1Т | B24: Потери пост. | D24: Px.x+j Qx.x. | H24: 0.0055 | I24: +j | J24: 0.0371
B25: Потери перем. | D25: Рпер+j Qпер | H25: =(SUM(I$8*I$8,J$8*J$8)/POWER($C$7,2))*$C$26 -> 4.7703761e-06 | I25: +j | J25: =($G$26/100)*(SUM(I$8*I$8,J$8*J$8)/$C$7) -> 5.7436484e-05 | K25: =(SUM(L$8*L$8,M$8*M$8)/POWER($C$7,2))*$C$26 -> 4.68535e-06 | L25: +j | M25: =($G$26/100)*(SUM(L$8*L$8,M$8*M$8)/$C$7) -> 5.6412749e-05 | N25: =(SUM(O$8*O$8,P$8*P$8)/POWER($C$7,2))*$C$26 -> 4.7164446e-06 | O25: +j | P25: =($G$26/100)*(SUM(O$8*O$8,P$8*P$8)/$C$7) -> 5.6787136e-05 | Q25: =(SUM(R$8*R$8,S$8*S$8)/POWER($C$7,2))*$C$26 -> 4.6564297e-06 | R25: +j | S25: =($G$26/100)*(SUM(R$8*R$8,S$8*S$8)/$C$7) -> 5.6064542e-05 | T25: =(SUM(U$8*U$8,V$8*V$8)/POWER($C$7,2))*$C$26 -> 4.6015346e-06 | U25: +j | V25: =($G$26/100)*(SUM(U$8*U$8,V$8*V$8)/$C$7) -> 5.5403591e-05 | W25: =(SUM(X$8*X$8,Y$8*Y$8)/POWER($C$7,2))*$C$26 -> 4.802734e-06 | X25: +j | Y25: =($G$26/100)*(SUM(X$8*X$8,Y$8*Y$8)/$C$7) -> 5.7826081e-05 | Z25: =(SUM(AA$8*AA$8,AB$8*AB$8)/POWER($C$7,2))*$C$26 -> 5.0080458e-06 | AA25: +j | AB25: =($G$26/100)*(SUM(AA$8*AA$8,AB$8*AB$8)/$C$7) -> 6.0298085e-05 | AC25: =(SUM(AD$8*AD$8,AE$8*AE$8)/POWER($C$7,2))*$C$26 -> 4.7446751e-06 | AD25: +j | AE25: =($G$26/100)*(SUM(AD$8*AD$8,AE$8*AE$8)/$C$7) -> 5.7127038e-05 | AF25: =(SUM(AG$8*AG$8,AH$8*AH$8)/POWER($C$7,2))*$C$26 -> 5.4715935e-06 | AG25: +j | AH25: =($G$26/100)*(SUM(AG$8*AG$8,AH$8*AH$8)/$C$7) -> 6.5879311e-05 | AI25: =(SUM(AJ$8*AJ$8,AK$8*AK$8)/POWER($C$7,2))*$C$26 -> 5.5064967e-06 | AJ25: +j | AK25: =($G$26/100)*(SUM(AJ$8*AJ$8,AK$8*AK$8)/$C$7) -> 6.6299554e-05 | AL25: =(SUM(AM$8*AM$8,AN$8*AN$8)/POWER($C$7,2))*$C$26 -> 5.4433263e-06 | AM25: +j | AN25: =($G$26/100)*(SUM(AM$8*AM$8,AN$8*AN$8)/$C$7) -> 6.5538968e-05 | AO25: =(SUM(AP$8*AP$8,AQ$8*AQ$8)/POWER($C$7,2))*$C$26 -> 4.6919136e-06 | AP25: +j | AQ25: =($G$26/100)*(SUM(AP$8*AP$8,AQ$8*AQ$8)/$C$7) -> 5.6491777e-05 | AR25: =(SUM(AS$8*AS$8,AT$8*AT$8)/POWER($C$7,2))*$C$26 -> 5.0383498e-06 | AS25: +j | AT25: =($G$26/100)*(SUM(AS$8*AS$8,AT$8*AT$8)/$C$7) -> 6.0662952e-05 | AU25: =(SUM(AV$8*AV$8,AW$8*AW$8)/POWER($C$7,2))*$C$26 -> 5.3111898e-06 | AV25: +j | AW25: =($G$26/100)*(SUM(AV$8*AV$8,AW$8*AW$8)/$C$7) -> 6.3948012e-05 | AX25: =(SUM(AY$8*AY$8,AZ$8*AZ$8)/POWER($C$7,2))*$C$26 -> 5.1969464e-06 | AY25: +j | AZ25: =($G$26/100)*(SUM(AY$8*AY$8,AZ$8*AZ$8)/$C$7) -> 6.2572494e-05 | BA25: =(SUM(BB$8*BB$8,BC$8*BC$8)/POWER($C$7,2))*$C$26 -> 4.2151457e-06 | BB25: +j | BC25: =($G$26/100)*(SUM(BB$8*BB$8,BC$8*BC$8)/$C$7) -> 5.0751375e-05 | BD25: =(SUM(BE$8*BE$8,BF$8*BF$8)/POWER($C$7,2))*$C$26 -> 4.7213006e-06 | BE25: +j | BF25: =($G$26/100)*(SUM(BE$8*BE$8,BF$8*BF$8)/$C$7) -> 5.6845603e-05 | BG25: =(SUM(BH$8*BH$8,BI$8*BI$8)/POWER($C$7,2))*$C$26 -> 5.1260119e-06 | BH25: +j | BI25: =($G$26/100)*(SUM(BH$8*BH$8,BI$8*BI$8)/$C$7) -> 6.1718425e-05 | BJ25: =(SUM(BK$8*BK$8,BL$8*BL$8)/POWER($C$7,2))*$C$26 -> 4.6583297e-06 | BK25: +j | BL25: =($G$26/100)*(SUM(BK$8*BK$8,BL$8*BL$8)/$C$7) -> 5.6087419e-05 | BM25: =(SUM(BN$8*BN$8,BO$8*BO$8)/POWER($C$7,2))*$C$26 -> 4.6015346e-06 | BN25: +j | BO25: =($G$26/100)*(SUM(BN$8*BN$8,BO$8*BO$8)/$C$7) -> 5.5403591e-05 | BP25: =(SUM(BQ$8*BQ$8,BR$8*BR$8)/POWER($C$7,2))*$C$26 -> 4.6024284e-06 | BQ25: +j | BR25: =($G$26/100)*(SUM(BQ$8*BQ$8,BR$8*BR$8)/$C$7) -> 5.5414353e-05 | BS25: =(SUM(BT$8*BT$8,BU$8*BU$8)/POWER($C$7,2))*$C$26 -> 4.5749403e-06 | BT25: +j | BU25: =($G$26/100)*(SUM(BT$8*BT$8,BU$8*BU$8)/$C$7) -> 5.5083389e-05 | BV25: =(SUM(BW$8*BW$8,BX$8*BX$8)/POWER($C$7,2))*$C$26 -> 4.3520194e-06 | BW25: +j | BX25: =($G$26/100)*(SUM(BW$8*BW$8,BX$8*BX$8)/$C$7) -> 5.2399368e-05 | BY25: =(SUM(BZ$8*BZ$8,CA$8*CA$8)/POWER($C$7,2))*$C$26 -> 4.4071106e-06 | BZ25: +j | CA25: =($G$26/100)*(SUM(BZ$8*BZ$8,CA$8*CA$8)/$C$7) -> 5.306268e-05
B26: Ркз= | C26: =23.11/1000 -> 0.02311 | E26: Uкз%(6)= | G26: 11.13
B27: Полная нагрузка с потерями | H27: =SUM(I8,H25,$H$24) -> 0.03809677 | I27: +j | J27: =SUM(J8,J25,$J$24) -> 0.052253436 | K27: =SUM(L8,K25,$H$24) -> 0.037624685 | L27: +j | M27: =SUM(M8,M25,$J$24) -> 0.052500413 | N27: =SUM(O8,N25,$H$24) -> 0.037864716 | O27: +j | P27: =SUM(P8,P25,$J$24) -> 0.052268787 | Q27: =SUM(R8,Q25,$H$24) -> 0.037616656 | R27: +j | S27: =SUM(S8,S25,$J$24) -> 0.052260065 | T27: =SUM(U8,T25,$H$24) -> 0.037384602 | U27: +j | V27: =SUM(V8,V25,$J$24) -> 0.052259404 | W27: =SUM(X8,W25,$H$24) -> 0.038336803 | X27: +j | Y27: =SUM(Y8,Y25,$J$24) -> 0.052021826 | Z27: =SUM(AA8,Z25,$H$24) -> 0.039065008 | AA27: +j | AB27: =SUM(AB8,AB25,$J$24) -> 0.052264298 | AC27: =SUM(AD8,AC25,$H$24) -> 0.038096745 | AD27: +j | AE27: =SUM(AE8,AE25,$J$24) -> 0.052021127 | AF27: =SUM(AG8,AF25,$H$24) -> 0.040985472 | AG27: +j | AH27: =SUM(AH8,AH25,$J$24) -> 0.052029879 | AI27: =SUM(AJ8,AI25,$H$24) -> 0.041217506 | AJ27: +j | AK27: =SUM(AK8,AK25,$J$24) -> 0.0517903 | AL27: =SUM(AM8,AL25,$H$24) -> 0.040977443 | AM27: +j | AN27: =SUM(AN8,AN25,$J$24) -> 0.051789539 | AO27: =SUM(AP8,AO25,$H$24) -> 0.038096692 | AP27: +j | AQ27: =SUM(AQ8,AQ25,$J$24) -> 0.051532492 | AR27: =SUM(AS8,AR25,$H$24) -> 0.039297038 | AS27: +j | AT27: =SUM(AT8,AT25,$J$24) -> 0.052016663 | AU27: =SUM(AV8,AU25,$H$24) -> 0.040265311 | AV27: +j | AW27: =SUM(AW8,AW25,$J$24) -> 0.052267948 | AX27: =SUM(AY8,AX25,$H$24) -> 0.040025197 | AY27: +j | AZ27: =SUM(AZ8,AZ25,$J$24) -> 0.051786572 | BA27: =SUM(BB8,BA25,$H$24) -> 0.035936215 | BB27: +j | BC27: =SUM(BC8,BC25,$J$24) -> 0.051774751 | BD27: =SUM(BE8,BD25,$H$24) -> 0.038104721 | BE27: +j | BF27: =SUM(BF8,BF25,$J$24) -> 0.051788846 | BG27: =SUM(BH8,BG25,$H$24) -> 0.039537126 | BH27: +j | BI27: =SUM(BI8,BI25,$J$24) -> 0.052265718 | BJ27: =SUM(BK8,BJ25,$H$24) -> 0.037624658 | BK27: +j | BL27: =SUM(BL8,BL25,$J$24) -> 0.052260087 | BM27: =SUM(BN8,BM25,$H$24) -> 0.037384602 | BN27: +j | BO27: =SUM(BO8,BO25,$J$24) -> 0.052259404 | BP27: =SUM(BQ8,BP25,$H$24) -> 0.037384602 | BQ27: +j | BR27: =SUM(BR8,BR25,$J$24) -> 0.052267414 | BS27: =SUM(BT8,BS25,$H$24) -> 0.037384575 | BT27: +j | BU27: =SUM(BU8,BU25,$J$24) -> 0.052019083 | BV27: =SUM(BW8,BV25,$H$24) -> 0.036424352 | BW27: +j | BX27: =SUM(BX8,BX25,$J$24) -> 0.052016399 | BY27: =SUM(BZ8,BY25,$H$24) -> 0.036664407 | BZ27: +j | CA27: =SUM(CA8,CA25,$J$24) -> 0.052017063
A28: Суммарная нагрузка
A29: ПС с потерями | F29: S p | H29: =H27 -> 0.03809677 | I29: +j | J29: =J27 -> 0.052253436 | K29: =K27 -> 0.037624685 | L29: +j | M29: =M27 -> 0.052500413 | N29: =N27 -> 0.037864716 | O29: +j | P29: =P27 -> 0.052268787 | Q29: =Q27 -> 0.037616656 | R29: +j | S29: =S27 -> 0.052260065 | T29: =T27 -> 0.037384602 | U29: +j | V29: =V27 -> 0.052259404 | W29: =W27 -> 0.038336803 | X29: +j | Y29: =Y27 -> 0.052021826 | Z29: =Z27 -> 0.039065008 | AA29: +j | AB29: =AB27 -> 0.052264298 | AC29: =AC27 -> 0.038096745 | AD29: +j | AE29: =AE27 -> 0.052021127 | AF29: =AF27 -> 0.040985472 | AG29: +j | AH29: =AH27 -> 0.052029879 | AI29: =AI27 -> 0.041217506 | AJ29: +j | AK29: =AK27 -> 0.0517903 | AL29: =AL27 -> 0.040977443 | AM29: +j | AN29: =AN27 -> 0.051789539 | AO29: =AO27 -> 0.038096692 | AP29: +j | AQ29: =AQ27 -> 0.051532492 | AR29: =AR27 -> 0.039297038 | AS29: +j | AT29: =AT27 -> 0.052016663 | AU29: =AU27 -> 0.040265311 | AV29: +j | AW29: =AW27 -> 0.052267948 | AX29: =AX27 -> 0.040025197 | AY29: +j | AZ29: =AZ27 -> 0.051786572 | BA29: =BA27 -> 0.035936215 | BB29: +j | BC29: =BC27 -> 0.051774751 | BD29: =BD27 -> 0.038104721 | BE29: +j | BF29: =BF27 -> 0.051788846 | BG29: =BG27 -> 0.039537126 | BH29: +j | BI29: =BI27 -> 0.052265718 | BJ29: =BJ27 -> 0.037624658 | BK29: +j | BL29: =BL27 -> 0.052260087 | BM29: =BM27 -> 0.037384602 | BN29: +j | BO29: =BO27 -> 0.052259404 | BP29: =BP27 -> 0.037384602 | BQ29: +j | BR29: =BR27 -> 0.052267414 | BS29: =BS27 -> 0.037384575 | BT29: +j | BU29: =BU27 -> 0.052019083 | BV29: =BV27 -> 0.036424352 | BW29: +j | BX29: =BX27 -> 0.052016399 | BY29: =BY27 -> 0.036664407 | BZ29: +j | CA29: =CA27 -> 0.052017063
A30: средневзв тангенс | I30: =J29/H29 -> 1.3715975 | L30: =M29/K29 -> 1.3953715 | O30: =P29/N29 -> 1.3804088 | R30: =S29/Q29 -> 1.3892799 | U30: =V29/T29 -> 1.3978858 | X30: =Y29/W29 -> 1.3569683 | AA30: =AB29/Z29 -> 1.3378801 | AD30: =AE29/AC29 -> 1.3655006 | AG30: =AH29/AF29 -> 1.2694713 | AJ30: =AK29/AI29 -> 1.2565122 | AM30: =AN29/AL29 -> 1.2638548 | AP30: =AQ29/AO29 -> 1.3526763
A31: время московское
A32: средневзв тангенс | I32: =AT29/AR29 -> 1.323679 | L32: =AW29/AU29 -> 1.2980888 | O32: =AZ29/AX29 -> 1.2938493 | R32: =BC29/BA29 -> 1.4407402 | U32: =BF29/BD29 -> 1.3591189 | X32: =BI29/BG29 -> 1.3219403 | AA32: =BL29/BJ29 -> 1.388985 | AD32: =BO29/BM29 -> 1.3978858 | AG32: =BR29/BP29 -> 1.3981 | AJ32: =BU29/BS29 -> 1.3914585 | AM32: =BX29/BV29 -> 1.4280666 | AP32: =CA29/BY29 -> 1.4187346
A33: время московское

Sheet ПС 110-10 Сергино
A1: Ведомость контрольного замера по ПС: 110/10 кВ «Сергино»
A2: Дата: 18.12.2024
A4: Замер по трансформаторам | H4: 1 час | K4: 2 час | N4: 3 час | Q4: 4 час | T4: 5 час | W4: 6 час | Z4: 7 час | AC4: 8 час | AF4: 9 час | AI4: 10 час | AL4: 11 час | AO4: 12 час | AR4: 13 час | AU4: 14 час | AX4: 15 час | BA4: 16 час | BD4: 17 час | BG4: 18 час | BJ4: 19 час | BM4: 20 час | BP4: 21 час | BS4: 22 час | BV4: 23 час | BY4: 00 час
A5: Диспет. наим. | C5: Sном, MBA | H5: Ток | I5: Pнагр. | J5: Qнагр. | K5: Ток | L5: Pнагр. | M5: Qнагр. | N5: Ток | O5: Pнагр. | P5: Qнагр. | Q5: Ток | R5: Pнагр. | S5: Qнагр. | T5: Ток | U5: Pнагр. | V5: Qнагр. | W5: Ток | X5: Pнагр. | Y5: Qнагр. | Z5: Ток | AA5: Pнагр. | AB5: Qнагр. | AC5: Ток | AD5: Pнагр. | AE5: Qнагр. | AF5: Ток | AG5: Pнагр. | AH5: Qнагр. | AI5: Ток | AJ5: Pнагр. | AK5: Qнагр. | AL5: Ток | AM5: Pнагр. | AN5: Qнагр. | AO5: Ток | AP5: Pнагр. | AQ5: Qнагр. | AR5: Ток | AS5: Pнагр. | AT5: Qнагр. | AU5: Ток | AV5: Pнагр. | AW5: Qнагр. | AX5: Ток | AY5: Pнагр. | AZ5: Qнагр. | BA5: Ток | BB5: Pнагр. | BC5: Qнагр. | BD5: Ток | BE5: Pнагр. | BF5: Qнагр. | BG5: Ток | BH5: Pнагр. | BI5: Qнагр. | BJ5: Ток | BK5: Pнагр. | BL5: Qнагр. | BM5: Ток | BN5: Pнагр. | BO5: Qнагр. | BP5: Ток | BQ5: Pнагр. | BR5: Qнагр. | BS5: Ток | BT5: Pнагр. | BU5: Qнагр. | BV5: Ток | BW5: Pнагр. | BX5: Qнагр. | BY5: Ток | BZ5: Pнагр. | CA5: Qнагр.
H6: А | I6: МВт | J6: Мвар | K6: А | L6: МВт | M6: Мвар | N6: А | O6: МВт | P6: Мвар | Q6: А | R6: МВт | S6: Мвар | T6: А | U6: МВт | V6: Мвар | W6: А | X6: МВт | Y6: Мвар | Z6: А | AA6: МВт | AB6: Мвар | AC6: А | AD6: МВт | AE6: Мвар | AF6: А | AG6: МВт | AH6: Мвар | AI6: А | AJ6: МВт | AK6: Мвар | AL6: А | AM6: МВт | AN6: Мвар | AO6: А | AP6: МВт | AQ6: Мвар | AR6: А | AS6: МВт | AT6: Мвар | AU6: А | AV6: МВт | AW6: Мвар | AX6: А | AY6: МВт | AZ6: Мвар | BA6: А | BB6: МВт | BC6: Мвар | BD6: А | BE6: МВт | BF6: Мвар | BG6: А | BH6: МВт | BI6: Мвар | BJ6: А | BK6: МВт | BL6: Мвар | BM6: А | BN6: МВт | BO6: Мвар | BP6: А | BQ6: МВт | BR6: Мвар | BS6: А | BT6: МВт | BU6: Мвар | BV6: А | BW6: МВт | BX6: Мвар | BY6: А | BZ6: МВт | CA6: Мвар
A7: 1Т | C7: 25 | D7: Нагрузка | F7: 110кВ | H7: - | I7: - | J7: - | K7: - | L7: - | M7: - | N7: - | O7: - | P7: - | Q7: - | R7: - | S7: - | T7: - | U7: - | V7: - | W7: - | X7: - | Y7: - | Z7: - | AA7: - | AB7: - | AC7: - | AD7: - | AE7: - | AF7: - | AG7: - | AH7: - | AI7: - | AJ7: - | AK7: - | AL7: - | AM7: - | AN7: - | AO7: - | AP7: - | AQ7: - | AR7: - | AS7: - | AT7: - | AU7: - | AV7: - | AW7: - | AX7: - | AY7: - | AZ7: - | BA7: - | BB7: - | BC7: - | BD7: - | BE7: - | BF7: - | BG7: - | BH7: - | BI7: - | BJ7: - | BK7: - | BL7: - | BM7: - | BN7: - | BO7: - | BP7: - | BQ7: - | BR7: - | BS7: - | BT7: - | BU7: - | BV7: - | BW7: - | BX7: - | BY7: - | BZ7: - | CA7: -
F8: 10кВ | H8: =ROUND(SQRT(I8^2+J8^2)*1000/(SQRT(3)*I11),2) -> 168.75 | I8: =I31+I21 -> 2.879456 | J8: =J31+J21 -> 0.772688 | K8: =ROUND(SQRT(L8^2+M8^2)*1000/(SQRT(3)*L11),2) -> 167.12 | L8: =L31+L21 -> 2.847832 | M8: =M31+M21 -> 0.7792 | N8: =ROUND(SQRT(O8^2+P8^2)*1000/(SQRT(3)*O11),2) -> 164.85 | O8: =O31+O21 -> 2.806904 | P8: =P31+P21 -> 0.776536 | Q8: =ROUND(SQRT(R8^2+S8^2)*1000/(SQRT(3)*R11),2) -> 164.08 | R8: =R31+R21 -> 2.793208 | S8: =S31+S21 -> 0.775512 | T8: =ROUND(SQRT(U8^2+V8^2)*1000/(SQRT(3)*U11),2) -> 164.67 | U8: =U31+U21 -> 2.805392 | V8: =V31+V21 -> 0.769936 | W8: =ROUND(SQRT(X8^2+Y8^2)*1000/(SQRT(3)*X11),2) -> 167.74 | X8: =X31+X21 -> 2.860384 | Y8: =Y31+Y21 -> 0.774648 | Z8: =ROUND(SQRT(AA8^2+AB8^2)*1000/(SQRT(3)*AA11),2) -> 173.54 | AA8: =AA31+AA21 -> 2.965296 | AB8: =AB31+AB21 -> 0.779064 | AC8: =ROUND(SQRT(AD8^2+AE8^2)*1000/(SQRT(3)*AD11),2) -> 178.91 | AD8: =AD31+AD21 -> 3.062216 | AE8: =AE31+AE21 -> 0.78352 | AF8: =ROUND(SQRT(AG8^2+AH8^2)*1000/(SQRT(3)*AG11),2) -> 183.6 | AG8: =AG31+AG21 -> 3.141016 | AH8: =AH31+AH21 -> 0.809704 | AI8: =ROUND(SQRT(AJ8^2+AK8^2)*1000/(SQRT(3)*AJ11),2) -> 184.41 | AJ8: =AJ31+AJ21 -> 3.153352 | AK8: =AK31+AK21 -> 0.818968 | AL8: =ROUND(SQRT(AM8^2+AN8^2)*1000/(SQRT(3)*AM11),2) -> 185.25 | AM8: =AM31+AM21 -> 3.159752 | AN8: =AN31+AN21 -> 0.852912 | AO8: =ROUND(SQRT(AP8^2+AQ8^2)*1000/(SQRT(3)*AP11),2) -> 184.88 | AP8: =AP31+AP21 -> 3.149048 | AQ8: =AQ31+AQ21 -> 0.86708 | AR8: =ROUND(SQRT(AS8^2+AT8^2)*1000/(SQRT(3)*AS11),2) -> 177.53 | AS8: =AS31+AS21 -> 3.044944 | AT8: =AT31+AT21 -> 0.752016 | AU8: =ROUND(SQRT(AV8^2+AW8^2)*1000/(SQRT(3)*AV11),2) -> 181.94 | AV8: =AV31+AV21 -> 3.108304 | AW8: =AW31+AW21 -> 0.818688 | AX8: =ROUND(SQRT(AY8^2+AZ8^2)*1000/(SQRT(3)*AY11),2) -> 180.2 | AY8: =AY31+AY21 -> 3.072264 | AZ8: =AZ31+AZ21 -> 0.834168 | BA8: =ROUND(SQRT(BB8^2+BC8^2)*1000/(SQRT(3)*BB11),2) -> 181.11 | BB8: =BB31+BB21 -> 3.097056 | BC8: =BC31+BC21 -> 0.80396 | BD8: =ROUND(SQRT(BE8^2+BF8^2)*1000/(SQRT(3)*BE11),2) -> 187.8 | BE8: =BE31+BE21 -> 3.206496 | BF8: =BF31+BF21 -> 0.85204 | BG8: =ROUND(SQRT(BH8^2+BI8^2)*1000/(SQRT(3)*BH11),2) -> 184.28 | BH8: =BH31+BH21 -> 3.14424 | BI8: =BI31+BI21 -> 0.844128 | BJ8: =ROUND(SQRT(BK8^2+BL8^2)*1000/(SQRT(3)*BK11),2) -> 187.67 | BK8: =BK31+BK21 -> 3.201424 | BL8: =BL31+BL21 -> 0.86256 | BM8: =ROUND(SQRT(BN8^2+BO8^2)*1000/(SQRT(3)*BN11),2) -> 180.53 | BN8: =BN31+BN21 -> 3.097424 | BO8: =BO31+BO21 -> 0.760592 | BP8: =ROUND(SQRT(BQ8^2+BR8^2)*1000/(SQRT(3)*BQ11),2) -> 179.52 | BQ8: =BQ31+BQ21 -> 3.081512 | BR8: =BR31+BR21 -> 0.750056 | BS8: =ROUND(SQRT(BT8^2+BU8^2)*1000/(SQRT(3)*BT11),2) -> 178.26 | BT8: =BT31+BT21 -> 3.059384 | BU8: =BU31+BU21 -> 0.747232 | BV8: =ROUND(SQRT(BW8^2+BX8^2)*1000/(SQRT(3)*BW11),2) -> 171.52 | BW8: =BW31+BW21 -> 2.933784 | BX8: =BX31+BX21 -> 0.758168 | BY8: =ROUND(SQRT(BZ8^2+CA8^2)*1000/(SQRT(3)*BZ11),2) -> 165.68 | BZ8: =BZ31+BZ21 -> 2.825624 | CA8: =CA31+CA21 -> 0.763696 | CB8: =SUM(BZ8,BW8,BT8,BQ8,BN8,BK8,BH8,BE8,BB8,AY8,AV8,AS8,AP8,AM8,AJ8,AG8,AD8,AA8,X8,U8,R8,O8,L8,I8) -> 72.496312 | CC8: =SUM(CA8,BX8,BU8,BR8,BO8,BL8,BI8,BF8,BC8,AZ8,AW8,AT8,AQ8,AN8,AK8,AH8,AE8,AB8,Y8,V8,S8,P8,M8,J8) -> 19.107072
H9: - | I9: - | J9: - | K9: - | L9: - | M9: - | N9: - | O9: - | P9: - | Q9: - | R9: - | S9: - | T9: - | U9: - | V9: - | W9: - | X9: - | Y9: - | Z9: - | AA9: - | AB9: - | AC9: - | AD9: - | AE9: - | AF9: - | AG9: - | AH9: - | AI9: - | AJ9: - | AK9: - | AL9: - | AM9: - | AN9: - | AO9: - | AP9: - | AQ9: - | AR9: - | AS9: - | AT9: - | AU9: - | AV9: - | AW9: - | AX9: - | AY9: - | AZ9: - | BA9: - | BB9: - | BC9: - | BD9: - | BE9: - | BF9: - | BG9: - | BH9: - | BI9: - | BJ9: - | BK9: - | BL9: - | BM9: - | BN9: - | BO9: - | BP9: - | BQ9: - | BR9: - | BS9: - | BT9: - | BU9: - | BV9: - | BW9: - | BX9: - | BY9: - | BZ9: - | CA9: -
D10: Напряж. | F10: 110кВ | I10: 114 | L10: 114 | O10: 114 | R10: 114 | U10: 114 | X10: 114 | AA10: 114 | AD10: 114 | AG10: 114 | AJ10: 114 | AM10: 114 | AP10: 114 | AS10: 114 | AV10: 114 | AY10: 114 | BB10: 114 | BE10: 114 | BH10: 114 | BK10: 114 | BN10: 114 | BQ10: 114 | BT10: 114 | BW10: 114 | BZ10: 114
F11: 10кВ | I11: 10.2 | L11: 10.2 | O11: 10.2 | R11: 10.2 | U11: 10.2 | X11: 10.2 | AA11: 10.2 | AD11: 10.2 | AG11: 10.2 | AJ11: 10.2 | AM11: 10.2 | AP11: 10.2 | AS11: 10.2 | AV11: 10.2 | AY11: 10.2 | BB11: 10.2 | BE11: 10.2 | BH11: 10.2 | BK11: 10.2 | BN11: 10.2 | BQ11: 10.2 | BT11: 10.2 | BW11: 10.2 | BZ11: 10.2
I12: - | L12: - | O12: - | R12: - | U12: - | X12: - | AA12: - | AD12: - | AG12: - | AJ12: - | AM12: - | AP12: - | AS12: - | AV12: - | AY12: - | BB12: - | BE12: - | BH12: - | BK12: - | BN12: - | BQ12: - | BT12: - | BW12: - | BZ12: -
D13: РПН | I13: 9 | L13: 9 | O13: 9 | R13: 9 | U13: 9 | X13: 9 | AA13: 9 | AD13: 9 | AG13: 9 | AJ13: 9 | AM13: 9 | AP13: 9 | AS13: 9 | AV13: 9 | AY13: 9 | BB13: 9 | BE13: 9 | BH13: 9 | BK13: 9 | BN13: 9 | BQ13: 9 | BT13: 9 | BW13: 9 | BZ13: 9
A14: 2Т | C14: 25 | D14: Нагрузка | F14: 110кВ | H14: - | I14: - | J14: - | K14: - | L14: - | M14: - | N14: - | O14: - | P14: - | Q14: - | R14: - | S14: - | T14: - | U14: - | V14: - | W14: - | X14: - | Y14: - | Z14: - | AA14: - | AB14: - | AC14: - | AD14: - | AE14: - | AF14: - | AG14: - | AH14: - | AI14: - | AJ14: - | AK14: - | AL14: - | AM14: - | AN14: - | AO14: - | AP14: - | AQ14: - | AR14: - | AS14: - | AT14: - | AU14: - | AV14: - | AW14: - | AX14: - | AY14: - | AZ14: - | BA14: - | BB14: - | BC14: - | BD14: - | BE14: - | BF14: - | BG14: - | BH14: - | BI14: - | BJ14: - | BK14: - | BL14: - | BM14: - | BN14: - | BO14: - | BP14: - | BQ14: - | BR14: - | BS14: - | BT14: - | BU14: - | BV14: - | BW14: - | BX14: - | BY14: - | BZ14: - | CA14: -
F15: 10кВ | H15: =ROUND(SQRT(I15^2+J15^2)*1000/(SQRT(3)*I18),2) -> 171 | I15: =I38+I23 -> 2.91236 | J15: =J38+J23 -> 0.68324 | K15: =ROUND(SQRT(L15^2+M15^2)*1000/(SQRT(3)*L18),2) -> 163.88 | L15: =L38+L23 -> 2.785768 | M15: =M38+M23 -> 0.677416 | N15: =ROUND(SQRT(O15^2+P15^2)*1000/(SQRT(3)*O18),2) -> 160.81 | O15: =O38+O23 -> 2.73072 | P15: =P38+P23 -> 0.675888 | Q15: =ROUND(SQRT(R15^2+S15^2)*1000/(SQRT(3)*R18),2) -> 157.52 | R15: =R38+R23 -> 2.67172 | S15: =S38+S23 -> 0.674864 | T15: =ROUND(SQRT(U15^2+V15^2)*1000/(SQRT(3)*U18),2) -> 157.76 | U15: =U38+U23 -> 2.676152 | V15: =V38+V23 -> 0.674416 | W15: =ROUND(SQRT(X15^2+Y15^2)*1000/(SQRT(3)*X18),2) -> 160.95 | X15: =X38+X23 -> 2.733744 | Y15: =Y38+Y23 -> 0.674064 | Z15: =ROUND(SQRT(AA15^2+AB15^2)*1000/(SQRT(3)*AA18),2) -> 175.79 | AA15: =AA38+AA23 -> 2.996176 | AB15: =AB38+AB23 -> 0.69284 | AC15: =ROUND(SQRT(AD15^2+AE15^2)*1000/(SQRT(3)*AD18),2) -> 189.36 | AD15: =AD38+AD23 -> 3.238352 | AE15: =AE38+AE23 -> 0.697616 | AF15: =ROUND(SQRT(AG15^2+AH15^2)*1000/(SQRT(3)*AG18),2) -> 197.69 | AG15: =AG38+AG23 -> 3.388056 | AH15: =AH38+AH23 -> 0.693264 | AI15: =ROUND(SQRT(AJ15^2+AK15^2)*1000/(SQRT(3)*AJ18),2) -> 201.85 | AJ15: =AJ38+AJ23 -> 3.460624 | AK15: =AK38+AK23 -> 0.701616 | AL15: =ROUND(SQRT(AM15^2+AN15^2)*1000/(SQRT(3)*AM18),2) -> 198.07 | AM15: =AM38+AM23 -> 3.394256 | AN15: =AN38+AN23 -> 0.696816 | AO15: =ROUND(SQRT(AP15^2+AQ15^2)*1000/(SQRT(3)*AP18),2) -> 198.67 | AP15: =AP38+AP23 -> 3.403928 | AQ15: =AQ38+AQ23 -> 0.701464 | AR15: =ROUND(SQRT(AS15^2+AT15^2)*1000/(SQRT(3)*AS18),2) -> 198.88 | AS15: =AS38+AS23 -> 3.410168 | AT15: =AT38+AT23 -> 0.689792 | AU15: =ROUND(SQRT(AV15^2+AW15^2)*1000/(SQRT(3)*AV18),2) -> 198.34 | AV15: =AV38+AV23 -> 3.39816 | AW15: =AW38+AW23 -> 0.70124 | AX15: =ROUND(SQRT(AY15^2+AZ15^2)*1000/(SQRT(3)*AY18),2) -> 197.31 | AY15: =AY38+AY23 -> 3.378632 | AZ15: =AZ38+AZ23 -> 0.70644 | BA15: =ROUND(SQRT(BB15^2+BC15^2)*1000/(SQRT(3)*BB18),2) -> 200.05 | BB15: =BB38+BB23 -> 3.427808 | BC15: =BC38+BC23 -> 0.705616 | BD15: =ROUND(SQRT(BE15^2+BF15^2)*1000/(SQRT(3)*BE18),2) -> 206.53 | BE15: =BE38+BE23 -> 3.543032 | BF15: =BF38+BF23 -> 0.70744 | BG15: =ROUND(SQRT(BH15^2+BI15^2)*1000/(SQRT(3)*BH18),2) -> 208.91 | BH15: =BH38+BH23 -> 3.586464 | BI15: =BI38+BI23 -> 0.702464 | BJ15: =ROUND(SQRT(BK15^2+BL15^2)*1000/(SQRT(3)*BK18),2) -> 209.71 | BK15: =BK38+BK23 -> 3.605088 | BL15: =BL38+BL23 -> 0.679592 | BM15: =ROUND(SQRT(BN15^2+BO15^2)*1000/(SQRT(3)*BN18),2) -> 208.9 | BN15: =BN38+BN23 -> 3.590456 | BO15: =BO38+BO23 -> 0.68064 | BP15: =ROUND(SQRT(BQ15^2+BR15^2)*1000/(SQRT(3)*BQ18),2) -> 207.36 | BQ15: =BQ38+BQ23 -> 3.562104 | BR15: =BR38+BR23 -> 0.68524 | BS15: =ROUND(SQRT(BT15^2+BU15^2)*1000/(SQRT(3)*BT18),2) -> 202.17 | BT15: =BT38+BT23 -> 3.465712 | BU15: =BU38+BU23 -> 0.705392 | BV15: =ROUND(SQRT(BW15^2+BX15^2)*1000/(SQRT(3)*BW18),2) -> 193.34 | BW15: =BW38+BW23 -> 3.306512 | BX15: =BX38+BX23 -> 0.71164 | BY15: =ROUND(SQRT(BZ15^2+CA15^2)*1000/(SQRT(3)*BZ18),2) -> 179.16 | BZ15: =BZ38+BZ23 -> 3.054808 | CA15: =CA38+CA23 -> 0.70124 | CB15: =SUM(BZ15,BW15,BT15,BQ15,BN15,BK15,BH15,BE15,BB15,AY15,AV15,AS15,AP15,AM15,AJ15,AG15,AD15,AA15,X15,U15,R15,O15,L15,I15) -> 77.7208 | CC15: =SUM(CA15,BX15,BU15,BR15,BO15,BL15,BI15,BF15,BC15,AZ15,AW15,AT15,AQ15,AN15,AK15,AH15,AE15,AB15,Y15,V15,S15,P15,M15,J15) -> 16.62024
H16: - | I16: - | J16: - | K16: - | L16: - | M16: - | N16: - | O16: - | P16: - | Q16: - | R16: - | S16: - | T16: - | U16: - | V16: - | W16: - | X16: - | Y16: - | Z16: - | AA16: - | AB16: - | AC16: - | AD16: - | AE16: - | AF16: - | AG16: - | AH16: - | AI16: - | AJ16: - | AK16: - | AL16: - | AM16: - | AN16: - | AO16: - | AP16: - | AQ16: - | AR16: - | AS16: - | AT16: - | AU16: - | AV16: - | AW16: - | AX16: - | AY16: - | AZ16: - | BA16: - | BB16: - | BC16: - | BD16: - | BE16: - | BF16: - | BG16: - | BH16: - | BI16: - | BJ16: - | BK16: - | BL16: - | BM16: - | BN16: - | BO16: - | BP16: - | BQ16: - | BR16: - | BS16: - | BT16: - | BU16: - | BV16: - | BW16: - | BX16: - | BY16: - | BZ16: - | CA16: -
D17: Напряж. | F17: 110кВ | I17: 114 | L17: 114 | O17: 114 | R17: 114 | U17: 114 | X17: 114 | AA17: 114 | AD17: 114 | AG17: 114 | AJ17: 114 | AM17: 114 | AP17: 114 | AS17: 114 | AV17: 114 | AY17: 114 | BB17: 114 | BE17: 114 | BH17: 114 | BK17: 114 | BN17: 114 | BQ17: 114 | BT17: 114 | BW17: 114 | BZ17: 114
F18: 10кВ | I18: 10.1 | L18: 10.1 | O18: 10.1 | R18: 10.1 | U18: 10.1 | X18: 10.1 | AA18: 10.1 | AD18: 10.1 | AG18: 10.1 | AJ18: 10.1 | AM18: 10.1 | AP18: 10.1 | AS18: 10.1 | AV18: 10.1 | AY18: 10.1 | BB18: 10.1 | BE18: 10.1 | BH18: 10.1 | BK18: 10.1 | BN18: 10.1 | BQ18: 10.1 | BT18: 10.1 | BW18: 10.1 | BZ18: 10.1
I19: - | L19: - | O19: - | R19: - | U19: - | X19: - | AA19: - | AD19: - | AG19: - | AJ19: - | AM19: - | AP19: - | AS19: - | AV19: - | AY19: - | BB19: - | BE19: - | BH19: - | BK19: - | BN19: - | BQ19: - | BT19: - | BW19: - | BZ19: -
D20: РПН | I20: 9 | L20: 9 | O20: 9 | R20: 9 | U20: 9 | X20: 9 | AA20: 9 | AD20: 9 | AG20: 9 | AJ20: 9 | AM20: 9 | AP20: 9 | AS20: 9 | AV20: 9 | AY20: 9 | BB20: 9 | BE20: 9 | BH20: 9 | BK20: 9 | BN20: 9 | BQ20: 9 | BT20: 9 | BW20: 9 | BZ20: 9
A21: ТСН-1 | C21: 0.25 | D21: Нагрузка | H21: =ROUND(SQRT(I21^2+J21^2)*1000/(SQRT(3)*I22),2) -> 5.5 | I21: 0.003456 | J21: =-1*-0.001488 -> 0.001488 | K21: =ROUND(SQRT(L21^2+M21^2)*1000/(SQRT(3)*L22),2) -> 4.5 | L21: 0.002832 | M21: =-1*-0.0012 -> 0.0012 | N21: =ROUND(SQRT(O21^2+P21^2)*1000/(SQRT(3)*O22),2) -> 3.63 | O21: 0.002304 | P21: =-1*-0.000936 -> 0.000936 | Q21: =ROUND(SQRT(R21^2+S21^2)*1000/(SQRT(3)*R22),2) -> 7.41 | R21: 0.004608 | S21: =-1*-0.002112 -> 0.002112 | T21: =ROUND(SQRT(U21^2+V21^2)*1000/(SQRT(3)*U22),2) -> 4.03 | U21: 0.002592 | V21: =-1*-0.000936 -> 0.000936 | W21: =ROUND(SQRT(X21^2+Y21^2)*1000/(SQRT(3)*X22),2) -> 3.33 | X21: 0.002184 | Y21: =-1*-0.000648 -> 0.000648 | Z21: =ROUND(SQRT(AA21^2+AB21^2)*1000/(SQRT(3)*AA22),2) -> 3.86 | AA21: 0.002496 | AB21: =-1*-0.000864 -> 0.000864 | AC21: =ROUND(SQRT(AD21^2+AE21^2)*1000/(SQRT(3)*AD22),2) -> 5.08 | AD21: 0.003216 | AE21: =-1*-0.00132 -> 0.00132 | AF21: =ROUND(SQRT(AG21^2+AH21^2)*1000/(SQRT(3)*AG22),2) -> 6.11 | AG21: 0.003816 | AH21: =-1*-0.001704 -> 0.001704 | AI21: =ROUND(SQRT(AJ21^2+AK21^2)*1000/(SQRT(3)*AJ22),2) -> 3.62 | AJ21: 0.002352 | AK21: =-1*-0.000768 -> 0.000768 | AL21: =ROUND(SQRT(AM21^2+AN21^2)*1000/(SQRT(3)*AM22),2) -> 5.64 | AM21: 0.003552 | AN21: =-1*-0.001512 -> 0.001512 | AO21: =ROUND(SQRT(AP21^2+AQ21^2)*1000/(SQRT(3)*AP22),2) -> 4.73 | AP21: 0.003048 | AQ21: =-1*-0.00108 -> 0.00108 | AR21: =ROUND(SQRT(AS21^2+AT21^2)*1000/(SQRT(3)*AS22),2) -> 3.91 | AS21: 0.002544 | AT21: =-1*-0.000816 -> 0.000816 | AU21: =ROUND(SQRT(AV21^2+AW21^2)*1000/(SQRT(3)*AV22),2) -> 5.56 | AV21: 0.003504 | AW21: =-1*-0.001488 -> 0.001488 | AX21: =ROUND(SQRT(AY21^2+AZ21^2)*1000/(SQRT(3)*AY22),2) -> 5.17 | AY21: 0.003264 | AZ21: =-1*-0.001368 -> 0.001368 | BA21: =ROUND(SQRT(BB21^2+BC21^2)*1000/(SQRT(3)*BB22),2) -> 4.4 | BB21: 0.002856 | BC21: =-1*-0.00096 -> 0.00096 | BD21: =ROUND(SQRT(BE21^2+BF21^2)*1000/(SQRT(3)*BE22),2) -> 3.85 | BE21: 0.002496 | BF21: =-1*-0.00084 -> 0.00084 | BG21: =ROUND(SQRT(BH21^2+BI21^2)*1000/(SQRT(3)*BH22),2) -> 6.15 | BH21: 0.00384 | BI21: =-1*-0.001728 -> 0.001728 | BJ21: =ROUND(SQRT(BK21^2+BL21^2)*1000/(SQRT(3)*BK22),2) -> 3.81 | BK21: 0.002424 | BL21: =-1*-0.00096 -> 0.00096 | BM21: =ROUND(SQRT(BN21^2+BO21^2)*1000/(SQRT(3)*BN22),2) -> 3.73 | BN21: 0.002424 | BO21: =-1*-0.000792 -> 0.000792 | BP21: =ROUND(SQRT(BQ21^2+BR21^2)*1000/(SQRT(3)*BQ22),2) -> 6.21 | BQ21: 0.003912 | BR21: =-1*-0.001656 -> 0.001656 | BS21: =ROUND(SQRT(BT21^2+BU21^2)*1000/(SQRT(3)*BT22),2) -> 4.34 | BT21: 0.002784 | BU21: =-1*-0.001032 -> 0.001032 | BV21: =ROUND(SQRT(BW21^2+BX21^2)*1000/(SQRT(3)*BW22),2) -> 3.38 | BW21: 0.002184 | BX21: =-1*-0.000768 -> 0.000768 | BY21: =ROUND(SQRT(BZ21^2+CA21^2)*1000/(SQRT(3)*BZ22),2) -> 4.81 | BZ21: 0.003024 | CA21: =-1*-0.001296 -> 0.001296 | CB21: =SUM(BZ21,BW21,BT21,BQ21,BN21,BK21,BH21,BE21,BB21,AY21,AV21,AS21,AP21,AM21,AJ21,AG21,AD21,AA21,X21,U21,R21,O21,L21,I21) -> 0.071712 | CC21: =SUM(CA21,BX21,BU21,BR21,BO21,BL21,BI21,BF21,BC21,AZ21,AW21,AT21,AQ21,AN21,AK21,AH21,AE21,AB21,Y21,V21,S21,P21,M21,J21) -> 0.028272
D22: Напряж. | I22: 0.395 | L22: 0.395 | O22: 0.395 | R22: 0.395 | U22: 0.395 | X22: 0.395 | AA22: 0.395 | AD22: 0.395 | AG22: 0.395 | AJ22: 0.395 | AM22: 0.395 | AP22: 0.395 | AS22: 0.395 | AV22: 0.395 | AY22: 0.395 | BB22: 0.395 | BE22: 0.395 | BH22: 0.395 | BK22: 0.395 | BN22: 0.395 | BQ22: 0.395 | BT22: 0.395 | BW22: 0.395 | BZ22: 0.395
A23: ТСН-2 | C23: 0.25 | D23: Нагрузка | H23: =ROUND(SQRT(I23^2+J23^2)*1000/(SQRT(3)*I24),2) -> 17.41 | I23: 0.01176 | J23: =-1*-0.00024 -> 0.00024 | K23: =ROUND(SQRT(L23^2+M23^2)*1000/(SQRT(3)*L24),2) -> 16.24 | L23: 0.010968 | M23: =-1*-0.000216 -> 0.000216 | N23: =ROUND(SQRT(O23^2+P23^2)*1000/(SQRT(3)*O24),2) -> 27.72 | O23: 0.01872 | P23: =-1*-0.000288 -> 0.000288 | Q23: =ROUND(SQRT(R23^2+S23^2)*1000/(SQRT(3)*R24),2) -> 20.61 | R23: 0.01392 | S23: =-1*-0.000264 -> 0.000264 | T23: =ROUND(SQRT(U23^2+V23^2)*1000/(SQRT(3)*U24),2) -> 12.37 | U23: 0.008352 | V23: =-1*-0.000216 -> 0.000216 | W23: =ROUND(SQRT(X23^2+Y23^2)*1000/(SQRT(3)*X24),2) -> 27.75 | X23: 0.018744 | Y23: =-1*-0.000264 -> 0.000264 | Z23: =ROUND(SQRT(AA23^2+AB23^2)*1000/(SQRT(3)*AA24),2) -> 18.62 | AA23: 0.012576 | AB23: =-1*-0.00024 -> 0.00024 | AC23: =ROUND(SQRT(AD23^2+AE23^2)*1000/(SQRT(3)*AD24),2) -> 12.37 | AD23: 0.008352 | AE23: =-1*-0.000216 -> 0.000216 | AF23: =ROUND(SQRT(AG23^2+AH23^2)*1000/(SQRT(3)*AG24),2) -> 27.32 | AG23: 0.018456 | AH23: =-1*-0.000264 -> 0.000264 | AI23: =ROUND(SQRT(AJ23^2+AK23^2)*1000/(SQRT(3)*AJ24),2) -> 16.03 | AJ23: 0.010824 | AK23: =-1*-0.000216 -> 0.000216 | AL23: =ROUND(SQRT(AM23^2+AN23^2)*1000/(SQRT(3)*AM24),2) -> 12.23 | AM23: 0.008256 | AN23: =-1*-0.000216 -> 0.000216 | AO23: =ROUND(SQRT(AP23^2+AQ23^2)*1000/(SQRT(3)*AP24),2) -> 27.43 | AP23: 0.018528 | AQ23: =-1*-0.000264 -> 0.000264 | AR23: =ROUND(SQRT(AS23^2+AT23^2)*1000/(SQRT(3)*AS24),2) -> 12.69 | AS23: 0.008568 | AT23: =-1*-0.000192 -> 0.000192 | AU23: =ROUND(SQRT(AV23^2+AW23^2)*1000/(SQRT(3)*AV24),2) -> 13.86 | AV23: 0.00936 | AW23: =-1*-0.00024 -> 0.00024 | AX23: =ROUND(SQRT(AY23^2+AZ23^2)*1000/(SQRT(3)*AY24),2) -> 27.29 | AY23: 0.018432 | AZ23: =-1*-0.00024 -> 0.00024 | BA23: =ROUND(SQRT(BB23^2+BC23^2)*1000/(SQRT(3)*BB24),2) -> 10.38 | BB23: 0.007008 | BC23: =-1*-0.000216 -> 0.000216 | BD23: =ROUND(SQRT(BE23^2+BF23^2)*1000/(SQRT(3)*BE24),2) -> 16.63 | BE23: 0.011232 | BF23: =-1*-0.00024 -> 0.00024 | BG23: =ROUND(SQRT(BH23^2+BI23^2)*1000/(SQRT(3)*BH24),2) -> 27.04 | BH23: 0.018264 | BI23: =-1*-0.000264 -> 0.000264 | BJ23: =ROUND(SQRT(BK23^2+BL23^2)*1000/(SQRT(3)*BK24),2) -> 7.54 | BK23: 0.005088 | BL23: =-1*-0.000192 -> 0.000192 | BM23: =ROUND(SQRT(BN23^2+BO23^2)*1000/(SQRT(3)*BN24),2) -> 18.44 | BN23: 0.012456 | BO23: =-1*-0.00024 -> 0.00024 | BP23: =ROUND(SQRT(BQ23^2+BR23^2)*1000/(SQRT(3)*BQ24),2) -> 23.84 | BQ23: 0.016104 | BR23: =-1*-0.00024 -> 0.00024 | BS23: =ROUND(SQRT(BT23^2+BU23^2)*1000/(SQRT(3)*BT24),2) -> 7.57 | BT23: 0.005112 | BU23: =-1*-0.000192 -> 0.000192 | BV23: =ROUND(SQRT(BW23^2+BX23^2)*1000/(SQRT(3)*BW24),2) -> 21.78 | BW23: 0.014712 | BX23: =-1*-0.00024 -> 0.00024 | BY23: =ROUND(SQRT(BZ23^2+CA23^2)*1000/(SQRT(3)*BZ24),2) -> 21.04 | BZ23: 0.014208 | CA23: =-1*-0.00024 -> 0.00024 | CB23: =SUM(BZ23,BW23,BT23,BQ23,BN23,BK23,BH23,BE23,BB23,AY23,AV23,AS23,AP23,AM23,AJ23,AG23,AD23,AA23,X23,U23,R23,O23,L23,I23) -> 0.3 | CC23: =SUM(CA23,BX23,BU23,BR23,BO23,BL23,BI23,BF23,BC23,AZ23,AW23,AT23,AQ23,AN23,AK23,AH23,AE23,AB23,Y23,V23,S23,P23,M23,J23) -> 0.00564
D24: Напряж. | I24: 0.39 | L24: 0.39 | O24: 0.39 | R24: 0.39 | U24: 0.39 | X24: 0.39 | AA24: 0.39 | AD24: 0.39 | AG24: 0.39 | AJ24: 0.39 | AM24: 0.39 | AP24: 0.39 | AS24: 0.39 | AV24: 0.39 | AY24: 0.39 | BB24: 0.39 | BE24: 0.39 | BH24: 0.39 | BK24: 0.39 | BN24: 0.39 | BQ24: 0.39 | BT24: 0.39 | BW24: 0.39 | BZ24: 0.39
A25: Итого | D25: 110кВ | H25: - | I25: - | J25: - | K25: - | L25: - | M25: - | N25: - | O25: - | P25: - | Q25: - | R25: - | S25: - | T25: - | U25: - | V25: - | W25: - | X25: - | Y25: - | Z25: - | AA25: - | AB25: - | AC25: - | AD25: - | AE25: - | AF25: - | AG25: - | AH25: - | AI25: - | AJ25: - | AK25: - | AL25: - | AM25: - | AN25: - | AO25: - | AP25: - | AQ25: - | AR25: - | AS25: - | AT25: - | AU25: - | AV25: - | AW25: - | AX25: - | AY25: - | AZ25: - | BA25: - | BB25: - | BC25: - | BD25: - | BE25: - | BF25: - | BG25: - | BH25: - | BI25: - | BJ25: - | BK25: - | BL25: - | BM25: - | BN25: - | BO25: - | BP25: - | BQ25: - | BR25: - | BS25: - | BT25: - | BU25: - | BV25: - | BW25: - | BX25: - | BY25: - | BZ25: - | CA25: -
D26: 10кВ | H26: =SUM(H8:H9,H15:H16) -> 339.75 | I26: =SUM(I8:I9,I15:I16) -> 5.791816 | J26: =SUM(J8:J9,J15:J16) -> 1.455928 | K26: =SUM(K8:K9,K15:K16) -> 331 | L26: =SUM(L8:L9,L15:L16) -> 5.6336 | M26: =SUM(M8:M9,M15:M16) -> 1.456616 | N26: =SUM(N8:N9,N15:N16) -> 325.66 | O26: =SUM(O8:O9,O15:O16) -> 5.537624 | ... CA26: =SUM(CA8:CA9,CA15:CA16) -> 1.464936
A27: 1Т | B27: cosФ1= | C27: =(I8+L8+O8+R8+U8+X8+AA8+AD8+AG8+AJ8+AM8+AP8+AS8+AV8+AY8+BB8+BE8+BH8+BK8+BN8+BQ8+BT8+BW8+BZ8)/SQRT((I8+L8+O8+R8+U8+X8+AA8+AD8+AG8+AJ8+AM8+AP8+AS8+AV8+AY8+BB8+BE8+BH8+BK8+BN8+BQ8+BT8+BW8+BZ8)^2+(J8+M8+P8+S8+V8+Y8+AB8+AE8+AH8+AK8+AN8+AQ8+AT8+AW8+BC8+AZ8+BF8+BI8+BL8+BO8+BR8+BU8+BX8+CA8)^2) -> 0.96697896 | D27: tgФ1= | E27: =(J8+M8+P8+S8+V8+Y8+AB8+AE8+AH8+AK8+AN8+AQ8+AT8+AW8+BC8+AZ8+BF8+BI8+BL8+BO8+BR8+BU8+BX8+CA8)/(I8+L8+O8+R8+U8+X8+AA8+AD8+AG8+AJ8+AM8+AP8+AS8+AV8+AY8+BB8+BE8+BH8+BK8+BN8+BQ8+BT8+BW8+BZ8) -> 0.26355923
A28: 2Т | B28: cosФ2= | C28: =(I15+L15+O15+R15+U15+X15+AA15+AD15+AG15+AJ15+AM15+AP15+AS15+AV15+AY15+BB15+BE15+BH15+BK15+BN15+BQ15+BT15+BW15+BZ15)/SQRT((I15+L15+O15+R15+U15+X15+AA15+AD15+AG15+AJ15+AM15+AP15+AS15+AV15+AY15+BB15+BE15+BH15+BK15+BN15+BQ15+BT15+BW15+BZ15)^2+(J15+M15+P15+S15+V15+Y15+AB15+AE15+AH15+AK15+AN15+AQ15+AT15+AW15+BC15+AZ15+BF15+BI15+BL15+BO15+BR15+BU15+BX15+CA15)^2) -> 0.97789053 | D28: tgФ2= | E28: =(J15+M15+P15+S15+V15+Y15+AB15+AE15+AH15+AK15+AN15+AQ15+AT15+AW15+BC15+AZ15+BF15+BI15+BL15+BO15+BR15+BU15+BX15+CA15)/(I15+L15+O15+R15+U15+X15+AA15+AD15+AG15+AJ15+AM15+AP15+AS15+AV15+AY15+BB15+BE15+BH15+BK15+BN15+BQ15+BT15+BW15+BZ15) -> 0.21384546
A29: Замер по | D29: Уст.ЧАПВ | F29: Уст.АЧР | H29: Ток | I29: Pнагр. | J29: Qнагр. | K29: Ток | L29: Pнагр. | M29: Qнагр. | N29: Ток | O29: Pнагр. | P29: Qнагр. | Q29: Ток | R29: Pнагр. | S29: Qнагр. | T29: Ток | U29: Pнагр. | V29: Qнагр. | W29: Ток | X29: Pнагр. | Y29: Qнагр. | Z29: Ток | AA29: Pнагр. | AB29: Qнагр. | AC29: Ток | AD29: Pнагр. | AE29: Qнагр. | AF29: Ток | AG29: Pнагр. | AH29: Qнагр. | AI29: Ток | AJ29: Pнагр. | AK29: Qнагр. | AL29: Ток | AM29: Pнагр. | AN29: Qнагр. | AO29: Ток | AP29: Pнагр. | AQ29: Qнагр. | AR29: Ток | AS29: Pнагр. | AT29: Qнагр. | AU29: Ток | AV29: Pнагр. | AW29: Qнагр. | AX29: Ток | AY29: Pнагр. | AZ29: Qнагр. | BA29: Ток | BB29: Pнагр. | BC29: Qнагр. | BD29: Ток | BE29: Pнагр. | BF29: Qнагр. | BG29: Ток | BH29: Pнагр. | BI29: Qнагр. | BJ29: Ток | BK29: Pнагр. | BL29: Qнагр. | BM29: Ток | BN29: Pнагр. | BO29: Qнагр. | BP29: Ток | BQ29: Pнагр. | BR29: Qнагр. | BS29: Ток | BT29: Pнагр. | BU29: Qнагр. | BV29: Ток | BW29: Pнагр. | BX29: Qнагр. | BY29: Ток | BZ29: Pнагр. | CA29: Qнагр.
A30: ВЛ-10кВ | D30: герц | E30: сек | F30: герц | G30: сек | H30: А | I30: МВт | J30: Мвар | K30: А | L30: МВт | M30: Мвар | N30: А | O30: МВт | P30: Мвар | Q30: А | R30: МВт | S30: Мвар | T30: А | U30: МВт | V30: Мвар | W30: А | X30: МВт | Y30: Мвар | Z30: А | AA30: МВт | AB30: Мвар | AC30: А | AD30: МВт | AE30: Мвар | AF30: А | AG30: МВт | AH30: Мвар | AI30: А | AJ30: МВт | AK30: Мвар | AL30: А | AM30: МВт | AN30: Мвар | AO30: А | AP30: МВт | AQ30: Мвар | AR30: А | AS30: МВт | AT30: Мвар | AU30: А | AV30: МВт | AW30: Мвар | AX30: А | AY30: МВт | AZ30: Мвар | BA30: А | BB30: МВт | BC30: Мвар | BD30: А | BE30: МВт | BF30: Мвар | BG30: А | BH30: МВт | BI30: Мвар | BJ30: А | BK30: МВт | BL30: Мвар | BM30: А | BN30: МВт | BO30: Мвар | BP30: А | BQ30: МВт | BR30: Мвар | BS30: А | BT30: МВт | BU30: Мвар | BV30: А | BW30: МВт | BX30: Мвар | BY30: А | BZ30: МВт | CA30: Мвар
A31: 1С-10 | H31: =H34+H35+H36+H37+H32+H33 -> 169.33 | I31: =I34+I35+I36+I37+I32+I33 -> 2.876 | J31: =J34+J35+J36+J37+J32+J33 -> 0.7712 | K31: =K34+K35+K36+K37+K32+K33 -> 167.73 | L31: =L34+L35+L36+L37+L32+L33 -> 2.845 | M31: =M34+M35+M36+M37+M32+M33 -> 0.778 | N31: =N34+N35+N36+N37+N32+N33 -> 165.46 | O31: =O34+O35+O36+O37+O32+O33 -> 2.8046 | ... CA31: =CA34+CA35+CA36+CA37+CA32+CA33 -> 0.7624
A32: 1 Секция Шин . РУ-10кВ яч.№3 ф."Поселок-1" | H32: =ROUND(SQRT(I32^2+J32^2)*1000/(SQRT(3)*I11),2) -> 53.33 | I32: 0.9152 | J32: 0.224 | K32: =ROUND(SQRT(L32^2+M32^2)*1000/(SQRT(3)*L11),2) -> 52.65 | L32: 0.9024 | M32: 0.2256 | N32: =ROUND(SQRT(O32^2+P32^2)*1000/(SQRT(3)*O11),2) -> 51.82 | O32: 0.8864 | P32: 0.2288 | Q32: =ROUND(SQRT(R32^2+S32^2)*1000/(SQRT(3)*R11),2) -> 50.72 | R32: 0.8672 | S32: 0.2256 | T32: =ROUND(SQRT(U32^2+V32^2)*1000/(SQRT(3)*U11),2) -> 51.75 | U32: 0.8864 | V32: 0.224 | W32: =ROUND(SQRT(X32^2+Y32^2)*1000/(SQRT(3)*X11),2) -> 52.3 | X32: 0.896 | Y32: 0.2256 | Z32: =ROUND(SQRT(AA32^2+AB32^2)*1000/(SQRT(3)*AA11),2) -> 55.75 | AA32: 0.9584 | AB32: 0.2272 | AC32: =ROUND(SQRT(AD32^2+AE32^2)*1000/(SQRT(3)*AD11),2) -> 60.65 | AD32: 1.0464 | AE32: 0.2304 | AF32: =ROUND(SQRT(AG32^2+AH32^2)*1000/(SQRT(3)*AG11),2) -> 63.91 | AG32: 1.1008 | AH32: 0.2512 | AI32: =ROUND(SQRT(AJ32^2+AK32^2)*1000/(SQRT(3)*AJ11),2) -> 62.35 | AJ32: 1.0768 | AK32: 0.232 | AL32: =ROUND(SQRT(AM32^2+AN32^2)*1000/(SQRT(3)*AM11),2) -> 63.61 | AM32: 1.0992 | AN32: 0.2336 | AO32: =ROUND(SQRT(AP32^2+AQ32^2)*1000/(SQRT(3)*AP11),2) -> 65.37 | AP32: 1.12 | AQ32: 0.2816 | AR32: =ROUND(SQRT(AS32^2+AT32^2)*1000/(SQRT(3)*AS11),2) -> 61.37 | AS32: 1.0624 | AT32: 0.216 | AU32: =ROUND(SQRT(AV32^2+AW32^2)*1000/(SQRT(3)*AV11),2) -> 64.07 | AV32: 1.104 | AW32: 0.2496 | AX32: =ROUND(SQRT(AY32^2+AZ32^2)*1000/(SQRT(3)*AY11),2) -> 62.36 | AY32: 1.072 | AZ32: 0.2544 | BA32: =ROUND(SQRT(BB32^2+BC32^2)*1000/(SQRT(3)*BB11),2) -> 61.97 | BB32: 1.072 | BC32: 0.2224 | BD32: =ROUND(SQRT(BE32^2+BF32^2)*1000/(SQRT(3)*BE11),2) -> 64.89 | BE32: 1.1136 | BF32: 0.272 | BG32: =ROUND(SQRT(BH32^2+BI32^2)*1000/(SQRT(3)*BH11),2) -> 65.6 | BH32: 1.1152 | BI32: 0.3152 | BJ32: =ROUND(SQRT(BK32^2+BL32^2)*1000/(SQRT(3)*BK11),2) -> 66.79 | BK32: 1.1376 | BL32: 0.3136 | BM32: =ROUND(SQRT(BN32^2+BO32^2)*1000/(SQRT(3)*BN11),2) -> 61.49 | BN32: 1.0624 | BO32: 0.2272 | BP32: =ROUND(SQRT(BQ32^2+BR32^2)*1000/(SQRT(3)*BQ11),2) -> 59.74 | BQ32: 1.032 | BR32: 0.2208 | BS32: =ROUND(SQRT(BT32^2+BU32^2)*1000/(SQRT(3)*BT11),2) -> 60.18 | BT32: 1.04 | BU32: 0.2208 | BV32: =ROUND(SQRT(BW32^2+BX32^2)*1000/(SQRT(3)*BW11),2) -> 56.88 | BW32: 0.9792 | BX32: 0.2256 | BY32: =ROUND(SQRT(BZ32^2+CA32^2)*1000/(SQRT(3)*BZ11),2) -> 53.82 | BZ32: 0.9232 | CA32: 0.2272 | CB32: =SUM(BZ32,BW32,BT32,BQ32,BN32,BK32,BH32,BE32,BB32,AY32,AV32,AS32,AP32,AM32,AJ32,AG32,AD32,AA32,X32,U32,R32,O32,L32,I32) -> 24.4688 | CC32: =SUM(CA32,BX32,BU32,BR32,BO32,BL32,BI32,BF32,BC32,AZ32,AW32,AT32,AQ32,AN32,AK32,AH32,AE32,AB32,Y32,V32,S32,P32,M32,J32) -> 5.7744
A33: 1 Секция Шин . РУ-10кВ яч.№5 ф."Поселок-3" | H33: =ROUND(SQRT(I33^2+J33^2)*1000/(SQRT(3)*I11),2) -> 42.47 | I33: 0.729 | J33: 0.1776 | K33: =ROUND(SQRT(L33^2+M33^2)*1000/(SQRT(3)*L11),2) -> 41.25 | L33: 0.7068 | M33: 0.1776 | N33: =ROUND(SQRT(O33^2+P33^2)*1000/(SQRT(3)*O11),2) -> 40.29 | O33: 0.69 | P33: 0.1746 | Q33: =ROUND(SQRT(R33^2+S33^2)*1000/(SQRT(3)*R11),2) -> 40.3 | R33: 0.6906 | S33: 0.1734 | T33: =ROUND(SQRT(U33^2+V33^2)*1000/(SQRT(3)*U11),2) -> 40.84 | U33: 0.7002 | V33: 0.174 | W33: =ROUND(SQRT(X33^2+Y33^2)*1000/(SQRT(3)*X11),2) -> 42.41 | X33: 0.7284 | Y33: 0.1758 | Z33: =ROUND(SQRT(AA33^2+AB33^2)*1000/(SQRT(3)*AA11),2) -> 44.3 | AA33: 0.762 | AB33: 0.1782 | AC33: =ROUND(SQRT(AD33^2+AE33^2)*1000/(SQRT(3)*AD11),2) -> 44.51 | AD33: 0.7662 | AE33: 0.177 | AF33: =ROUND(SQRT(AG33^2+AH33^2)*1000/(SQRT(3)*AG11),2) -> 44.74 | AG33: 0.7704 | AH33: 0.1764 | AI33: =ROUND(SQRT(AJ33^2+AK33^2)*1000/(SQRT(3)*AJ11),2) -> 46.32 | AJ33: 0.798 | AK33: 0.1812 | AL33: =ROUND(SQRT(AM33^2+AN33^2)*1000/(SQRT(3)*AM11),2) -> 47.65 | AM33: 0.813 | AN33: 0.2184 | AO33: =ROUND(SQRT(AP33^2+AQ33^2)*1000/(SQRT(3)*AP11),2) -> 47.06 | AP33: 0.8034 | AQ33: 0.2142 | AR33: =ROUND(SQRT(AS33^2+AT33^2)*1000/(SQRT(3)*AS11),2) -> 44.96 | AS33: 0.7764 | AT33: 0.168 | AU33: =ROUND(SQRT(AV33^2+AW33^2)*1000/(SQRT(3)*AV11),2) -> 44.43 | AV33: 0.7638 | AW33: 0.1806 | AX33: =ROUND(SQRT(AY33^2+AZ33^2)*1000/(SQRT(3)*AY11),2) -> 45.2 | AY33: 0.7722 | AZ33: 0.2034 | BA33: =ROUND(SQRT(BB33^2+BC33^2)*1000/(SQRT(3)*BB11),2) -> 46.11 | BB33: 0.7902 | BC33: 0.198 | BD33: =ROUND(SQRT(BE33^2+BF33^2)*1000/(SQRT(3)*BE11),2) -> 47.36 | BE33: 0.8148 | BF33: 0.1902 | BG33: =ROUND(SQRT(BH33^2+BI33^2)*1000/(SQRT(3)*BH11),2) -> 47.6 | BH33: 0.822 | BI33: 0.1776 | BJ33: =ROUND(SQRT(BK33^2+BL33^2)*1000/(SQRT(3)*BK11),2) -> 48.49 | BK33: 0.8376 | BL33: 0.1794 | BM33: =ROUND(SQRT(BN33^2+BO33^2)*1000/(SQRT(3)*BN11),2) -> 48.28 | BN33: 0.8346 | BO33: 0.1758 | BP33: =ROUND(SQRT(BQ33^2+BR33^2)*1000/(SQRT(3)*BQ11),2) -> 49.04 | BQ33: 0.8484 | BR33: 0.1752 | BS33: =ROUND(SQRT(BT33^2+BU33^2)*1000/(SQRT(3)*BT11),2) -> 47.66 | BT33: 0.8232 | BU33: 0.177 | BV33: =ROUND(SQRT(BW33^2+BX33^2)*1000/(SQRT(3)*BW11),2) -> 44.49 | BW33: 0.7656 | BX33: 0.1776 | BY33: =ROUND(SQRT(BZ33^2+CA33^2)*1000/(SQRT(3)*BZ11),2) -> 41.7 | BZ33: 0.7152 | CA33: 0.177 | CB33: =SUM(BZ33,BW33,BT33,BQ33,BN33,BK33,BH33,BE33,BB33,AY33,AV33,AS33,AP33,AM33,AJ33,AG33,AD33,AA33,X33,U33,R33,O33,L33,I33) -> 18.522 | CC33: =SUM(CA33,BX33,BU33,BR33,BO33,BL33,BI33,BF33,BC33,AZ33,AW33,AT33,AQ33,AN33,AK33,AH33,AE33,AB33,Y33,V33,S33,P33,M33,J33) -> 4.3782
A34: 1 Секция Шин . РУ-10кВ яч.№13 ф."ЦОК-1" | H34: =ROUND(SQRT(I34^2+J34^2)*1000/(SQRT(3)*I11),2) -> 8.54 | I34: 0.1268 | J34: 0.0816 | K34: =ROUND(SQRT(L34^2+M34^2)*1000/(SQRT(3)*L11),2) -> 8.5 | L34: 0.126 | M34: 0.0816 | N34: =ROUND(SQRT(O34^2+P34^2)*1000/(SQRT(3)*O11),2) -> 8.52 | O34: 0.1264 | P34: 0.0816 | Q34: =ROUND(SQRT(R34^2+S34^2)*1000/(SQRT(3)*R11),2) -> 8.52 | R34: 0.1264 | S34: 0.0816 | T34: =ROUND(SQRT(U34^2+V34^2)*1000/(SQRT(3)*U11),2) -> 8.54 | U34: 0.1268 | V34: 0.0816 | W34: =ROUND(SQRT(X34^2+Y34^2)*1000/(SQRT(3)*X11),2) -> 8.52 | X34: 0.1264 | Y34: 0.0816 | Z34: =ROUND(SQRT(AA34^2+AB34^2)*1000/(SQRT(3)*AA11),2) -> 8.52 | AA34: 0.1268 | AB34: 0.0812 | AC34: =ROUND(SQRT(AD34^2+AE34^2)*1000/(SQRT(3)*AD11),2) -> 8.47 | AD34: 0.1256 | AE34: 0.0812 | AF34: =ROUND(SQRT(AG34^2+AH34^2)*1000/(SQRT(3)*AG11),2) -> 8.42 | AG34: 0.1248 | AH34: 0.0808 | AI34: =ROUND(SQRT(AJ34^2+AK34^2)*1000/(SQRT(3)*AJ11),2) -> 9.14 | AJ34: 0.1352 | AK34: 0.0884 | AL34: =ROUND(SQRT(AM34^2+AN34^2)*1000/(SQRT(3)*AM11),2) -> 9.21 | AM34: 0.1356 | AN34: 0.09 | AO34: =ROUND(SQRT(AP34^2+AQ34^2)*1000/(SQRT(3)*AP11),2) -> 8.47 | AP34: 0.1252 | AQ34: 0.082 | AR34: =ROUND(SQRT(AS34^2+AT34^2)*1000/(SQRT(3)*AS11),2) -> 8.37 | AS34: 0.1236 | AT34: 0.0812 | AU34: =ROUND(SQRT(AV34^2+AW34^2)*1000/(SQRT(3)*AV11),2) -> 9.22 | AV34: 0.136 | AW34: 0.0896 | AX34: =ROUND(SQRT(AY34^2+AZ34^2)*1000/(SQRT(3)*AY11),2) -> 8.59 | AY34: 0.1272 | AZ34: 0.0828 | BA34: =ROUND(SQRT(BB34^2+BC34^2)*1000/(SQRT(3)*BB11),2) -> 8.35 | BB34: 0.124 | BC34: 0.08 | BD34: =ROUND(SQRT(BE34^2+BF34^2)*1000/(SQRT(3)*BE11),2) -> 8.4 | BE34: 0.1248 | BF34: 0.0804 | BG34: =ROUND(SQRT(BH34^2+BI34^2)*1000/(SQRT(3)*BH11),2) -> 8.37 | BH34: 0.1244 | BI34: 0.08 | BJ34: =ROUND(SQRT(BK34^2+BL34^2)*1000/(SQRT(3)*BK11),2) -> 8.37 | BK34: 0.1244 | BL34: 0.08 | BM34: =ROUND(SQRT(BN34^2+BO34^2)*1000/(SQRT(3)*BN11),2) -> 8.42 | BN34: 0.1252 | BO34: 0.0804 | BP34: =ROUND(SQRT(BQ34^2+BR34^2)*1000/(SQRT(3)*BQ11),2) -> 8.43 | BQ34: 0.1256 | BR34: 0.08 | BS34: =ROUND(SQRT(BT34^2+BU34^2)*1000/(SQRT(3)*BT11),2) -> 8.46 | BT34: 0.126 | BU34: 0.0804 | BV34: =ROUND(SQRT(BW34^2+BX34^2)*1000/(SQRT(3)*BW11),2) -> 8.45 | BW34: 0.1256 | BX34: 0.0808 | BY34: =ROUND(SQRT(BZ34^2+CA34^2)*1000/(SQRT(3)*BZ11),2) -> 8.48 | BZ34: 0.1256 | CA34: 0.0816 | CB34: =SUM(BZ34,BW34,BT34,BQ34,BN34,BK34,BH34,BE34,BB34,AY34,AV34,AS34,AP34,AM34,AJ34,AG34,AD34,AA34,X34,U34,R34,O34,L34,I34) -> 3.0444 | CC34: =SUM(CA34,BX34,BU34,BR34,BO34,BL34,BI34,BF34,BC34,AZ34,AW34,AT34,AQ34,AN34,AK34,AH34,AE34,AB34,Y34,V34,S34,P34,M34,J34) -> 1.9704
A35: 1 Секция Шин . РУ-10кВ яч.№15 ф."БПТОиК-1" | H35: =ROUND(SQRT(I35^2+J35^2)*1000/(SQRT(3)*I11),2) -> 12.39 | I35: 0.2184 | J35: 0.015 | K35: =ROUND(SQRT(L35^2+M35^2)*1000/(SQRT(3)*L11),2) -> 12.36 | L35: 0.2178 | M35: 0.015 | N35: =ROUND(SQRT(O35^2+P35^2)*1000/(SQRT(3)*O11),2) -> 12.43 | O35: 0.219 | P35: 0.0168 | Q35: =ROUND(SQRT(R35^2+S35^2)*1000/(SQRT(3)*R11),2) -> 12.02 | R35: 0.2118 | S35: 0.0156 | T35: =ROUND(SQRT(U35^2+V35^2)*1000/(SQRT(3)*U11),2) -> 11.99 | U35: 0.2112 | V35: 0.0168 | W35: =ROUND(SQRT(X35^2+Y35^2)*1000/(SQRT(3)*X11),2) -> 12.22 | X35: 0.2154 | Y35: 0.0144 | Z35: =ROUND(SQRT(AA35^2+AB35^2)*1000/(SQRT(3)*AA11),2) -> 12.67 | AA35: 0.2232 | AB35: 0.0168 | AC35: =ROUND(SQRT(AD35^2+AE35^2)*1000/(SQRT(3)*AD11),2) -> 13.69 | AD35: 0.2412 | AE35: 0.0186 | AF35: =ROUND(SQRT(AG35^2+AH35^2)*1000/(SQRT(3)*AG11),2) -> 15.21 | AG35: 0.2676 | AH35: 0.0246 | AI35: =ROUND(SQRT(AJ35^2+AK35^2)*1000/(SQRT(3)*AJ11),2) -> 15.84 | AJ35: 0.2772 | AK35: 0.0384 | AL35: =ROUND(SQRT(AM35^2+AN35^2)*1000/(SQRT(3)*AM11),2) -> 13.84 | AM35: 0.2424 | AN35: 0.0324 | AO35: =ROUND(SQRT(AP35^2+AQ35^2)*1000/(SQRT(3)*AP11),2) -> 12.8 | AP35: 0.2256 | AQ35: 0.0144 | AR35: =ROUND(SQRT(AS35^2+AT35^2)*1000/(SQRT(3)*AS11),2) -> 11.91 | AS35: 0.21 | AT35: 0.0138 | AU35: =ROUND(SQRT(AV35^2+AW35^2)*1000/(SQRT(3)*AV11),2) -> 12.98 | AV35: 0.2286 | AW35: 0.0192 | AX35: =ROUND(SQRT(AY35^2+AZ35^2)*1000/(SQRT(3)*AY11),2) -> 12.85 | AY35: 0.2268 | AZ35: 0.0114 | BA35: =ROUND(SQRT(BB35^2+BC35^2)*1000/(SQRT(3)*BB11),2) -> 13.96 | BB35: 0.2448 | BC35: 0.03 | BD35: =ROUND(SQRT(BE35^2+BF35^2)*1000/(SQRT(3)*BE11),2) -> 15.3 | BE35: 0.2682 | BF35: 0.0342 | BG35: =ROUND(SQRT(BH35^2+BI35^2)*1000/(SQRT(3)*BH11),2) -> 13.88 | BH35: 0.2448 | BI35: 0.015 | BJ35: =ROUND(SQRT(BK35^2+BL35^2)*1000/(SQRT(3)*BK11),2) -> 13.85 | BK35: 0.243 | BL35: 0.0282 | BM35: =ROUND(SQRT(BN35^2+BO35^2)*1000/(SQRT(3)*BN11),2) -> 12.67 | BN35: 0.2232 | BO35: 0.018 | BP35: =ROUND(SQRT(BQ35^2+BR35^2)*1000/(SQRT(3)*BQ11),2) -> 12.43 | BQ35: 0.219 | BR35: 0.0156 | BS35: =ROUND(SQRT(BT35^2+BU35^2)*1000/(SQRT(3)*BT11),2) -> 12.38 | BT35: 0.2184 | BU35: 0.0132 | BV35: =ROUND(SQRT(BW35^2+BX35^2)*1000/(SQRT(3)*BW11),2) -> 12.33 | BW35: 0.2172 | BX35: 0.0162 | BY35: =ROUND(SQRT(BZ35^2+CA35^2)*1000/(SQRT(3)*BZ11),2) -> 12.09 | BZ35: 0.213 | CA35: 0.0156 | CB35: =SUM(BZ35,BW35,BT35,BQ35,BN35,BK35,BH35,BE35,BB35,AY35,AV35,AS35,AP35,AM35,AJ35,AG35,AD35,AA35,X35,U35,R35,O35,L35,I35) -> 5.5278 | CC35: =SUM(CA35,BX35,BU35,BR35,BO35,BL35,BI35,BF35,BC35,AZ35,AW35,AT35,AQ35,AN35,AK35,AH35,AE35,AB35,Y35,V35,S35,P35,M35,J35) -> 0.4692
A36: 1 Секция Шин . РУ-10кВ яч.№17 ф."РИТЭК-1" | H36: =ROUND(SQRT(I36^2+J36^2)*1000/(SQRT(3)*I11),2) -> 43.11 | I36: 0.7216 | J36: 0.2436 | K36: =ROUND(SQRT(L36^2+M36^2)*1000/(SQRT(3)*L11),2) -> 43.72 | L36: 0.7312 | M36: 0.2488 | N36: =ROUND(SQRT(O36^2+P36^2)*1000/(SQRT(3)*O11),2) -> 43.08 | O36: 0.7208 | P36: 0.2444 | Q36: =ROUND(SQRT(R36^2+S36^2)*1000/(SQRT(3)*R11),2) -> 43.78 | R36: 0.7324 | S36: 0.2484 | T36: =ROUND(SQRT(U36^2+V36^2)*1000/(SQRT(3)*U11),2) -> 42.84 | U36: 0.7168 | V36: 0.2432 | W36: =ROUND(SQRT(X36^2+Y36^2)*1000/(SQRT(3)*X11),2) -> 43.62 | X36: 0.73 | Y36: 0.2472 | Z36: =ROUND(SQRT(AA36^2+AB36^2)*1000/(SQRT(3)*AA11),2) -> 43.37 | AA36: 0.7256 | AB36: 0.246 | AC36: =ROUND(SQRT(AD36^2+AE36^2)*1000/(SQRT(3)*AD11),2) -> 42.8 | AD36: 0.7152 | AE36: 0.2456 | AF36: =ROUND(SQRT(AG36^2+AH36^2)*1000/(SQRT(3)*AG11),2) -> 42.35 | AG36: 0.7068 | AH36: 0.2456 | AI36: =ROUND(SQRT(AJ36^2+AK36^2)*1000/(SQRT(3)*AJ11),2) -> 41.92 | AJ36: 0.6988 | AK36: 0.2452 | AL36: =ROUND(SQRT(AM36^2+AN36^2)*1000/(SQRT(3)*AM11),2) -> 41.77 | AM36: 0.6956 | AN36: 0.2464 | AO36: =ROUND(SQRT(AP36^2+AQ36^2)*1000/(SQRT(3)*AP11),2) -> 42.42 | AP36: 0.708 | AQ36: 0.2456 | AR36: =ROUND(SQRT(AS36^2+AT36^2)*1000/(SQRT(3)*AS11),2) -> 42.32 | AS36: 0.7068 | AT36: 0.244 | AU36: =ROUND(SQRT(AV36^2+AW36^2)*1000/(SQRT(3)*AV11),2) -> 42.07 | AV36: 0.702 | AW36: 0.244 | AX36: =ROUND(SQRT(AY36^2+AZ36^2)*1000/(SQRT(3)*AY11),2) -> 42 | AY36: 0.7004 | AZ36: 0.2448 | BA36: =ROUND(SQRT(BB36^2+BC36^2)*1000/(SQRT(3)*BB11),2) -> 41.73 | BB36: 0.6964 | BC36: 0.242 | BD36: =ROUND(SQRT(BE36^2+BF36^2)*1000/(SQRT(3)*BE11),2) -> 42.42 | BE36: 0.708 | BF36: 0.2456 | BG36: =ROUND(SQRT(BH36^2+BI36^2)*1000/(SQRT(3)*BH11),2) -> 40.1 | BH36: 0.6708 | BI36: 0.2276 | BJ36: =ROUND(SQRT(BK36^2+BL36^2)*1000/(SQRT(3)*BK11),2) -> 41.07 | BK36: 0.6872 | BL36: 0.2328 | BM36: =ROUND(SQRT(BN36^2+BO36^2)*1000/(SQRT(3)*BN11),2) -> 40.86 | BN36: 0.684 | BO36: 0.2308 | BP36: =ROUND(SQRT(BQ36^2+BR36^2)*1000/(SQRT(3)*BQ11),2) -> 40.9 | BQ36: 0.6852 | BR36: 0.2292 | BS36: =ROUND(SQRT(BT36^2+BU36^2)*1000/(SQRT(3)*BT11),2) -> 40.6 | BT36: 0.6804 | BU36: 0.2272 | BV36: =ROUND(SQRT(BW36^2+BX36^2)*1000/(SQRT(3)*BW11),2) -> 40.73 | BW36: 0.682 | BX36: 0.2296 | BY36: =ROUND(SQRT(BZ36^2+CA36^2)*1000/(SQRT(3)*BZ11),2) -> 40.88 | BZ36: 0.6836 | CA36: 0.2328 | CB36: =SUM(BZ36,BW36,BT36,BQ36,BN36,BK36,BH36,BE36,BB36,AY36,AV36,AS36,AP36,AM36,AJ36,AG36,AD36,AA36,X36,U36,R36,O36,L36,I36) -> 16.8896 | CC36: =SUM(CA36,BX36,BU36,BR36,BO36,BL36,BI36,BF36,BC36,AZ36,AW36,AT36,AQ36,AN36,AK36,AH36,AE36,AB36,Y36,V36,S36,P36,M36,J36) -> 5.7804
A37: 1 Секция Шин . РУ-10кВ яч.№19 ф."ПТПС" | H37: =ROUND(SQRT(I37^2+J37^2)*1000/(SQRT(3)*I11),2) -> 9.49 | I37: 0.165 | J37: 0.0294 | K37: =ROUND(SQRT(L37^2+M37^2)*1000/(SQRT(3)*L11),2) -> 9.25 | L37: 0.1608 | M37: 0.0294 | N37: =ROUND(SQRT(O37^2+P37^2)*1000/(SQRT(3)*O11),2) -> 9.32 | O37: 0.162 | P37: 0.0294 | Q37: =ROUND(SQRT(R37^2+S37^2)*1000/(SQRT(3)*R11),2) -> 9.21 | R37: 0.1602 | S37: 0.0288 | T37: =ROUND(SQRT(U37^2+V37^2)*1000/(SQRT(3)*U11),2) -> 9.29 | U37: 0.1614 | V37: 0.0294 | W37: =ROUND(SQRT(X37^2+Y37^2)*1000/(SQRT(3)*X11),2) -> 9.32 | X37: 0.162 | Y37: 0.0294 | Z37: =ROUND(SQRT(AA37^2+AB37^2)*1000/(SQRT(3)*AA11),2) -> 9.58 | AA37: 0.1668 | AB37: 0.0288 | AC37: =ROUND(SQRT(AD37^2+AE37^2)*1000/(SQRT(3)*AD11),2) -> 9.45 | AD37: 0.1644 | AE37: 0.0294 | AF37: =ROUND(SQRT(AG37^2+AH37^2)*1000/(SQRT(3)*AG11),2) -> 9.59 | AG37: 0.1668 | AH37: 0.0294 | AI37: =ROUND(SQRT(AJ37^2+AK37^2)*1000/(SQRT(3)*AJ11),2) -> 9.52 | AJ37: 0.165 | AK37: 0.033 | AL37: =ROUND(SQRT(AM37^2+AN37^2)*1000/(SQRT(3)*AM11),2) -> 9.8 | AM37: 0.1704 | AN37: 0.0306 | AO37: =ROUND(SQRT(AP37^2+AQ37^2)*1000/(SQRT(3)*AP11),2) -> 9.41 | AP37: 0.1638 | AQ37: 0.0282 | AR37: =ROUND(SQRT(AS37^2+AT37^2)*1000/(SQRT(3)*AS11),2) -> 9.37 | AS37: 0.1632 | AT37: 0.0282 | AU37: =ROUND(SQRT(AV37^2+AW37^2)*1000/(SQRT(3)*AV11),2) -> 9.84 | AV37: 0.1704 | AW37: 0.0342 | AX37: =ROUND(SQRT(AY37^2+AZ37^2)*1000/(SQRT(3)*AY11),2) -> 9.86 | AY37: 0.1704 | AZ37: 0.036 | BA37: =ROUND(SQRT(BB37^2+BC37^2)*1000/(SQRT(3)*BB11),2) -> 9.6 | BB37: 0.1668 | BC37: 0.0306 | BD37: =ROUND(SQRT(BE37^2+BF37^2)*1000/(SQRT(3)*BE11),2) -> 10.02 | BE37: 0.1746 | BF37: 0.0288 | BG37: =ROUND(SQRT(BH37^2+BI37^2)*1000/(SQRT(3)*BH11),2) -> 9.36 | BH37: 0.1632 | BI37: 0.027 | BJ37: =ROUND(SQRT(BK37^2+BL37^2)*1000/(SQRT(3)*BK11),2) -> 9.7 | BK37: 0.1692 | BL37: 0.0276 | BM37: =ROUND(SQRT(BN37^2+BO37^2)*1000/(SQRT(3)*BN11),2) -> 9.5 | BN37: 0.1656 | BO37: 0.0276 | BP37: =ROUND(SQRT(BQ37^2+BR37^2)*1000/(SQRT(3)*BQ11),2) -> 9.6 | BQ37: 0.1674 | BR37: 0.0276 | BS37: =ROUND(SQRT(BT37^2+BU37^2)*1000/(SQRT(3)*BT11),2) -> 9.67 | BT37: 0.1686 | BU37: 0.0276 | BV37: =ROUND(SQRT(BW37^2+BX37^2)*1000/(SQRT(3)*BW11),2) -> 9.3 | BW37: 0.162 | BX37: 0.0276 | BY37: =ROUND(SQRT(BZ37^2+CA37^2)*1000/(SQRT(3)*BZ11),2) -> 9.31 | BZ37: 0.162 | CA37: 0.0282 | CB37: =SUM(BZ37,BW37,BT37,BQ37,BN37,BK37,BH37,BE37,BB37,AY37,AV37,AS37,AP37,AM37,AJ37,AG37,AD37,AA37,X37,U37,R37,O37,L37,I37) -> 3.972 | CC37: =SUM(CA37,BX37,BU37,BR37,BO37,BL37,BI37,BF37,BC37,AZ37,AW37,AT37,AQ37,AN37,AK37,AH37,AE37,AB37,Y37,V37,S37,P37,M37,J37) -> 0.7062
A38: 2С-10 | H38: =H41+H42+H43+H44+H39+H40 -> 170.5 | I38: =I41+I42+I43+I44+I39+I40 -> 2.9006 | J38: =J41+J42+J43+J44+J39+J40 -> 0.683 | K38: =K41+K42+K43+K44+K39+K40 -> 163.44 | L38: =L41+L42+L43+L44+L39+L40 -> 2.7748 | M38: =M41+M42+M43+M44+M39+M40 -> 0.6772 | N38: =N41+N42+N43+N44+N39+N40 -> 159.93 | O38: =O41+O42+O43+O44+O39+O40 -> 2.712 | ... CA38: =CA41+CA42+CA43+CA44+CA39+CA40 -> 0.701
A39: 2 Секция Шин . РУ-10кВ яч.№4 ф."Поселок-2" | H39: =ROUND(SQRT(I39^2+J39^2)*1000/(SQRT(3)*I18),2) -> 97.32 | I39: 1.6496 | J39: 0.4208 | K39: =ROUND(SQRT(L39^2+M39^2)*1000/(SQRT(3)*L18),2) -> 93.78 | L39: 1.5856 | M39: 0.4208 | N39: =ROUND(SQRT(O39^2+P39^2)*1000/(SQRT(3)*O18),2) -> 91.23 | O39: 1.5408 | P39: 0.416 | Q39: =ROUND(SQRT(R39^2+S39^2)*1000/(SQRT(3)*R18),2) -> 88.85 | R39: 1.4976 | S39: 0.416 | T39: =ROUND(SQRT(U39^2+V39^2)*1000/(SQRT(3)*U18),2) -> 89.53 | U39: 1.5104 | V39: 0.4144 | W39: =ROUND(SQRT(X39^2+Y39^2)*1000/(SQRT(3)*X18),2) -> 90.54 | X39: 1.5296 | Y39: 0.4112 | Z39: =ROUND(SQRT(AA39^2+AB39^2)*1000/(SQRT(3)*AA18),2) -> 99.71 | AA39: 1.6944 | AB39: 0.4144 | AC39: =ROUND(SQRT(AD39^2+AE39^2)*1000/(SQRT(3)*AD18),2) -> 107.68 | AD39: 1.8368 | AE39: 0.4176 | AF39: =ROUND(SQRT(AG39^2+AH39^2)*1000/(SQRT(3)*AG18),2) -> 113.66 | AG39: 1.944 | AH39: 0.4176 | AI39: =ROUND(SQRT(AJ39^2+AK39^2)*1000/(SQRT(3)*AJ18),2) -> 118.12 | AJ39: 2.0224 | AK39: 0.424 | AL39: =ROUND(SQRT(AM39^2+AN39^2)*1000/(SQRT(3)*AM18),2) -> 115.45 | AM39: 1.9776 | AN39: 0.4096 | AO39: =ROUND(SQRT(AP39^2+AQ39^2)*1000/(SQRT(3)*AP18),2) -> 115.79 | AP39: 1.984 | AQ39: 0.408 | AR39: =ROUND(SQRT(AS39^2+AT39^2)*1000/(SQRT(3)*AS18),2) -> 117.47 | AS39: 2.0144 | AT39: 0.4064 | AU39: =ROUND(SQRT(AV39^2+AW39^2)*1000/(SQRT(3)*AV18),2) -> 117.04 | AV39: 2.0064 | AW39: 0.408 | AX39: =ROUND(SQRT(AY39^2+AZ39^2)*1000/(SQRT(3)*AY18),2) -> 115.16 | AY39: 1.9728 | AZ39: 0.408 | BA39: =ROUND(SQRT(BB39^2+BC39^2)*1000/(SQRT(3)*BB18),2) -> 117.38 | BB39: 2.0128 | BC39: 0.4064 | BD39: =ROUND(SQRT(BE39^2+BF39^2)*1000/(SQRT(3)*BE18),2) -> 121.92 | BE39: 2.0912 | BF39: 0.4192 | BG39: =ROUND(SQRT(BH39^2+BI39^2)*1000/(SQRT(3)*BH18),2) -> 124.32 | BH39: 2.1344 | BI39: 0.4176 | BJ39: =ROUND(SQRT(BK39^2+BL39^2)*1000/(SQRT(3)*BK18),2) -> 124.97 | BK39: 2.1472 | BL39: 0.4112 | BM39: =ROUND(SQRT(BN39^2+BO39^2)*1000/(SQRT(3)*BN18),2) -> 122.92 | BN39: 2.1104 | BO39: 0.4128 | BP39: =ROUND(SQRT(BQ39^2+BR39^2)*1000/(SQRT(3)*BQ18),2) -> 121.97 | BQ39: 2.0928 | BR39: 0.416 | BS39: =ROUND(SQRT(BT39^2+BU39^2)*1000/(SQRT(3)*BT18),2) -> 118.21 | BT39: 2.0256 | BU39: 0.416 | BV39: =ROUND(SQRT(BW39^2+BX39^2)*1000/(SQRT(3)*BW18),2) -> 112.44 | BW39: 1.92 | BX39: 0.4272 | BY39: =ROUND(SQRT(BZ39^2+CA39^2)*1000/(SQRT(3)*BZ18),2) -> 103.22 | BZ39: 1.7568 | CA39: 0.4176 | CB39: =SUM(BZ39,BW39,BT39,BQ39,BN39,BK39,BH39,BE39,BB39,AY39,AV39,AS39,AP39,AM39,AJ39,AG39,AD39,AA39,X39,U39,R39,O39,L39,I39) -> 45.0576 | CC39: =SUM(CA39,BX39,BU39,BR39,BO39,BL39,BI39,BF39,BC39,AZ39,AW39,AT39,AQ39,AN39,AK39,AH39,AE39,AB39,Y39,V39,S39,P39,M39,J39) -> 9.9568
A40: 2 Секция Шин . РУ-10кВ яч.№6 ф."Поселок-4" | H40: =ROUND(SQRT(I40^2+J40^2)*1000/(SQRT(3)*I18),2) -> 43.03 | I40: 0.738 | J40: 0.1482 | K40: =ROUND(SQRT(L40^2+M40^2)*1000/(SQRT(3)*L18),2) -> 41.39 | L40: 0.7092 | M40: 0.1458 | N40: =ROUND(SQRT(O40^2+P40^2)*1000/(SQRT(3)*O18),2) -> 41.21 | O40: 0.7056 | P40: 0.1476 | Q40: =ROUND(SQRT(R40^2+S40^2)*1000/(SQRT(3)*R18),2) -> 40.73 | R40: 0.6972 | S40: 0.147 | T40: =ROUND(SQRT(U40^2+V40^2)*1000/(SQRT(3)*U18),2) -> 41.26 | U40: 0.7062 | V40: 0.1488 | W40: =ROUND(SQRT(X40^2+Y40^2)*1000/(SQRT(3)*X18),2) -> 42.51 | X40: 0.7284 | Y40: 0.15 | Z40: =ROUND(SQRT(AA40^2+AB40^2)*1000/(SQRT(3)*AA18),2) -> 45.78 | AA40: 0.783 | AB40: 0.168 | AC40: =ROUND(SQRT(AD40^2+AE40^2)*1000/(SQRT(3)*AD18),2) -> 48.04 | AD40: 0.8238 | AE40: 0.1662 | AF40: =ROUND(SQRT(AG40^2+AH40^2)*1000/(SQRT(3)*AG18),2) -> 48.68 | AG40: 0.837 | AH40: 0.1572 | AI40: =ROUND(SQRT(AJ40^2+AK40^2)*1000/(SQRT(3)*AJ18),2) -> 49.14 | AJ40: 0.8442 | AK40: 0.162 | AL40: =ROUND(SQRT(AM40^2+AN40^2)*1000/(SQRT(3)*AM18),2) -> 48.99 | AM40: 0.8382 | AN40: 0.1788 | AO40: =ROUND(SQRT(AP40^2+AQ40^2)*1000/(SQRT(3)*AP18),2) -> 48.66 | AP40: 0.831 | AQ40: 0.1848 | AR40: =ROUND(SQRT(AS40^2+AT40^2)*1000/(SQRT(3)*AS18),2) -> 48.49 | AS40: 0.8298 | AT40: 0.1758 | AU40: =ROUND(SQRT(AV40^2+AW40^2)*1000/(SQRT(3)*AV18),2) -> 49.46 | AV40: 0.8448 | AW40: 0.1866 | AX40: =ROUND(SQRT(AY40^2+AZ40^2)*1000/(SQRT(3)*AY18),2) -> 49.72 | AY40: 0.8484 | AZ40: 0.192 | BA40: =ROUND(SQRT(BB40^2+BC40^2)*1000/(SQRT(3)*BB18),2) -> 50.08 | BB40: 0.855 | BC40: 0.1914 | BD40: =ROUND(SQRT(BE40^2+BF40^2)*1000/(SQRT(3)*BE18),2) -> 51 | BE40: 0.8736 | BF40: 0.1812 | BG40: =ROUND(SQRT(BH40^2+BI40^2)*1000/(SQRT(3)*BH18),2) -> 50.79 | BH40: 0.8706 | BI40: 0.1776 | BJ40: =ROUND(SQRT(BK40^2+BL40^2)*1000/(SQRT(3)*BK18),2) -> 50.56 | BK40: 0.87 | BL40: 0.159 | BM40: =ROUND(SQRT(BN40^2+BO40^2)*1000/(SQRT(3)*BN18),2) -> 50.76 | BN40: 0.8736 | BO40: 0.159 | BP40: =ROUND(SQRT(BQ40^2+BR40^2)*1000/(SQRT(3)*BQ18),2) -> 49.88 | BQ40: 0.858 | BR40: 0.159 | BS40: =ROUND(SQRT(BT40^2+BU40^2)*1000/(SQRT(3)*BT18),2) -> 49.58 | BT40: 0.849 | BU40: 0.177 | BV40: =ROUND(SQRT(BW40^2+BX40^2)*1000/(SQRT(3)*BW18),2) -> 47.14 | BW40: 0.8064 | BX40: 0.1722 | BY40: =ROUND(SQRT(BZ40^2+CA40^2)*1000/(SQRT(3)*BZ18),2) -> 44.63 | BZ40: 0.762 | CA40: 0.1704 | CB40: =SUM(BZ40,BW40,BT40,BQ40,BN40,BK40,BH40,BE40,BB40,AY40,AV40,AS40,AP40,AM40,AJ40,AG40,AD40,AA40,X40,U40,R40,O40,L40,I40) -> 19.383 | CC40: =SUM(CA40,BX40,BU40,BR40,BO40,BL40,BI40,BF40,BC40,AZ40,AW40,AT40,AQ40,AN40,AK40,AH40,AE40,AB40,Y40,V40,S40,P40,M40,J40) -> 4.0056
A41: 2 Секция Шин . РУ-10кВ яч.№14 ф."Ж/дорога" | H41: =ROUND(SQRT(I41^2+J41^2)*1000/(SQRT(3)*I18),2) -> 6.43 | I41: 0.1112 | J41: 0.0166 | K41: =ROUND(SQRT(L41^2+M41^2)*1000/(SQRT(3)*L18),2) -> 6.25 | L41: 0.1084 | M41: 0.0146 | N41: =ROUND(SQRT(O41^2+P41^2)*1000/(SQRT(3)*O18),2) -> 6.28 | O41: 0.109 | P41: 0.0142 | Q41: =ROUND(SQRT(R41^2+S41^2)*1000/(SQRT(3)*R18),2) -> 6.3 | R41: 0.1092 | S41: 0.0148 | T41: =ROUND(SQRT(U41^2+V41^2)*1000/(SQRT(3)*U18),2) -> 5.99 | U41: 0.1038 | V41: 0.0146 | W41: =ROUND(SQRT(X41^2+Y41^2)*1000/(SQRT(3)*X18),2) -> 5.74 | X41: 0.0994 | Y41: 0.0144 | Z41: =ROUND(SQRT(AA41^2+AB41^2)*1000/(SQRT(3)*AA18),2) -> 5.63 | AA41: 0.0974 | AB41: 0.0142 | AC41: =ROUND(SQRT(AD41^2+AE41^2)*1000/(SQRT(3)*AD18),2) -> 5.23 | AD41: 0.0904 | AE41: 0.0144 | AF41: =ROUND(SQRT(AG41^2+AH41^2)*1000/(SQRT(3)*AG18),2) -> 5.63 | AG41: 0.0974 | AH41: 0.0144 | AI41: =ROUND(SQRT(AJ41^2+AK41^2)*1000/(SQRT(3)*AJ18),2) -> 5.02 | AJ41: 0.0868 | AK41: 0.013 | AL41: =ROUND(SQRT(AM41^2+AN41^2)*1000/(SQRT(3)*AM18),2) -> 4.87 | AM41: 0.0842 | AN41: 0.013 | AO41: =ROUND(SQRT(AP41^2+AQ41^2)*1000/(SQRT(3)*AP18),2) -> 4.99 | AP41: 0.0862 | AQ41: 0.0138 | AR41: =ROUND(SQRT(AS41^2+AT41^2)*1000/(SQRT(3)*AS18),2) -> 4.48 | AS41: 0.0772 | AT41: 0.013 | AU41: =ROUND(SQRT(AV41^2+AW41^2)*1000/(SQRT(3)*AV18),2) -> 4.69 | AV41: 0.081 | AW41: 0.013 | AX41: =ROUND(SQRT(AY41^2+AZ41^2)*1000/(SQRT(3)*AY18),2) -> 4.79 | AY41: 0.0828 | AZ41: 0.0128 | BA41: =ROUND(SQRT(BB41^2+BC41^2)*1000/(SQRT(3)*BB18),2) -> 4.92 | BB41: 0.085 | BC41: 0.0132 | BD41: =ROUND(SQRT(BE41^2+BF41^2)*1000/(SQRT(3)*BE18),2) -> 4.94 | BE41: 0.0854 | BF41: 0.0134 | BG41: =ROUND(SQRT(BH41^2+BI41^2)*1000/(SQRT(3)*BH18),2) -> 5.31 | BH41: 0.092 | BI41: 0.0134 | BJ41: =ROUND(SQRT(BK41^2+BL41^2)*1000/(SQRT(3)*BK18),2) -> 5.57 | BK41: 0.0966 | BL41: 0.013 | BM41: =ROUND(SQRT(BN41^2+BO41^2)*1000/(SQRT(3)*BN18),2) -> 5.48 | BN41: 0.0948 | BO41: 0.0144 | BP41: =ROUND(SQRT(BQ41^2+BR41^2)*1000/(SQRT(3)*BQ18),2) -> 5.52 | BQ41: 0.0956 | BR41: 0.0136 | BS41: =ROUND(SQRT(BT41^2+BU41^2)*1000/(SQRT(3)*BT18),2) -> 5.46 | BT41: 0.0944 | BU41: 0.014 | BV41: =ROUND(SQRT(BW41^2+BX41^2)*1000/(SQRT(3)*BW18),2) -> 5.84 | BW41: 0.101 | BX41: 0.0152 | BY41: =ROUND(SQRT(BZ41^2+CA41^2)*1000/(SQRT(3)*BZ18),2) -> 5.88 | BZ41: 0.1018 | CA41: 0.0144 | CB41: =SUM(BZ41,BW41,BT41,BQ41,BN41,BK41,BH41,BE41,BB41,AY41,AV41,AS41,AP41,AM41,AJ41,AG41,AD41,AA41,X41,U41,R41,O41,L41,I41) -> 2.271 | CC41: =SUM(CA41,BX41,BU41,BR41,BO41,BL41,BI41,BF41,BC41,AZ41,AW41,AT41,AQ41,AN41,AK41,AH41,AE41,AB41,Y41,V41,S41,P41,M41,J41) -> 0.3354
A42: 2 Секция Шин . РУ-10кВ яч.№16 ф."БПТОиК-2" | H42: =ROUND(SQRT(I42^2+J42^2)*1000/(SQRT(3)*I18),2) -> 6.39 | I42: 0.1038 | J42: 0.0414 | K42: =ROUND(SQRT(L42^2+M42^2)*1000/(SQRT(3)*L18),2) -> 6.22 | L42: 0.1008 | M42: 0.0408 | N42: =ROUND(SQRT(O42^2+P42^2)*1000/(SQRT(3)*O18),2) -> 6.2 | O42: 0.1002 | P42: 0.0414 | Q42: =ROUND(SQRT(R42^2+S42^2)*1000/(SQRT(3)*R18),2) -> 6.18 | R42: 0.1002 | S42: 0.0408 | T42: =ROUND(SQRT(U42^2+V42^2)*1000/(SQRT(3)*U18),2) -> 6.18 | U42: 0.1002 | V42: 0.0408 | W42: =ROUND(SQRT(X42^2+Y42^2)*1000/(SQRT(3)*X18),2) -> 6.23 | X42: 0.1008 | Y42: 0.0414 | Z42: =ROUND(SQRT(AA42^2+AB42^2)*1000/(SQRT(3)*AA18),2) -> 6.28 | AA42: 0.102 | AB42: 0.0408 | AC42: =ROUND(SQRT(AD42^2+AE42^2)*1000/(SQRT(3)*AD18),2) -> 7.8 | AD42: 0.129 | AE42: 0.0444 | AF42: =ROUND(SQRT(AG42^2+AH42^2)*1000/(SQRT(3)*AG18),2) -> 8.73 | AG42: 0.1452 | AH42: 0.0474 | AI42: =ROUND(SQRT(AJ42^2+AK42^2)*1000/(SQRT(3)*AJ18),2) -> 9.42 | AJ42: 0.1572 | AK42: 0.0492 | AL42: =ROUND(SQRT(AM42^2+AN42^2)*1000/(SQRT(3)*AM18),2) -> 8.55 | AM42: 0.1428 | AN42: 0.0444 | AO42: =ROUND(SQRT(AP42^2+AQ42^2)*1000/(SQRT(3)*AP18),2) -> 8.03 | AP42: 0.1338 | AQ42: 0.0426 | AR42: =ROUND(SQRT(AS42^2+AT42^2)*1000/(SQRT(3)*AS18),2) -> 7.87 | AS42: 0.1314 | AT42: 0.0408 | AU42: =ROUND(SQRT(AV42^2+AW42^2)*1000/(SQRT(3)*AV18),2) -> 6.75 | AV42: 0.111 | AW42: 0.0402 | AX42: =ROUND(SQRT(AY42^2+AZ42^2)*1000/(SQRT(3)*AY18),2) -> 6.88 | AY42: 0.1134 | AZ42: 0.0402 | BA42: =ROUND(SQRT(BB42^2+BC42^2)*1000/(SQRT(3)*BB18),2) -> 6.73 | BB42: 0.1104 | BC42: 0.0408 | BD42: =ROUND(SQRT(BE42^2+BF42^2)*1000/(SQRT(3)*BE18),2) -> 6.48 | BE42: 0.1056 | BF42: 0.0414 | BG42: =ROUND(SQRT(BH42^2+BI42^2)*1000/(SQRT(3)*BH18),2) -> 6.25 | BH42: 0.102 | BI42: 0.0396 | BJ42: =ROUND(SQRT(BK42^2+BL42^2)*1000/(SQRT(3)*BK18),2) -> 6.3 | BK42: 0.1026 | BL42: 0.0402 | BM42: =ROUND(SQRT(BN42^2+BO42^2)*1000/(SQRT(3)*BN18),2) -> 6.14 | BN42: 0.0996 | BO42: 0.0402 | BP42: =ROUND(SQRT(BQ42^2+BR42^2)*1000/(SQRT(3)*BQ18),2) -> 6.15 | BQ42: 0.0996 | BR42: 0.0408 | BS42: =ROUND(SQRT(BT42^2+BU42^2)*1000/(SQRT(3)*BT18),2) -> 6.14 | BT42: 0.0996 | BU42: 0.0402 | BV42: =ROUND(SQRT(BW42^2+BX42^2)*1000/(SQRT(3)*BW18),2) -> 6.09 | BW42: 0.0984 | BX42: 0.0408 | BY42: =ROUND(SQRT(BZ42^2+CA42^2)*1000/(SQRT(3)*BZ18),2) -> 6.1 | BZ42: 0.0984 | CA42: 0.0414 | CB42: =SUM(BZ42,BW42,BT42,BQ42,BN42,BK42,BH42,BE42,BB42,AY42,AV42,AS42,AP42,AM42,AJ42,AG42,AD42,AA42,X42,U42,R42,O42,L42,I42) -> 2.688 | CC42: =SUM(CA42,BX42,BU42,BR42,BO42,BL42,BI42,BF42,BC42,AZ42,AW42,AT42,AQ42,AN42,AK42,AH42,AE42,AB42,Y42,V42,S42,P42,M42,J42) -> 1.002
A43: 2 Секция Шин . РУ-10кВ яч.№18 ф."РИТЭК-2" | H43: =ROUND(SQRT(I43^2+J43^2)*1000/(SQRT(3)*I18),2) -> 0 | I43: 0 | J43: 0 | K43: =ROUND(SQRT(L43^2+M43^2)*1000/(SQRT(3)*L18),2) -> 0 | L43: 0 | M43: 0 | N43: =ROUND(SQRT(O43^2+P43^2)*1000/(SQRT(3)*O18),2) -> 0 | O43: 0 | P43: 0 | Q43: =ROUND(SQRT(R43^2+S43^2)*1000/(SQRT(3)*R18),2) -> 0 | R43: 0 | S43: 0 | T43: =ROUND(SQRT(U43^2+V43^2)*1000/(SQRT(3)*U18),2) -> 0 | U43: 0 | V43: 0 | W43: =ROUND(SQRT(X43^2+Y43^2)*1000/(SQRT(3)*X18),2) -> 0 | X43: 0 | Y43: 0 | Z43: =ROUND(SQRT(AA43^2+AB43^2)*1000/(SQRT(3)*AA18),2) -> 0 | AA43: 0 | AB43: 0 | AC43: =ROUND(SQRT(AD43^2+AE43^2)*1000/(SQRT(3)*AD18),2) -> 0 | AD43: 0 | AE43: 0 | AF43: =ROUND(SQRT(AG43^2+AH43^2)*1000/(SQRT(3)*AG18),2) -> 0 | AG43: 0 | AH43: 0 | AI43: =ROUND(SQRT(AJ43^2+AK43^2)*1000/(SQRT(3)*AJ18),2) -> 0 | AJ43: 0 | AK43: 0 | AL43: =ROUND(SQRT(AM43^2+AN43^2)*1000/(SQRT(3)*AM18),2) -> 0 | AM43: 0 | AN43: 0 | AO43: =ROUND(SQRT(AP43^2+AQ43^2)*1000/(SQRT(3)*AP18),2) -> 0 | AP43: 0 | AQ43: 0 | AR43: =ROUND(SQRT(AS43^2+AT43^2)*1000/(SQRT(3)*AS18),2) -> 0 | AS43: 0 | AT43: 0 | AU43: =ROUND(SQRT(AV43^2+AW43^2)*1000/(SQRT(3)*AV18),2) -> 0 | AV43: 0 | AW43: 0 | AX43: =ROUND(SQRT(AY43^2+AZ43^2)*1000/(SQRT(3)*AY18),2) -> 0 | AY43: 0 | AZ43: 0 | BA43: =ROUND(SQRT(BB43^2+BC43^2)*1000/(SQRT(3)*BB18),2) -> 0 | BB43: 0 | BC43: 0 | BD43: =ROUND(SQRT(BE43^2+BF43^2)*1000/(SQRT(3)*BE18),2) -> 0 | BE43: 0 | BF43: 0 | BG43: =ROUND(SQRT(BH43^2+BI43^2)*1000/(SQRT(3)*BH18),2) -> 0 | BH43: 0 | BI43: 0 | BJ43: =ROUND(SQRT(BK43^2+BL43^2)*1000/(SQRT(3)*BK18),2) -> 0 | BK43: 0 | BL43: 0 | BM43: =ROUND(SQRT(BN43^2+BO43^2)*1000/(SQRT(3)*BN18),2) -> 0 | BN43: 0 | BO43: 0 | BP43: =ROUND(SQRT(BQ43^2+BR43^2)*1000/(SQRT(3)*BQ18),2) -> 0 | BQ43: 0 | BR43: 0 | BS43: =ROUND(SQRT(BT43^2+BU43^2)*1000/(SQRT(3)*BT18),2) -> 0 | BT43: 0 | BU43: 0 | BV43: =ROUND(SQRT(BW43^2+BX43^2)*1000/(SQRT(3)*BW18),2) -> 0 | BW43: 0 | BX43: 0 | BY43: =ROUND(SQRT(BZ43^2+CA43^2)*1000/(SQRT(3)*BZ18),2) -> 0 | BZ43: 0 | CA43: 0 | CB43: =SUM(BZ43,BW43,BT43,BQ43,BN43,BK43,BH43,BE43,BB43,AY43,AV43,AS43,AP43,AM43,AJ43,AG43,AD43,AA43,X43,U43,R43,O43,L43,I43) -> 0 | CC43: =SUM(CA43,BX43,BU43,BR43,BO43,BL43,BI43,BF43,BC43,AZ43,AW43,AT43,AQ43,AN43,AK43,AH43,AE43,AB43,Y43,V43,S43,P43,M43,J43) -> 0
A44: 2 Секция Шин . РУ-10кВ яч.№20 ф."ЦОК-2" | H44: =ROUND(SQRT(I44^2+J44^2)*1000/(SQRT(3)*I18),2) -> 17.33 | I44: 0.298 | J44: 0.056 | K44: =ROUND(SQRT(L44^2+M44^2)*1000/(SQRT(3)*L18),2) -> 15.8 | L44: 0.2708 | M44: 0.0552 | N44: =ROUND(SQRT(O44^2+P44^2)*1000/(SQRT(3)*O18),2) -> 15.01 | O44: 0.2564 | P44: 0.0564 | Q44: =ROUND(SQRT(R44^2+S44^2)*1000/(SQRT(3)*R18),2) -> 14.85 | R44: 0.2536 | S44: 0.056 | T44: =ROUND(SQRT(U44^2+V44^2)*1000/(SQRT(3)*U18),2) -> 14.48 | U44: 0.2472 | V44: 0.0556 | W44: =ROUND(SQRT(X44^2+Y44^2)*1000/(SQRT(3)*X18),2) -> 15.03 | X44: 0.2568 | Y44: 0.0568 | Z44: =ROUND(SQRT(AA44^2+AB44^2)*1000/(SQRT(3)*AA18),2) -> 17.82 | AA44: 0.3068 | AB44: 0.0552 | AC44: =ROUND(SQRT(AD44^2+AE44^2)*1000/(SQRT(3)*AD18),2) -> 20.25 | AD44: 0.35 | AE44: 0.0548 | AF44: =ROUND(SQRT(AG44^2+AH44^2)*1000/(SQRT(3)*AG18),2) -> 20.04 | AG44: 0.346 | AH44: 0.0564 | AI44: =ROUND(SQRT(AJ44^2+AK44^2)*1000/(SQRT(3)*AJ18),2) -> 19.63 | AJ44: 0.3392 | AK44: 0.0532 | AL44: =ROUND(SQRT(AM44^2+AN44^2)*1000/(SQRT(3)*AM18),2) -> 19.83 | AM44: 0.3432 | AN44: 0.0508 | AO44: =ROUND(SQRT(AP44^2+AQ44^2)*1000/(SQRT(3)*AP18),2) -> 20.25 | AP44: 0.3504 | AQ44: 0.052 | AR44: =ROUND(SQRT(AS44^2+AT44^2)*1000/(SQRT(3)*AS18),2) -> 20.17 | AS44: 0.3488 | AT44: 0.0536 | AU44: =ROUND(SQRT(AV44^2+AW44^2)*1000/(SQRT(3)*AV18),2) -> 19.99 | AV44: 0.3456 | AW44: 0.0532 | AX44: =ROUND(SQRT(AY44^2+AZ44^2)*1000/(SQRT(3)*AY18),2) -> 19.83 | AY44: 0.3428 | AZ44: 0.0532 | BA44: =ROUND(SQRT(BB44^2+BC44^2)*1000/(SQRT(3)*BB18),2) -> 20.67 | BB44: 0.3576 | BC44: 0.0536 | BD44: =ROUND(SQRT(BE44^2+BF44^2)*1000/(SQRT(3)*BE18),2) -> 21.7 | BE44: 0.376 | BF44: 0.052 | BG44: =ROUND(SQRT(BH44^2+BI44^2)*1000/(SQRT(3)*BH18),2) -> 21.33 | BH44: 0.3692 | BI44: 0.054 | BJ44: =ROUND(SQRT(BK44^2+BL44^2)*1000/(SQRT(3)*BK18),2) -> 22.16 | BK44: 0.3836 | BL44: 0.056 | BM44: =ROUND(SQRT(BN44^2+BO44^2)*1000/(SQRT(3)*BN18),2) -> 23.05 | BN44: 0.3996 | BO44: 0.054 | BP44: =ROUND(SQRT(BQ44^2+BR44^2)*1000/(SQRT(3)*BQ18),2) -> 23.09 | BQ44: 0.4 | BR44: 0.0556 | BS44: =ROUND(SQRT(BT44^2+BU44^2)*1000/(SQRT(3)*BT18),2) -> 22.65 | BT44: 0.392 | BU44: 0.058 | BV44: =ROUND(SQRT(BW44^2+BX44^2)*1000/(SQRT(3)*BW18),2) -> 21.17 | BW44: 0.366 | BX44: 0.056 | BY44: =ROUND(SQRT(BZ44^2+CA44^2)*1000/(SQRT(3)*BZ18),2) -> 18.67 | BZ44: 0.3216 | CA44: 0.0572 | CB44: =SUM(BZ44,BW44,BT44,BQ44,BN44,BK44,BH44,BE44,BB44,AY44,AV44,AS44,AP44,AM44,AJ44,AG44,AD44,AA44,X44,U44,R44,O44,L44,I44) -> 8.0212 | CC44: =SUM(CA44,BX44,BU44,BR44,BO44,BL44,BI44,BF44,BC44,AZ44,AW44,AT44,AQ44,AN44,AK44,AH44,AE44,AB44,Y44,V44,S44,P44,M44,J44) -> 1.3148
A45: РАСЧЕТ ПОТЕРЬ В ТРАНСФОРМАТОРАХ | AM45: 0 | AN45: 0
B46: Потери пост. | D46: Px.x+j Qx.x. | H46: 0.024 | I46: +j | J46: 0.1729
A47: 1Т | B47: Потери перем. | D47: Рпер+j Qпер. | H47: =((SUM(I$8*I$8,J$8*J$8))/POWER($C$7,2))*$C$48 -> 0.0016766915 | I47: +j | J47: =($E$48/100)*((SUM(I$8*I$8,J$8*J$8))/$C$7) -> 0.038041982 | K47: =((SUM(L$8*L$8,M$8*M$8))/POWER($C$7,2))*$C$48 -> 0.0016444314 | L47: +j | M47: =($E$48/100)*((SUM(L$8*L$8,M$8*M$8))/$C$7) -> 0.037310043 | N47: =((SUM(O$8*O$8,P$8*P$8))/POWER($C$7,2))*$C$48 -> 0.0015999913 | O47: +j | P47: =($E$48/100)*((SUM(O$8*O$8,P$8*P$8))/$C$7) -> 0.036301754 | Q47: =((SUM(R$8*R$8,S$8*S$8))/POWER($C$7,2))*$C$48 -> 0.001585223 | R47: +j | S47: =($E$48/100)*((SUM(R$8*R$8,S$8*S$8))/$C$7) -> 0.03596668 | T47: =((SUM(U$8*U$8,V$8*V$8))/POWER($C$7,2))*$C$48 -> 0.0015964652 | U47: +j | V47: =($E$48/100)*((SUM(U$8*U$8,V$8*V$8))/$C$7) -> 0.03622175 | W47: =((SUM(X$8*X$8,Y$8*Y$8))/POWER($C$7,2))*$C$48 -> 0.0016566131 | X47: +j | Y47: =($E$48/100)*((SUM(X$8*X$8,Y$8*Y$8))/$C$7) -> 0.03758643 | Z47: =((SUM(AA$8*AA$8,AB$8*AB$8))/POWER($C$7,2))*$C$48 -> 0.0017732011 | AA47: +j | AB47: =($E$48/100)*((SUM(AA$8*AA$8,AB$8*AB$8))/$C$7) -> 0.040231662 | AC47: =((SUM(AD$8*AD$8,AE$8*AE$8))/POWER($C$7,2))*$C$48 -> 0.0018847155 | AD47: +j | AE47: =($E$48/100)*((SUM(AD$8*AD$8,AE$8*AE$8))/$C$7) -> 0.042761781 | AF47: =((SUM(AG$8*AG$8,AH$8*AH$8))/POWER($C$7,2))*$C$48 -> 0.001984795 | AG47: +j | AH47: =($E$48/100)*((SUM(AG$8*AG$8,AH$8*AH$8))/$C$7) -> 0.045032457 | AI47: =((SUM(AJ$8*AJ$8,AK$8*AK$8))/POWER($C$7,2))*$C$48 -> 0.0020022886 | AJ47: +j | AK47: =($E$48/100)*((SUM(AJ$8*AJ$8,AK$8*AK$8))/$C$7) -> 0.045429364 | AL47: =((SUM(AM$8*AM$8,AN$8*AN$8))/POWER($C$7,2))*$C$48 -> 0.0020206158 | AM47: +j | AN47: =($E$48/100)*((SUM(AM$8*AM$8,AN$8*AN$8))/$C$7) -> 0.045845184 | AO47: =((SUM(AP$8*AP$8,AQ$8*AQ$8))/POWER($C$7,2))*$C$48 -> 0.002012474 | AP47: +j | AQ47: =($E$48/100)*((SUM(AP$8*AP$8,AQ$8*AQ$8))/$C$7) -> 0.045660457 | AR47: =((SUM(AS$8*AS$8,AT$8*AT$8))/POWER($C$7,2))*$C$48 -> 0.0018556917 | AS47: +j | AT47: =($E$48/100)*((SUM(AS$8*AS$8,AT$8*AT$8))/$C$7) -> 0.042103267 | AU47: =((SUM(AV$8*AV$8,AW$8*AW$8))/POWER($C$7,2))*$C$48 -> 0.0019489915 | AV47: +j | AW47: =($E$48/100)*((SUM(AV$8*AV$8,AW$8*AW$8))/$C$7) -> 0.04422012 | AX47: =((SUM(AY$8*AY$8,AZ$8*AZ$8))/POWER($C$7,2))*$C$48 -> 0.0019117989 | AY47: +j | AZ47: =($E$48/100)*((SUM(AY$8*AY$8,AZ$8*AZ$8))/$C$7) -> 0.043376269 | BA47: =((SUM(BB$8*BB$8,BC$8*BC$8))/POWER($C$7,2))*$C$48 -> 0.0019313166 | BB47: +j | BC47: =($E$48/100)*((SUM(BB$8*BB$8,BC$8*BC$8))/$C$7) -> 0.0438191 | BD47: =((SUM(BE$8*BE$8,BF$8*BF$8))/POWER($C$7,2))*$C$48 -> 0.0020764715 | BE47: +j | BF47: =($E$48/100)*((SUM(BE$8*BE$8,BF$8*BF$8))/$C$7) -> 0.04711248 | BG47: =((SUM(BH$8*BH$8,BI$8*BI$8))/POWER($C$7,2))*$C$48 -> 0.0019993571 | BH47: +j | BI47: =($E$48/100)*((SUM(BH$8*BH$8,BI$8*BI$8))/$C$7) -> 0.045362852 | BJ47: =((SUM(BK$8*BK$8,BL$8*BL$8))/POWER($C$7,2))*$C$48 -> 0.0020737432 | BK47: +j | BL47: =($E$48/100)*((SUM(BK$8*BK$8,BL$8*BL$8))/$C$7) -> 0.047050577 | BM47: =((SUM(BN$8*BN$8,BO$8*BO$8))/POWER($C$7,2))*$C$48 -> 0.0019189471 | BN47: +j | BO47: =($E$48/100)*((SUM(BN$8*BN$8,BO$8*BO$8))/$C$7) -> 0.043538452 | BP47: =((SUM(BQ$8*BQ$8,BR$8*BR$8))/POWER($C$7,2))*$C$48 -> 0.0018973978 | BQ47: +j | BR47: =($E$48/100)*((SUM(BQ$8*BQ$8,BR$8*BR$8))/$C$7) -> 0.043049525 | BS47: =((SUM(BT$8*BT$8,BU$8*BU$8))/POWER($C$7,2))*$C$48 -> 0.0018709666 | BT47: +j | BU47: =($E$48/100)*((SUM(BT$8*BT$8,BU$8*BU$8))/$C$7) -> 0.042449837 | BV47: =((SUM(BW$8*BW$8,BX$8*BX$8))/POWER($C$7,2))*$C$48 -> 0.001732075 | BW47: +j | BX47: =($E$48/100)*((SUM(BW$8*BW$8,BX$8*BX$8))/$C$7) -> 0.039298563 | BY47: =((SUM(BZ$8*BZ$8,CA$8*CA$8))/POWER($C$7,2))*$C$48 -> 0.001616151 | BZ47: +j | CA47: =($E$48/100)*((SUM(BZ$8*BZ$8,CA$8*CA$8))/$C$7) -> 0.036668397
B48: Pкз = | C48: 0.1179 | D48: Uкз%= | E48: 10.7
B49: Полная нагрузка с потерями | H49: =SUM(I8,$H$46,H47) -> 2.9051327 | I49: +j | J49: =SUM(J8,$J$46,J47) -> 0.98362998 | K49: =SUM(L8,$H$46,K47) -> 2.8734764 | L49: +j | M49: =SUM(M8,$J$46,M47) -> 0.98941004 | N49: =SUM(O8,$H$46,N47) -> 2.832504 | O49: +j | P49: =SUM(P8,$J$46,P47) -> 0.98573775 | Q49: =SUM(R8,$H$46,Q47) -> 2.8187932 | R49: +j | S49: =SUM(S8,$J$46,S47) -> 0.98437868 | T49: =SUM(U8,$H$46,T47) -> 2.8309885 | U49: +j | V49: =SUM(V8,$J$46,V47) -> 0.97905775 | W49: =SUM(X8,$H$46,W47) -> 2.8860406 | X49: +j | Y49: =SUM(Y8,$J$46,Y47) -> 0.98513443 | Z49: =SUM(AA8,$H$46,Z47) -> 2.9910692 | AA49: +j | AB49: =SUM(AB8,$J$46,AB47) -> 0.99219566 | AC49: =SUM(AD8,$H$46,AC47) -> 3.0881007 | AD49: +j | AE49: =SUM(AE8,$J$46,AE47) -> 0.99918178 | AF49: =SUM(AG8,$H$46,AF47) -> 3.1670008 | AG49: +j | AH49: =SUM(AH8,$J$46,AH47) -> 1.0276365 | AI49: =SUM(AJ8,$H$46,AI47) -> 3.1793543 | AJ49: +j | AK49: =SUM(AK8,$J$46,AK47) -> 1.0372974 | AL49: =SUM(AM8,$H$46,AL47) -> 3.1857726 | AM49: +j | AN49: =SUM(AN8,$J$46,AN47) -> 1.0716572 | AO49: =SUM(AP8,$H$46,AO47) -> 3.1750605 | AP49: +j | AQ49: =SUM(AQ8,$J$46,AQ47) -> 1.0856405 | AR49: =SUM(AS8,$H$46,AR47) -> 3.0707997 | AS49: +j | AT49: =SUM(AT8,$J$46,AT47) -> 0.96701927 | AU49: =SUM(AV8,$H$46,AU47) -> 3.134253 | AV49: +j | AW49: =SUM(AW8,$J$46,AW47) -> 1.0358081 | AX49: =SUM(AY8,$H$46,AX47) -> 3.0981758 | AY49: +j | AZ49: =SUM(AZ8,$J$46,AZ47) -> 1.0504443 | BA49: =SUM(BB8,$H$46,BA47) -> 3.1229873 | BB49: +j | BC49: =SUM(BC8,$J$46,BC47) -> 1.0206791 | BD49: =SUM(BE8,$H$46,BD47) -> 3.2325725 | BE49: +j | BF49: =SUM(BF8,$J$46,BF47) -> 1.0720525 | BG49: =SUM(BH8,$H$46,BG47) -> 3.1702394 | BH49: +j | BI49: =SUM(BI8,$J$46,BI47) -> 1.0623909 | BJ49: =SUM(BK8,$H$46,BJ47) -> 3.2274977 | BK49: +j | BL49: =SUM(BL8,$J$46,BL47) -> 1.0825106 | BM49: =SUM(BN8,$H$46,BM47) -> 3.1233429 | BN49: +j | BO49: =SUM(BO8,$J$46,BO47) -> 0.97703045 | BP49: =SUM(BQ8,$H$46,BP47) -> 3.1074094 | BQ49: +j | BR49: =SUM(BR8,$J$46,BR47) -> 0.96600552 | BS49: =SUM(BT8,$H$46,BS47) -> 3.085255 | BT49: +j | BU49: =SUM(BU8,$J$46,BU47) -> 0.96258184 | BV49: =SUM(BW8,$H$46,BV47) -> 2.9595161 | BW49: +j | BX49: =SUM(BX8,$J$46,BX47) -> 0.97036656 | BY49: =SUM(BZ8,$H$46,BY47) -> 2.8512402 | BZ49: +j | CA49: =SUM(CA8,$J$46,CA47) -> 0.9732644
B50: Потери пост. | D50: Px.x+j Qx.x. | H50: 0.0274 | I50: +j | J50: 0.1729 | K50: 0.0274 | L50: +j | M50: 0.1729 | N50: 0.0274 | O50: +j | P50: 0.1729 | Q50: 0.0274 | R50: +j | S50: 0.1729 | T50: 0.0274 | U50: +j | V50: 0.1729 | W50: 0.0274 | X50: +j | Y50: 0.1729 | Z50: 0.0274 | AA50: +j | AB50: 0.1729 | AC50: 0.0274 | AD50: +j | AE50: 0.1729 | AF50: 0.0274 | AG50: +j | AH50: 0.1729 | AI50: 0.0274 | AJ50: +j | AK50: 0.1729 | AL50: 0.0274 | AM50: +j | AN50: 0.1729 | AO50: 0.0274 | AP50: +j | AQ50: 0.1729 | AR50: 0.0274 | AS50: +j | AT50: 0.1729 | AU50: 0.0274 | AV50: +j | AW50: 0.1729 | AX50: 0.0274 | AY50: +j | AZ50: 0.1729 | BA50: 0.0274 | BB50: +j | BC50: 0.1729 | BD50: 0.0274 | BE50: +j | BF50: 0.1729 | BG50: 0.0274 | BH50: +j | BI50: 0.1729 | BJ50: 0.0274 | BK50: +j | BL50: 0.1729 | BM50: 0.0274 | BN50: +j | BO50: 0.1729 | BP50: 0.0274 | BQ50: +j | BR50: 0.1729 | BS50: 0.0274 | BT50: +j | BU50: 0.1729 | BV50: 0.0274 | BW50: +j | BX50: 0.1729 | BY50: 0.0274 | BZ50: +j | CA50: 0.1729
